Workbook

Sheet ロー①
AA1: 令和８年４月版
A2: 中小企業信用保険法第2条第5項第5号 認定申請書ロ－①の添付書類
B4: 申請者名：
B5: （名称及び代表者の氏名）
A7: ・営んでいる事業が属する業種について
B8: 細分類番号 | G8: 業種 | AG8: 単位
G9: =IFERROR(VLOOKUP(B9,日本産業分類!$A$6:$B$1174,2,FALSE),"") | AG9: 円
G10: =IFERROR(VLOOKUP(B10,日本産業分類!$A$6:$B$1174,2,FALSE),"") | AG10: 千円
G11: =IFERROR(VLOOKUP(B11,日本産業分類!$A$6:$B$1174,2,FALSE),"")
G12: =IFERROR(VLOOKUP(B12,日本産業分類!$A$6:$B$1174,2,FALSE),"")
G13: =IFERROR(VLOOKUP(B13,日本産業分類!$A$6:$B$1174,2,FALSE),"")
A15: ・企業全体に係る原油等の最近１か月間の仕入単価の上昇
F16: 原油等の 最近１か月間の平均仕入単価 | N16: 原油等の 前年同月の平均仕入単価 | V16: 原油等の仕入単価の 上昇率 （E/ｅ×100－100）
B17: 企業全体 | L17: 円 | M17: 【E】 | T17: 円 | U17: 【e】 | V17: =IFERROR(ROUNDDOWN(F17/N17*100-100,1),"") | AA17: ％ | AC17: ≧20％
A19: ・企業全体の売上原価に占める原油等の仕入価格の割合
F20: 最近１か月間の 売上原価 | N20: 最近１か月間の 売上原価に対応する 原油等の仕入価格 | V20: 売上原価に占める原油等 の仕入価格の割合 （S/C×100）
B21: 企業全体 | L21: 円 | M21: 【C】 | T21: 円 | U21: 【S】 | V21: =IFERROR(ROUNDDOWN(F21/N21*100,1),"") | AA21: ％ | AC21: ≧20％
A23: ・企業全体の製品等価格への転嫁の状況
F24: 最近３か月間の 原油等の 仕入価格 | J24: 最近３か月間の売上高 | N24: （A/B） | P24: 前年同期の 原油等の 仕入価格 | T24: 前年同期の 売上高 | X24: （a/b） | Z24: （A/B）－（a/b）＝Ｐ
B25: 企業全体 | I25: 円 | M25: 円 | N25: =IFERROR(F25/J25,"") | S25: 円 | W25: 円 | X25: =IFERROR(P25/T25,"") | Z25: =IFERROR(N25-X25,"")
F26: 【A】 | J26: 【B】 | P26: 【ａ】 | T26: 【ｂ】
A41: 原油等の仕入単価計算補助資料
A43: ①原油等とは、原油、揮発油、軽油、灯油、重油及び石油ガス（プロパンガス、ＬＰガス等液化したものを含む。）を指します。 なお、石油化学製品（プラスチック、合成繊維等）や傭車費は含みません。 ②「仕入伝票」「請求書」等、根拠書類の写しを添付してください。 なお、請求内容に「原油等」以外の物品やサービスが含まれている場合には、除外してください。 ③仕入単価の計算書の「単位」は、統一してください。
A44: 仕入単価の計算書・・・「仕入伝票」「請求書」等から、業者ごとに数量・金額を記入してください。
A46: 指定業種
A47: 【最近１か月の仕入単価】 | Q47: 【前年同月の仕入単価】
A48: NO | B48: 仕入業者名 | H48: 金額 | M48: 数量 | Q48: NO | R48: 仕入業者名 | X48: 金額 | AC48: 数量
M49: 単位 | AC49: 単位 | AD49: =N49 -> 0
A50: 1 | L50: 円 | Q50: 1 | AB50: 円
A51: 2 | L51: 円 | Q51: 2 | AB51: 円
A52: 3 | L52: 円 | Q52: 3 | AB52: 円
A53: 4 | L53: 円 | Q53: 4 | AB53: 円
A54: 5 | L54: 円 | Q54: 5 | AB54: 円
A55: 6 | L55: 円 | Q55: 6 | AB55: 円
A56: 7 | L56: 円 | Q56: 7 | AB56: 円
A57: 8 | L57: 円 | Q57: 8 | AB57: 円
A58: 9 | L58: 円 | Q58: 9 | AB58: 円
A59: 10 | L59: 円 | Q59: 10 | AB59: 円
A60: 11 | L60: 円 | Q60: 11 | AB60: 円
A61: 12 | L61: 円 | Q61: 12 | AB61: 円
...

Sheet ロー②
AA1: 令和８年４月版
A2: 中小企業信用保険法第2条第5項第5号 認定申請書ロ－②の添付書類
B4: 申請者名：
B5: （名称及び代表者の氏名）
A7: ・営んでいる事業が属する業種について
B8: 細分類番号 | G8: 業種 | AG8: 単位
G9: =IFERROR(VLOOKUP(B9,日本産業分類!$A$6:$B$1174,2,FALSE),"") | AG9: 円
G10: =IFERROR(VLOOKUP(B10,日本産業分類!$A$6:$B$1174,2,FALSE),"") | AG10: 千円
G11: =IFERROR(VLOOKUP(B11,日本産業分類!$A$6:$B$1174,2,FALSE),"")
G12: =IFERROR(VLOOKUP(B12,日本産業分類!$A$6:$B$1174,2,FALSE),"")
G13: =IFERROR(VLOOKUP(B13,日本産業分類!$A$6:$B$1174,2,FALSE),"")
A15: ・最近１か月間における企業全体の売上原価に占める指定業種の売上原価の割合
B16: 企業全体の最近１か月間の売上原価【a】 | T16: 円
B17: 指定業種の最近１か月間の売上原価【b】 | T17: 円
B18: 【b】/【a】×100 | N18: =IFERROR(ROUNDDOWN(N17/N16*100,1),"") | T18: ％ | V18: ≧20％
A20: ・指定業種に係る原油等の最近１か月間の仕入単価の上昇
F21: 原油等の 最近１か月間の平均仕入単価 | N21: 原油等の 前年同月の平均仕入単価 | V21: 原油等の仕入単価の 上昇率 （E/ｅ×100－100）
B22: 指定業種 | L22: 円 | M22: 【E】 | T22: 円 | U22: 【e】 | V22: =IFERROR(ROUNDDOWN(F22/N22*100-100,1),"") | AA22: ％ | AC22: ≧20％
A24: ・指定業種及び企業全体それぞれの売上原価に占める原油等の仕入価格の割合
F25: 最近１か月間の 売上原価 | N25: 最近１か月間の 売上原価に対応する 原油等の仕入価格 | V25: 売上原価に占める原油等の 仕入価格の割合 （S/C×100）
B26: 指定業種 | L26: 円 | M26: 【C】 | T26: 円 | U26: 【S】 | V26: =IFERROR(ROUNDDOWN(N26/F26*100-100,1),"") | AA26: ％ | AC26: ≧20％
B27: 企業全体 | L27: 円 | M27: 【C】 | T27: 円 | U27: 【S】 | V27: =IFERROR(ROUNDDOWN(N27/F27*100,1),"") | AA27: ％ | AC27: ≧20％
A29: ・指定業種及び企業全体それぞれの製品等価格への転嫁の状況
F30: 最近３か月間の 原油等の 仕入価格 | J30: 最近３か月間の売上高 | N30: （A/B） | P30: 前年同期の 原油等の 仕入価格 | T30: 前年同期の 売上高 | X30: （a/b） | Z30: （A/B）－（a/b）＝Ｐ
B31: 指定業種 | I31: 円 | M31: 円 | N31: =IFERROR(F31/J31,"") | S31: 円 | W31: 円 | X31: =IFERROR(P31/T31,"") | Z31: =IFERROR(ROUNDDOWN(N31-X31,1),"")
F32: 【A】 | J32: 【B】 | P32: 【ａ】 | T32: 【ｂ】
B33: 企業全体 | I33: 円 | M33: 円 | N33: =IFERROR(F33/J33,"") | S33: 円 | W33: 円 | X33: =IFERROR(P33/T33,"") | Z33: =IFERROR(ROUNDDOWN(N33-X33,1),"")
F34: 【A】 | J34: 【B】 | P34: 【ａ】 | T34: 【ｂ】
A49: 原油等の仕入単価計算補助資料
A51: ①原油等とは、原油、揮発油、軽油、灯油、重油及び石油ガス（プロパンガス、ＬＰガス等液化したものを含む。）を指します。 なお、石油化学製品（プラスチック、合成繊維等）や傭車費は含みません。 ②「仕入伝票」「請求書」等、根拠書類の写しを添付してください。 なお、請求内容に「原油等」以外の物品やサービスが含まれている場合には、除外してください。 ③仕入単価の計算書の「単位」は、統一してください。
A52: 仕入単価の計算書・・・「仕入伝票」「請求書」等から、業者ごとに数量・金額を記入してください。
A54: 指定業種
A55: 【最近１か月の仕入単価】 | Q55: 【前年同月の仕入単価】
A56: NO | B56: 仕入業者名 | H56: 金額 | M56: 数量 | Q56: NO | R56: 仕入業者名 | X56: 金額 | AC56: 数量
M57: 単位 | AC57: 単位 | AD57: =N57 -> 0
A58: 1 | L58: 円 | Q58: 1 | AB58: 円
A59: 2 | L59: 円 | Q59: 2 | AB59: 円
A60: 3 | L60: 円 | Q60: 3 | AB60: 円
A61: 4 | L61: 円 | Q61: 4 | AB61: 円
A62: 5 | L62: 円 | Q62: 5 | AB62: 円
...

Sheet 日本産業分類
A2: 日本産業分類
A5: 分類番号 | B5: 業種
A6: 0113 | B6: 野菜作農業（きのこ類の栽培を含む。）（製造加工設備を有するもやし栽培農業、作業所内において工場的生産設備（最小限温度又は湿度調節装置及び育成管理室を有することが必要。以下同じ。）をもって生産及び卸売する菌床栽培方式のきのこ栽培農業、並びに作業所内において工場的生産設備をもって生産及び卸売する苗床栽培方式のかいわれ大根栽培農業に限る。）
A7: 0116 | B7: 工芸農作物農業（製造加工設備を有する茶作農業であって、荒茶及び仕上茶の製造を行っているものに限る。）
A8: 0124 | B8: 養鶏業（人工ふ卵設備を有し、鶏卵の人工ふ化を行うものに限る。）
A9: 0126 | B9: 養蚕農業（製造加工設備を有する蚕種製造業に限る。）
A10: 0134 | B10: 畜産サービス業（獣医業を除く。）（製造加工設備を有する蚕種製造請負業、てい鉄修理業、人工ふ卵設備を有し鶏卵の人工ふ化を行うふ卵業、家畜貸付業に限る。）
A11: 0141 | B11: 園芸サービス業
A12: 0221 | B12: 素材生産業
A13: 0231 | B13: 製薪炭業（製造加工設備を有するものに限る。）
A14: 0242 | B14: 素材生産サービス業
A15: 0249 | B15: その他の林業サービス業（製造加工設備を有する薪請負製造業、炭焼請負業及び炭賃焼業に限る。）
A16: 0414 | B16: 真珠養殖業（養殖から加工までを一貫作業として行っているものに限る。）
... A1174: 9599 | B1174: 他に分類されないサービス業
