{"text_format":"1","workbook":"xlsx","n_sheets":5,"sheets":["介護給付費等の取下げについて","入力例","入力シート","Sheet1","Sheet2"],"not_rendered":{"charts":0,"images":1,"macros":1,"external_links":0,"defined_names":1,"comments":2,"pivot_tables":0},"unopened":[],"bounds":{"document_bytes":16777216,"sheet_cells":100000,"rows_first":2000,"rows_last":500,"rows_between":2000,"halvings":0,"cell_chars":16384,"cell_head_chars":4096},"cells_cut":0,"cells_raw":0,"read":"whole","date_system":"1900"}

{"sheet":"介護給付費等の取下げについて","index":0,"n_rows":45,"n_cols":2,"rows_kept":45,"cut":false,"hidden":false,"merged":[]}
[]
[]
[]
[]
[null,"①返戻・保留のものは取下ができません。"]
[null,"　　※保留の状態が2ヵ月続くと、3ヵ月目で返戻となります。"]
[]
[null,"②給付管理票については、介護給付費ではないので「取り下げ」はできません。"]
[null,"　給付管理票の内容に誤りがあった場合には、内容を修正し、給付管理票を「修正」の形で国保連に提出して下さい。"]
[]
[null,"【対応例】　"]
[null,"例１）給付管理票・サービス事業所の請求の両方が誤っていた"]
[null,"　　　①サービス事業所の請求取下依頼"]
[null,"　　　②取下の翌月以降に給付管理票の修正及びサービス事業所の再請求"]
[null,"　　　※①の処理と②の処理は別の月に行うため、同月過誤ができません。"]
[null,"　　　　①の請求取下依頼の金額が大きい場合、国保連から納付書が届く場合があります。"]
[]
[null,"例２）サービス事業所の請求のみ誤っていた"]
[null,"　　　①サービス事業所の請求取下依頼・再請求"]
[null,"　　　※５日までに取下依頼を行った場合、同月に再請求が可能"]
[null,"　　　※同月に再請求をし忘れた場合、国保連から納付書が届く場合があります。"]
[]
[null,"例３）給付管理票のみ誤っていた"]
[null,"　　　①給付管理票のみ修正"]
[null,"　　　※サービス事業所の請求取下依頼は不要"]
[]
[null,"③被保険者番号が「H」で始まる方については、介護保険課では取下ができません。"]
[null,"　　担当の福祉事務所にお問い合わせ下さい。"]
[]
[null,"④川崎市の被保険者以外の請求は取下ができません。"]
[null,"　　それぞれの保険者にお問い合わせ下さい。"]
[]
[null,"⑤取下手続きが完了したら、国保連から「過誤決定通知書」が送付されます。"]
[null,"　　過誤決定通知書と請求取下依頼のデータを確認し、取下がされたか確認して下さい。"]
[]
[null,"【よくある取下ができない例】　"]
[null,"・請求情報が不在"]
[null,"　①返戻・保留になっている"]
[null,"　②サービス提供月が誤っている"]
[null,"　③様式番号が不一致"]
[null,"　　　　　　　　　　　等が考えられます。"]
[null,"　取下ができなかった場合は、取下しようとした請求情報が国保連で支払い決定されているかを国保連から"]
[null,"　送付される「支払決定通知書等」を確認して下さい。"]
[null,"　※様式番号が不一致の場合でも、介護給付⇔予防給付（総合事業除く）の場合、取下が自動的に行われる"]
[null,"　　場合があります。"]

{"sheet":"入力例","index":1,"n_rows":35,"n_cols":9,"rows_kept":35,"cut":false,"hidden":false,"merged":[[1,1,2,8]]}
[null,"（川崎市宛て）"]
[null,"介護給付費等取下依頼書"]
[]
[]
["№","事業所番号","証記載保険者番号","被保険者番号","サービス提供年月","給付実績様式番号","様式番号","申立理由","申立理由コード"]
[{"$f":"ROW()-5","v":1},1475100003,141317,"0000000001",201804,"様式第ニの二",{"$f":"IF(F6=\"\",\"\",VLOOKUP(F6,Sheet2!$I$7:$J$32,2,FALSE))","v":"020"},"請求誤り",{"$f":"IF(H6=\"\",\"\",VLOOKUP(H6,Sheet2!$L$7:$M$9,2,FALSE))","v":"02"}]
[{"$f":"ROW()-5","v":2},1475100003,141325,"0000000002",201805,"様式第ニの三",{"$f":"IF(F7=\"\",\"\",VLOOKUP(F7,Sheet2!$I$7:$J$32,2,FALSE))","v":"023"},"その他実績取下げ",{"$f":"IF(H7=\"\",\"\",VLOOKUP(H7,Sheet2!$L$7:$M$9,2,FALSE))","v":"99"}]
[3,1475100003,141325,"0000000002",201806,"様式第ニ",{"$f":"IF(F8=\"\",\"\",VLOOKUP(F8,Sheet2!$I$7:$J$32,2,FALSE))","v":"020"},"請求誤り",{"$f":"IF(H8=\"\",\"\",VLOOKUP(H8,Sheet2!$L$7:$M$9,2,FALSE))","v":"02"}]
[4,null,null,null,null,null,{"$f":"IF(F9=\"\",\"\",VLOOKUP(F9,Sheet2!$I$7:$J$32,2,FALSE))","v":""},null,{"$f":"IF(H9=\"\",\"\",VLOOKUP(H9,Sheet2!$L$7:$M$9,2,FALSE))","v":""}]
[5,null,null,null,null,null,{"$f":"IF(F10=\"\",\"\",VLOOKUP(F10,Sheet2!$I$7:$J$32,2,FALSE))","v":""},null,{"$f":"IF(H10=\"\",\"\",VLOOKUP(H10,Sheet2!$L$7:$M$9,2,FALSE))","v":""}]
[{"$f":"ROW() - 5","v":6},null,null,"",null,null,{"$f":"IF(F11=\"\",\"\",VLOOKUP(F11,Sheet2!$I$7:$J$32,2,FALSE))","v":""},null,{"$f":"IF(H11=\"\",\"\",VLOOKUP(H11,Sheet2!$L$7:$M$9,2,FALSE))","v":""}]
[7,null,null,"",null,null,{"$f":"IF(F12=\"\",\"\",VLOOKUP(F12,Sheet2!$I$7:$J$32,2,FALSE))","v":""},null,{"$f":"IF(H12=\"\",\"\",VLOOKUP(H12,Sheet2!$L$7:$M$9,2,FALSE))","v":""}]
[8,null,null,"",null,null,{"$f":"IF(F13=\"\",\"\",VLOOKUP(F13,Sheet2!$I$7:$J$32,2,FALSE))","v":""},null,{"$f":"IF(H13=\"\",\"\",VLOOKUP(H13,Sheet2!$L$7:$M$9,2,FALSE))","v":""}]
[9,null,null,"",null,null,{"$f":"IF(F14=\"\",\"\",VLOOKUP(F14,Sheet2!$I$7:$J$32,2,FALSE))","v":""},null,{"$f":"IF(H14=\"\",\"\",VLOOKUP(H14,Sheet2!$L$7:$M$9,2,FALSE))","v":""}]
[10,null,null,"",null,null,{"$f":"IF(F15=\"\",\"\",VLOOKUP(F15,Sheet2!$I$7:$J$32,2,FALSE))","v":""},null,{"$f":"IF(H15=\"\",\"\",VLOOKUP(H15,Sheet2!$L$7:$M$9,2,FALSE))","v":""}]
[11,null,null,"",null,null,{"$f":"IF(F16=\"\",\"\",VLOOKUP(F16,Sheet2!$I$7:$J$32,2,FALSE))","v":""},null,{"$f":"IF(H16=\"\",\"\",VLOOKUP(H16,Sheet2!$L$7:$M$9,2,FALSE))","v":""}]
[12,null,null,"",null,null,{"$f":"IF(F17=\"\",\"\",VLOOKUP(F17,Sheet2!$I$7:$J$32,2,FALSE))","v":""},null,{"$f":"IF(H17=\"\",\"\",VLOOKUP(H17,Sheet2!$L$7:$M$9,2,FALSE))","v":""}]
[13,null,null,"",null,null,{"$f":"IF(F18=\"\",\"\",VLOOKUP(F18,Sheet2!$I$7:$J$32,2,FALSE))","v":""},null,{"$f":"IF(H18=\"\",\"\",VLOOKUP(H18,Sheet2!$L$7:$M$9,2,FALSE))","v":""}]
[14,null,null,"",null,null,{"$f":"IF(F19=\"\",\"\",VLOOKUP(F19,Sheet2!$I$7:$J$32,2,FALSE))","v":""},null,{"$f":"IF(H19=\"\",\"\",VLOOKUP(H19,Sheet2!$L$7:$M$9,2,FALSE))","v":""}]
[15,null,null,"",null,null,{"$f":"IF(F20=\"\",\"\",VLOOKUP(F20,Sheet2!$I$7:$J$32,2,FALSE))","v":""},null,{"$f":"IF(H20=\"\",\"\",VLOOKUP(H20,Sheet2!$L$7:$M$9,2,FALSE))","v":""}]
[16,null,null,"",null,null,{"$f":"IF(F21=\"\",\"\",VLOOKUP(F21,Sheet2!$I$7:$J$32,2,FALSE))","v":""},null,{"$f":"IF(H21=\"\",\"\",VLOOKUP(H21,Sheet2!$L$7:$M$9,2,FALSE))","v":""}]
[17,null,null,"",null,null,{"$f":"IF(F22=\"\",\"\",VLOOKUP(F22,Sheet2!$I$7:$J$32,2,FALSE))","v":""},null,{"$f":"IF(H22=\"\",\"\",VLOOKUP(H22,Sheet2!$L$7:$M$9,2,FALSE))","v":""}]
[18,null,null,"",null,null,{"$f":"IF(F23=\"\",\"\",VLOOKUP(F23,Sheet2!$I$7:$J$32,2,FALSE))","v":""},null,{"$f":"IF(H23=\"\",\"\",VLOOKUP(H23,Sheet2!$L$7:$M$9,2,FALSE))","v":""}]
[19,null,null,"",null,null,{"$f":"IF(F24=\"\",\"\",VLOOKUP(F24,Sheet2!$I$7:$J$32,2,FALSE))","v":""},null,{"$f":"IF(H24=\"\",\"\",VLOOKUP(H24,Sheet2!$L$7:$M$9,2,FALSE))","v":""}]
[20,null,null,"",null,null,{"$f":"IF(F25=\"\",\"\",VLOOKUP(F25,Sheet2!$I$7:$J$32,2,FALSE))","v":""},null,{"$f":"IF(H25=\"\",\"\",VLOOKUP(H25,Sheet2!$L$7:$M$9,2,FALSE))","v":""}]
[21,null,null,"",null,null,{"$f":"IF(F26=\"\",\"\",VLOOKUP(F26,Sheet2!$I$7:$J$32,2,FALSE))","v":""},null,{"$f":"IF(H26=\"\",\"\",VLOOKUP(H26,Sheet2!$L$7:$M$9,2,FALSE))","v":""}]
[22,null,null,"",null,null,{"$f":"IF(F27=\"\",\"\",VLOOKUP(F27,Sheet2!$I$7:$J$32,2,FALSE))","v":""},null,{"$f":"IF(H27=\"\",\"\",VLOOKUP(H27,Sheet2!$L$7:$M$9,2,FALSE))","v":""}]
[23,null,null,"",null,null,{"$f":"IF(F28=\"\",\"\",VLOOKUP(F28,Sheet2!$I$7:$J$32,2,FALSE))","v":""},null,{"$f":"IF(H28=\"\",\"\",VLOOKUP(H28,Sheet2!$L$7:$M$9,2,FALSE))","v":""}]
[24,null,null,"",null,null,{"$f":"IF(F29=\"\",\"\",VLOOKUP(F29,Sheet2!$I$7:$J$32,2,FALSE))","v":""},null,{"$f":"IF(H29=\"\",\"\",VLOOKUP(H29,Sheet2!$L$7:$M$9,2,FALSE))","v":""}]
[25,null,null,"",null,null,{"$f":"IF(F30=\"\",\"\",VLOOKUP(F30,Sheet2!$I$7:$J$32,2,FALSE))","v":""},null,{"$f":"IF(H30=\"\",\"\",VLOOKUP(H30,Sheet2!$L$7:$M$9,2,FALSE))","v":""}]
[26,null,null,"",null,null,{"$f":"IF(F31=\"\",\"\",VLOOKUP(F31,Sheet2!$I$7:$J$32,2,FALSE))","v":""},null,{"$f":"IF(H31=\"\",\"\",VLOOKUP(H31,Sheet2!$L$7:$M$9,2,FALSE))","v":""}]
[27,null,null,"",null,null,{"$f":"IF(F32=\"\",\"\",VLOOKUP(F32,Sheet2!$I$7:$J$32,2,FALSE))","v":""},null,{"$f":"IF(H32=\"\",\"\",VLOOKUP(H32,Sheet2!$L$7:$M$9,2,FALSE))","v":""}]
[{"$f":"ROW() - 5","v":28},null,null,"",null,null,{"$f":"IF(F33=\"\",\"\",VLOOKUP(F33,Sheet2!$I$7:$J$32,2,FALSE))","v":""},null,{"$f":"IF(H33=\"\",\"\",VLOOKUP(H33,Sheet2!$L$7:$M$9,2,FALSE))","v":""}]
[{"$f":"ROW() - 5","v":29},null,null,"",null,null,{"$f":"IF(F34=\"\",\"\",VLOOKUP(F34,Sheet2!$I$7:$J$32,2,FALSE))","v":""},null,{"$f":"IF(H34=\"\",\"\",VLOOKUP(H34,Sheet2!$L$7:$M$9,2,FALSE))","v":""}]
[{"$f":"ROW() - 5","v":30},null,null,"",null,null,{"$f":"IF(F35=\"\",\"\",VLOOKUP(F35,Sheet2!$I$7:$J$32,2,FALSE))","v":""},null,{"$f":"IF(H35=\"\",\"\",VLOOKUP(H35,Sheet2!$L$7:$M$9,2,FALSE))","v":""}]

{"sheet":"入力シート","index":2,"n_rows":35,"n_cols":9,"rows_kept":35,"cut":false,"hidden":false,"merged":[[1,1,2,8]]}
[null,"（川崎市宛て）"]
[null,"介護給付費等取下依頼書"]
[]
[]
["№","事業所番号","証記載保険者番号","被保険者番号","サービス提供年月","給付実績様式番号","様式番号","申立理由","申立理由コード"]
[{"$f":"ROW()-5","v":1},null,null,null,null,null,{"$f":"IF(F6=\"\",\"\",VLOOKUP(F6,Sheet2!$I$7:$J$32,2,FALSE))","v":""},null,{"$f":"IF(H6=\"\",\"\",VLOOKUP(H6,Sheet2!$L$7:$M$9,2,FALSE))","v":""}]
[{"$f":"ROW()-5","v":2},"",null,null,null,null,{"$f":"IF(F7=\"\",\"\",VLOOKUP(F7,Sheet2!$I$7:$J$32,2,FALSE))","v":""},null,{"$f":"IF(H7=\"\",\"\",VLOOKUP(H7,Sheet2!$L$7:$M$9,2,FALSE))","v":""}]
[3,"",null,null,null,null,{"$f":"IF(F8=\"\",\"\",VLOOKUP(F8,Sheet2!$I$7:$J$32,2,FALSE))","v":""},null,{"$f":"IF(H8=\"\",\"\",VLOOKUP(H8,Sheet2!$L$7:$M$9,2,FALSE))","v":""}]
[4,"",null,null,null,null,{"$f":"IF(F9=\"\",\"\",VLOOKUP(F9,Sheet2!$I$7:$J$32,2,FALSE))","v":""},null,{"$f":"IF(H9=\"\",\"\",VLOOKUP(H9,Sheet2!$L$7:$M$9,2,FALSE))","v":""}]
[5,"",null,null,null,null,{"$f":"IF(F10=\"\",\"\",VLOOKUP(F10,Sheet2!$I$7:$J$32,2,FALSE))","v":""},null,{"$f":"IF(H10=\"\",\"\",VLOOKUP(H10,Sheet2!$L$7:$M$9,2,FALSE))","v":""}]
[{"$f":"ROW() - 5","v":6},"",null,"",null,null,{"$f":"IF(F11=\"\",\"\",VLOOKUP(F11,Sheet2!$I$7:$J$32,2,FALSE))","v":""},null,{"$f":"IF(H11=\"\",\"\",VLOOKUP(H11,Sheet2!$L$7:$M$9,2,FALSE))","v":""}]
[7,"",null,"",null,null,{"$f":"IF(F12=\"\",\"\",VLOOKUP(F12,Sheet2!$I$7:$J$32,2,FALSE))","v":""},null,{"$f":"IF(H12=\"\",\"\",VLOOKUP(H12,Sheet2!$L$7:$M$9,2,FALSE))","v":""}]
[8,"",null,"",null,null,{"$f":"IF(F13=\"\",\"\",VLOOKUP(F13,Sheet2!$I$7:$J$32,2,FALSE))","v":""},null,{"$f":"IF(H13=\"\",\"\",VLOOKUP(H13,Sheet2!$L$7:$M$9,2,FALSE))","v":""}]
[9,"",null,"",null,null,{"$f":"IF(F14=\"\",\"\",VLOOKUP(F14,Sheet2!$I$7:$J$32,2,FALSE))","v":""},null,{"$f":"IF(H14=\"\",\"\",VLOOKUP(H14,Sheet2!$L$7:$M$9,2,FALSE))","v":""}]
[10,"",null,"",null,null,{"$f":"IF(F15=\"\",\"\",VLOOKUP(F15,Sheet2!$I$7:$J$32,2,FALSE))","v":""},null,{"$f":"IF(H15=\"\",\"\",VLOOKUP(H15,Sheet2!$L$7:$M$9,2,FALSE))","v":""}]
[11,"",null,"",null,null,{"$f":"IF(F16=\"\",\"\",VLOOKUP(F16,Sheet2!$I$7:$J$32,2,FALSE))","v":""},null,{"$f":"IF(H16=\"\",\"\",VLOOKUP(H16,Sheet2!$L$7:$M$9,2,FALSE))","v":""}]
[12,"",null,"",null,null,{"$f":"IF(F17=\"\",\"\",VLOOKUP(F17,Sheet2!$I$7:$J$32,2,FALSE))","v":""},null,{"$f":"IF(H17=\"\",\"\",VLOOKUP(H17,Sheet2!$L$7:$M$9,2,FALSE))","v":""}]
[13,"",null,"",null,null,{"$f":"IF(F18=\"\",\"\",VLOOKUP(F18,Sheet2!$I$7:$J$32,2,FALSE))","v":""},null,{"$f":"IF(H18=\"\",\"\",VLOOKUP(H18,Sheet2!$L$7:$M$9,2,FALSE))","v":""}]
[14,"",null,"",null,null,{"$f":"IF(F19=\"\",\"\",VLOOKUP(F19,Sheet2!$I$7:$J$32,2,FALSE))","v":""},null,{"$f":"IF(H19=\"\",\"\",VLOOKUP(H19,Sheet2!$L$7:$M$9,2,FALSE))","v":""}]
[15,"",null,"",null,null,{"$f":"IF(F20=\"\",\"\",VLOOKUP(F20,Sheet2!$I$7:$J$32,2,FALSE))","v":""},null,{"$f":"IF(H20=\"\",\"\",VLOOKUP(H20,Sheet2!$L$7:$M$9,2,FALSE))","v":""}]
[16,"",null,"",null,null,{"$f":"IF(F21=\"\",\"\",VLOOKUP(F21,Sheet2!$I$7:$J$32,2,FALSE))","v":""},null,{"$f":"IF(H21=\"\",\"\",VLOOKUP(H21,Sheet2!$L$7:$M$9,2,FALSE))","v":""}]
[17,"",null,"",null,null,{"$f":"IF(F22=\"\",\"\",VLOOKUP(F22,Sheet2!$I$7:$J$32,2,FALSE))","v":""},null,{"$f":"IF(H22=\"\",\"\",VLOOKUP(H22,Sheet2!$L$7:$M$9,2,FALSE))","v":""}]
[18,"",null,"",null,null,{"$f":"IF(F23=\"\",\"\",VLOOKUP(F23,Sheet2!$I$7:$J$32,2,FALSE))","v":""},null,{"$f":"IF(H23=\"\",\"\",VLOOKUP(H23,Sheet2!$L$7:$M$9,2,FALSE))","v":""}]
[19,"",null,"",null,null,{"$f":"IF(F24=\"\",\"\",VLOOKUP(F24,Sheet2!$I$7:$J$32,2,FALSE))","v":""},null,{"$f":"IF(H24=\"\",\"\",VLOOKUP(H24,Sheet2!$L$7:$M$9,2,FALSE))","v":""}]
[20,"",null,"",null,null,{"$f":"IF(F25=\"\",\"\",VLOOKUP(F25,Sheet2!$I$7:$J$32,2,FALSE))","v":""},null,{"$f":"IF(H25=\"\",\"\",VLOOKUP(H25,Sheet2!$L$7:$M$9,2,FALSE))","v":""}]
[21,"",null,"",null,null,{"$f":"IF(F26=\"\",\"\",VLOOKUP(F26,Sheet2!$I$7:$J$32,2,FALSE))","v":""},null,{"$f":"IF(H26=\"\",\"\",VLOOKUP(H26,Sheet2!$L$7:$M$9,2,FALSE))","v":""}]
[22,"",null,"",null,null,{"$f":"IF(F27=\"\",\"\",VLOOKUP(F27,Sheet2!$I$7:$J$32,2,FALSE))","v":""},null,{"$f":"IF(H27=\"\",\"\",VLOOKUP(H27,Sheet2!$L$7:$M$9,2,FALSE))","v":""}]
[23,"",null,"",null,null,{"$f":"IF(F28=\"\",\"\",VLOOKUP(F28,Sheet2!$I$7:$J$32,2,FALSE))","v":""},null,{"$f":"IF(H28=\"\",\"\",VLOOKUP(H28,Sheet2!$L$7:$M$9,2,FALSE))","v":""}]
[24,"",null,"",null,null,{"$f":"IF(F29=\"\",\"\",VLOOKUP(F29,Sheet2!$I$7:$J$32,2,FALSE))","v":""},null,{"$f":"IF(H29=\"\",\"\",VLOOKUP(H29,Sheet2!$L$7:$M$9,2,FALSE))","v":""}]
[25,"",null,"",null,null,{"$f":"IF(F30=\"\",\"\",VLOOKUP(F30,Sheet2!$I$7:$J$32,2,FALSE))","v":""},null,{"$f":"IF(H30=\"\",\"\",VLOOKUP(H30,Sheet2!$L$7:$M$9,2,FALSE))","v":""}]
[26,"",null,"",null,null,{"$f":"IF(F31=\"\",\"\",VLOOKUP(F31,Sheet2!$I$7:$J$32,2,FALSE))","v":""},null,{"$f":"IF(H31=\"\",\"\",VLOOKUP(H31,Sheet2!$L$7:$M$9,2,FALSE))","v":""}]
[27,"",null,"",null,null,{"$f":"IF(F32=\"\",\"\",VLOOKUP(F32,Sheet2!$I$7:$J$32,2,FALSE))","v":""},null,{"$f":"IF(H32=\"\",\"\",VLOOKUP(H32,Sheet2!$L$7:$M$9,2,FALSE))","v":""}]
[{"$f":"ROW() - 5","v":28},"",null,"",null,null,{"$f":"IF(F33=\"\",\"\",VLOOKUP(F33,Sheet2!$I$7:$J$32,2,FALSE))","v":""},null,{"$f":"IF(H33=\"\",\"\",VLOOKUP(H33,Sheet2!$L$7:$M$9,2,FALSE))","v":""}]
[{"$f":"ROW() - 5","v":29},"",null,"",null,null,{"$f":"IF(F34=\"\",\"\",VLOOKUP(F34,Sheet2!$I$7:$J$32,2,FALSE))","v":""},null,{"$f":"IF(H34=\"\",\"\",VLOOKUP(H34,Sheet2!$L$7:$M$9,2,FALSE))","v":""}]
[{"$f":"ROW() - 5","v":30},"",null,"",null,null,{"$f":"IF(F35=\"\",\"\",VLOOKUP(F35,Sheet2!$I$7:$J$32,2,FALSE))","v":""},null,{"$f":"IF(H35=\"\",\"\",VLOOKUP(H35,Sheet2!$L$7:$M$9,2,FALSE))","v":""}]

{"sheet":"Sheet1","index":3,"n_rows":18,"n_cols":5,"rows_kept":18,"cut":false,"hidden":true,"merged":[[2,1,3,1],[2,2,3,2],[12,1,13,1],[12,2,13,2]]}
[null,"・明細様式番号の一覧表"]
[null,"様式番号","サービス種類","様式番号","サービス種類"]
[null,"様式第ニ","訪問介護・訪問入浴介護・訪問看護・訪問リハ・\n居宅療養管理指導・通所介護・通所リハ・福祉用具貸与・\n定期巡回・随時対応型訪問介護看護・夜間対応型訪問介護・\n地域密着型通所介護・認知症対応型通所介護・\n小規模多機能型居宅介護・複合型サービス\n","様式第二の二","介護予防訪問介護・介護予防訪問入浴介護・介護予防訪問看護・介護予防訪問リハ・介護予防居宅療養管理指導・\n介護予防通所介護・介護予防通所リハ・介護予防福祉用具貸与・介護予防認知症対応型通所介護・\n介護予防小規模多機能型居宅介護"]
[null,null,null,"様式第二の三","〈総合事業〉\n介護予防訪問サービス・介護予防通所サービス・\n介護予防短時間通所サービス"]
[null,"様式第三","短期入所生活介護","様式第三の二","介護予防短期入所生活介護"]
[null,"様式第四","介護老人保健施設における短期入所療養介護","様式第四の二","介護老人保健施設における介護予防短期入所療養介護"]
[null,"様式第四の三","介護医療院における短期入所療養介護","様式第四の四","介護医療院における介護予防短期入所療養介護"]
[null,"様式第五","病院・診療所における短期入所療養介護","様式第五の二","病院・診療所における介護予防短期入所療養介護"]
[null,"様式第六","認知症対応型共同生活介護","様式第六の二","介護予防認知症対応型共同生活介護"]
[null,"様式第六の三","特定施設入居者生活介護\n地域密着型特定施設入居者生活介護","様式第六の四","介護予防特定施設入居者生活介護"]
[null,"様式第六の五","認知症対応型共同生活介護（短期利用）","様式第六の六","介護予防認知症対応型共同生活介護（短期利用）"]
[null,"様式第六の七","特定施設入居者生活介護（短期利用）\n地域密着型特定施設入居者生活介護（短期利用）"]
[null,"様式第七","居宅介護支援","様式第七の二","介護予防支援"]
[null,null,null,"様式第七の三","〈総合事業〉\n介護予防ケアマネジメント"]
[null,"様式第八","介護福祉施設サービス\n地域密着型介護老人福祉施設入所者生活介護"]
[null,"様式第九","介護保健施設サービス"]
[null,"様式第九のニ","介護医療院サービス"]
[null,"様式第十","介護療養施設サービス"]

{"sheet":"Sheet2","index":4,"n_rows":31,"n_cols":13,"rows_kept":31,"cut":false,"hidden":true,"merged":[]}
[]
[]
[]
[]
[]
[null,141317,null,null,null,null,null,null,"給付実績様式番号　※変更しています",null,null,"申立理由コード　※変更しています"]
[null,141325,null,null,null,null,null,null,"様式第ニ","020",null,"請求誤り","02"]
[null,141333,null,null,null,null,null,null,"様式第ニの二","020",null,"その他実績取下げ","99"]
[null,141341,null,null,null,null,null,null,"様式第ニの三","023"]
[null,141358,null,null,null,null,null,null,"様式第三","030"]
[null,141366,null,null,null,null,null,null,"様式第三の二","030"]
[null,141374,null,null,null,null,null,null,"様式第四","040"]
[null,null,null,null,null,null,null,null,"様式第四の二","040"]
[null,null,null,null,null,null,null,null,"様式第四の三","041"]
[null,null,null,null,null,null,null,null,"様式第四の四","041"]
[null,null,null,null,null,null,null,null,"様式第五","050"]
[null,null,null,null,null,null,null,null,"様式第五の二","050"]
[null,null,null,null,null,null,null,null,"様式第六","061"]
[null,null,null,null,null,null,null,null,"様式第六の二","061"]
[null,null,null,null,null,null,null,null,"様式第六の三","062"]
[null,null,null,null,null,null,null,null,"様式第六の四","062"]
[null,null,null,null,null,null,null,null,"様式第六の五","063"]
[null,null,null,null,null,null,null,null,"様式第六の六","063"]
[null,null,null,null,null,null,null,null,"様式第六の七","064"]
[null,null,null,null,null,null,null,null,"様式第七","070"]
[null,null,null,null,null,null,null,null,"様式第七の二","070"]
[null,null,null,null,null,null,null,null,"様式第七の三","073"]
[null,null,null,null,null,null,null,null,"様式第八","080"]
[null,null,null,null,null,null,null,null,"様式第九","090"]
[null,null,null,null,null,null,null,null,"様式第九のニ","091"]
[null,null,null,null,null,null,null,null,"様式第十","100"]