{"text_format":"1","workbook":"xlsx","n_sheets":8,"sheets":["センター基礎情報","個別ケース相談対応（日報入力用）","個別ケア会議（随時入力用）","地域活動支援・機関ネットワーク（随時入力用）","継続対応ケース（月締入力用）","介護予防ケアマネジメント（月締入力用）","集計シート","マスタ"],"not_rendered":{"charts":15,"images":0,"macros":1,"external_links":0,"defined_names":4,"comments":1,"pivot_tables":0},"unopened":[],"bounds":{"document_bytes":16777216,"sheet_cells":100000,"rows_first":2000,"rows_last":500,"rows_between":2000,"halvings":0,"cell_chars":16384,"cell_head_chars":4096},"cells_cut":0,"cells_raw":0,"read":"whole","date_system":"1900"}

{"sheet":"センター基礎情報","index":0,"n_rows":23,"n_cols":1,"rows_kept":23,"cut":false,"hidden":false,"merged":[]}
["センター基礎情報"]
["作成年度"]
["令和8年度"]
[]
["センター名称"]
[]
[]
["担当地区名（※市パンフレットの担当地区名を入力）"]
[]
[]
[]
[]
[]
[]
[]
[]
[]
[]
[]
[]
[]
["担当地区外"]
["不明"]

{"sheet":"個別ケース相談対応（日報入力用）","index":1,"n_rows":1132,"n_cols":141,"rows_kept":1132,"cut":false,"hidden":false,"merged":[[0,0,0,2],[2,5,2,7],[2,8,2,12],[2,13,2,24],[2,108,2,129],[2,48,2,51],[2,58,2,68],[2,43,2,47],[1,5,1,10],[2,25,2,42],[2,69,2,90],[2,91,2,94],[2,95,2,107],[2,53,2,57],[2,0,2,1]]}
[{"$f":"センター基礎情報!A3","v":"令和8年度"},null,null,"個別ケース相談対応実績（日報）"]
[null,null,null,null,null,{"$f":"センター基礎情報!A6","v":0},null,null,null,null,null,"地域包括支援センター"]
["受付日",null,null,null,null,"分類",null,null,"相談方法",null,null,null,null,"相談経路（複数選択可）",null,null,null,null,null,null,null,null,null,null,null,"相談者（複数選択可）",null,null,null,null,null,null,null,null,null,null,null,null,null,null,null,null,null,"本人の年齢",null,null,null,null,"本人の性別",null,null,null,"住所","世帯構成",null,null,null,null,"認定申請状況",null,null,null,null,null,null,null,null,null,null,"相談内容（主訴）　複数選択可",null,null,null,null,null,null,null,null,null,null,null,null,null,null,null,null,null,null,null,null,null,"緊急レベル",null,null,null,"対応方針（月締め時点）　複数選択可",null,null,null,null,null,null,null,null,null,null,null,null,"調整先（月締め時点）　複数選択可"]
["月","日","NO","センター名","支援対象者","新規","再相談","その他","来所","ＴＥＬ","訪問","メール","その他","家族","知人・友人","地域住民","ケアマネジャー","事業所","民生委員","リーフレット","インターネット","行政機関","医療機関","不明","その他","本人","家族・親族","友人","民生委員","町内会・自治会・地域住民など","ケアマネジャー","サービス事業所","障害関係事業所","医療機関","弁護士・司法書士など（権利擁護）","区役所（高齢）","区役所（認定給付）","区役所（保護）","区役所（障害・精神）","区役所（地域支援）","その他行政","その他","不明","65歳未満","65～74歳","75～85歳","85歳歳以上","不明","男性","女性","その他","不明","地区名","独居","夫婦のみ","家族と同居","その他","不明","未申請","申請中","事業対象者","要支援１","要支援２","要介護１","要介護２","要介護３","要介護４","要介護５","不明","介護給付","予防給付・総合事業","介護保険関連（申請）","本人の介護に関する相談","介護者の負担","介護離職","障害等他分野の相談","複合的な課題","市単サービス","インフォーマルサポート","施設入所","介護方法等","医療・健康管理全般","安否確認","判断能力を欠く常況（成年後見含む）","認知症（判断能力低下など疑い含む）","支援拒否・援助希求無","虐待","生活保護・困窮・経済的な相談","その他生活上の課題（生活支援）","苦情・トラブル","その他","レベル１（一般的な問い合わせ）","レベル２（相談者自身で対応が可能）","レベル３（専門的・継続的な支援が必要）","レベル４（緊急対応が必要）","予防プラン作成等","状態改善のための集中支援","居宅サービス利用","施設入所","医療へのつなぎ","その他福祉サービス・相談機関の紹介","インフォーマルサポート・サービス","高齢者虐待","その他権利擁護","支援困難事例等として介入（虐待以外）","その他継続対応（見守り等）","対応保留・連絡待ち等","その他","本人","家族・親族","民生委員","町内会・自治会・地域住民など","ケアマネジャー","介護サービス事業所","介護予防事業","地域活動","その他インフォーマルサポート・サービス","地域リハビリテーション支援拠点","障害関係事業所","医療機関","区役所（高齢）","区役所（認定給付）","区役所（保護）","区役所（障害・精神）","区役所（地域支援）","その他行政","生活支援コーディネーター","権利擁護機関","住宅関係の機関・団体・事業者","その他","備考"]
[null,null,"年計",null,null,{"$f":"F1132","v":0},0,0,0,0,0,0,0,{"$f":"N1132","v":0},{"$f":"O1132","v":0},{"$f":"P1132","v":0},0,0,0,0,0,0,0,0,0,{"$f":"Z1132","v":0},0,0,0,0,0,0,0,0,0,0,0,0,0,0,0,0,0,{"$f":"AR1132","v":0},0,0,0,0,0,0,0,0,null,{"$f":"BB1132","v":0},0,0,0,0,0,0,0,0,0,0,0,0,0,0,0,0,0,0,0,0,0,0,0,0,0,0,0,0,0,0,0,{"$f":"CH1132","v":0},0,0,0,0,0,0,0,0,0,0,{"$f":"CS1132","v":0},0,0,0,{"$f":"CW1132","v":0},0,{"$f":"CY1132","v":0},0,0,0,0,{"$f":"DD1132","v":0},{"$f":"DE1132","v":0},0,0,0,0,0,0,{"$f":"DL1132","v":0},0,0,0,0,0,0,0,0,0,0,0,0,{"$f":"DY1132","v":0},0,null,{"$f":"EB1132","v":0},0,0,0,0,0,0,0,0,0]
["7行目から入力してください"]
[null,null,1,{"$f":"F$2","v":0}]
[null,null,{"$f":"C7+1","v":2},{"$f":"F$2","v":0}]
[null,null,{"$f":"C8+1","v":3},0]
[null,null,4,0]
[null,null,5,0]
[null,null,6,0]
[null,null,7,0]
[null,null,8,0]
[null,null,9,0]
[null,null,10,0]
[null,null,11,0]
[null,null,12,0]
[null,null,13,0]
[null,null,14,0]
[null,null,15,0]
[null,null,16,0]
[null,null,17,0]
[null,null,18,0]
[null,null,19,0]
[null,null,20,0]
[null,null,21,0]
[null,null,22,0]
[null,null,23,0]
[null,null,24,0]
[null,null,25,0]
[null,null,26,0]
[null,null,27,0]
[null,null,28,0]
[null,null,29,0]
[null,null,30,0]
[null,null,31,0]
[null,null,32,0]
[null,null,33,0]
[null,null,34,0]
[null,null,35,0]
[null,null,36,0]
[null,null,37,0]
[null,null,38,0]
[null,null,39,0]
[null,null,40,0]
[null,null,41,0]
[null,null,42,0]
[null,null,43,0]
[null,null,44,0]
[null,null,45,0]
[null,null,46,0]
[null,null,47,0]
[null,null,48,0]
[null,null,49,0]
[null,null,50,0]
[null,null,51,0]
[null,null,52,0]
[null,null,53,0]
[null,null,54,0]
[null,null,55,0]
[null,null,56,0]
[null,null,57,0]
[null,null,58,0]
[null,null,59,0]
[null,null,60,0]
[null,null,61,0]
[null,null,62,0]
[null,null,63,0]
[null,null,64,0]
[null,null,65,0]
[null,null,66,{"$f":"F$2","v":0}]
[null,null,{"$f":"C72+1","v":67},0]
[null,null,68,0]
[null,null,69,0]
[null,null,70,0]
[null,null,71,0]
[null,null,72,0]
[null,null,73,0]
[null,null,74,0]
[null,null,75,0]
[null,null,76,0]
[null,null,77,0]
[null,null,78,0]
[null,null,79,0]
[null,null,80,0]
[null,null,81,0]
[null,null,82,0]
[null,null,83,0]
[null,null,84,0]
[null,null,85,0]
[null,null,86,0]
[null,null,87,0]
[null,null,88,0]
[null,null,89,0]
[null,null,90,0]
[null,null,91,0]
[null,null,92,0]
[null,null,93,0]
[null,null,94,0]
[null,null,95,0]
[null,null,96,0]
[null,null,97,0]
[null,null,98,0]
[null,null,99,0]
[null,null,100,0]
[null,null,101,0]
[null,null,102,0]
[null,null,103,0]
[null,null,104,0]
[null,null,105,0]
[null,null,106,0]
[null,null,107,0]
[null,null,108,0]
[null,null,109,0]
[null,null,110,0]
[null,null,111,0]
[null,null,112,0]
[null,null,113,0]
[null,null,114,0]
[null,null,115,0]
[null,null,116,0]
[null,null,117,0]
[null,null,118,0]
[null,null,119,0]
[null,null,120,0]
[null,null,121,0]
[null,null,122,0]
[null,null,123,0]
[null,null,124,0]
[null,null,125,0]
[null,null,126,0]
[null,null,127,0]
[null,null,128,0]
[null,null,129,0]
[null,null,130,{"$f":"F$2","v":0}]
[null,null,{"$f":"C136+1","v":131},0]
[null,null,132,0]
[null,null,133,0]
[null,null,134,0]
[null,null,135,0]
[null,null,136,0]
[null,null,137,0]
[null,null,138,0]
[null,null,139,0]
[null,null,140,0]
[null,null,141,0]
[null,null,142,0]
[null,null,143,0]
[null,null,144,0]
[null,null,145,0]
[null,null,146,0]
[null,null,147,0]
[null,null,148,0]
[null,null,149,0]
[null,null,150,0]
[null,null,151,0]
[null,null,152,0]
[null,null,153,0]
[null,null,154,0]
[null,null,155,0]
[null,null,156,0]
[null,null,157,0]
[null,null,158,0]
[null,null,159,0]
[null,null,160,0]
[null,null,161,0]
[null,null,162,0]
[null,null,163,0]
[null,null,164,0]
[null,null,165,0]
[null,null,166,0]
[null,null,167,0]
[null,null,168,0]
[null,null,169,0]
[null,null,170,0]
[null,null,171,0]
[null,null,172,0]
[null,null,173,0]
[null,null,174,0]
[null,null,175,0]
[null,null,176,0]
[null,null,177,0]
[null,null,178,0]
[null,null,179,0]
[null,null,180,0]
[null,null,181,0]
[null,null,182,0]
[null,null,183,0]
[null,null,184,0]
[null,null,185,0]
[null,null,186,0]
[null,null,187,0]
[null,null,188,0]
[null,null,189,0]
[null,null,190,0]
[null,null,191,0]
[null,null,192,0]
[null,null,193,0]
[null,null,194,{"$f":"F$2","v":0}]
[null,null,{"$f":"C200+1","v":195},0]
[null,null,196,0]
[null,null,197,0]
[null,null,198,0]
[null,null,199,0]
[null,null,200,0]
[null,null,201,0]
[null,null,202,0]
[null,null,203,0]
[null,null,204,0]
[null,null,205,0]
[null,null,206,0]
[null,null,207,0]
[null,null,208,0]
[null,null,209,0]
[null,null,210,0]
[null,null,211,0]
[null,null,212,0]
[null,null,213,0]
[null,null,214,0]
[null,null,215,0]
[null,null,216,0]
[null,null,217,0]
[null,null,218,0]
[null,null,219,0]
[null,null,220,0]
[null,null,221,0]
[null,null,222,0]
[null,null,223,0]
[null,null,224,0]
[null,null,225,0]
[null,null,226,0]
[null,null,227,0]
[null,null,228,0]
[null,null,229,0]
[null,null,230,0]
[null,null,231,0]
[null,null,232,0]
[null,null,233,0]
[null,null,234,0]
[null,null,235,0]
[null,null,236,0]
[null,null,237,0]
[null,null,238,0]
[null,null,239,0]
[null,null,240,0]
[null,null,241,0]
[null,null,242,0]
[null,null,243,0]
[null,null,244,0]
[null,null,245,0]
[null,null,246,0]
[null,null,247,0]
[null,null,248,0]
[null,null,249,0]
[null,null,250,0]
[null,null,251,0]
[null,null,252,0]
[null,null,253,0]
[null,null,254,0]
[null,null,255,0]
[null,null,256,0]
[null,null,257,0]
[null,null,258,{"$f":"F$2","v":0}]
[null,null,{"$f":"C264+1","v":259},0]
[null,null,260,0]
[null,null,261,0]
[null,null,262,0]
[null,null,263,0]
[null,null,264,0]
[null,null,265,0]
[null,null,266,0]
[null,null,267,0]
[null,null,268,0]
[null,null,269,0]
[null,null,270,0]
[null,null,271,0]
[null,null,272,0]
[null,null,273,0]
[null,null,274,0]
[null,null,275,0]
[null,null,276,0]
[null,null,277,0]
[null,null,278,0]
[null,null,279,0]
[null,null,280,0]
[null,null,281,0]
[null,null,282,0]
[null,null,283,0]
[null,null,284,0]
[null,null,285,0]
[null,null,286,0]
[null,null,287,0]
[null,null,288,0]
[null,null,289,0]
[null,null,290,0]
[null,null,291,0]
[null,null,292,0]
[null,null,293,0]
[null,null,294,0]
[null,null,295,0]
[null,null,296,0]
[null,null,297,0]
[null,null,298,0]
[null,null,299,0]
[null,null,300,0]
[null,null,301,0]
[null,null,302,0]
[null,null,303,0]
[null,null,304,0]
[null,null,305,0]
[null,null,306,0]
[null,null,307,0]
[null,null,308,0]
[null,null,309,0]
[null,null,310,0]
[null,null,311,0]
[null,null,312,0]
[null,null,313,0]
[null,null,314,0]
[null,null,315,0]
[null,null,316,0]
[null,null,317,0]
[null,null,318,0]
[null,null,319,0]
[null,null,320,0]
[null,null,321,0]
[null,null,322,{"$f":"F$2","v":0}]
[null,null,{"$f":"C328+1","v":323},0]
[null,null,324,0]
[null,null,325,0]
[null,null,326,0]
[null,null,327,0]
[null,null,328,0]
[null,null,329,0]
[null,null,330,0]
[null,null,331,0]
[null,null,332,0]
[null,null,333,0]
[null,null,334,0]
[null,null,335,0]
[null,null,336,0]
[null,null,337,0]
[null,null,338,0]
[null,null,339,0]
[null,null,340,0]
[null,null,341,0]
[null,null,342,0]
[null,null,343,0]
[null,null,344,0]
[null,null,345,0]
[null,null,346,0]
[null,null,347,0]
[null,null,348,0]
[null,null,349,0]
[null,null,350,0]
[null,null,351,0]
[null,null,352,0]
[null,null,353,0]
[null,null,354,0]
[null,null,355,0]
[null,null,356,0]
[null,null,357,0]
[null,null,358,0]
[null,null,359,0]
[null,null,360,0]
[null,null,361,0]
[null,null,362,0]
[null,null,363,0]
[null,null,364,0]
[null,null,365,0]
[null,null,366,0]
[null,null,367,0]
[null,null,368,0]
[null,null,369,0]
[null,null,370,0]
[null,null,371,0]
[null,null,372,0]
[null,null,373,0]
[null,null,374,0]
[null,null,375,0]
[null,null,376,0]
[null,null,377,0]
[null,null,378,0]
[null,null,379,0]
[null,null,380,0]
[null,null,381,0]
[null,null,382,0]
[null,null,383,0]
[null,null,384,0]
[null,null,385,0]
[null,null,386,{"$f":"F$2","v":0}]
[null,null,{"$f":"C392+1","v":387},0]
[null,null,388,0]
[null,null,389,0]
[null,null,390,0]
[null,null,391,0]
[null,null,392,0]
[null,null,393,0]
[null,null,394,0]
[null,null,395,0]
[null,null,396,0]
[null,null,397,0]
[null,null,398,0]
[null,null,399,0]
[null,null,400,0]
[null,null,401,0]
[null,null,402,0]
[null,null,403,0]
[null,null,404,0]
[null,null,405,0]
[null,null,406,0]
[null,null,407,0]
[null,null,408,0]
[null,null,409,0]
[null,null,410,0]
[null,null,411,0]
[null,null,412,0]
[null,null,413,0]
[null,null,414,0]
[null,null,415,0]
[null,null,416,0]
[null,null,417,0]
[null,null,418,0]
[null,null,419,0]
[null,null,420,0]
[null,null,421,0]
[null,null,422,0]
[null,null,423,0]
[null,null,424,0]
[null,null,425,0]
[null,null,426,0]
[null,null,427,0]
[null,null,428,0]
[null,null,429,0]
[null,null,430,0]
[null,null,431,0]
[null,null,432,0]
[null,null,433,0]
[null,null,434,0]
[null,null,435,0]
[null,null,436,0]
[null,null,437,0]
[null,null,438,0]
[null,null,439,0]
[null,null,440,0]
[null,null,441,0]
[null,null,442,0]
[null,null,443,0]
[null,null,444,0]
[null,null,445,0]
[null,null,446,0]
[null,null,447,0]
[null,null,448,0]
[null,null,449,0]
[null,null,450,{"$f":"F$2","v":0}]
[null,null,{"$f":"C456+1","v":451},0]
[null,null,452,0]
[null,null,453,0]
[null,null,454,0]
[null,null,455,0]
[null,null,456,0]
[null,null,457,0]
[null,null,458,0]
[null,null,459,0]
[null,null,460,0]
[null,null,461,0]
[null,null,462,0]
[null,null,463,0]
[null,null,464,0]
[null,null,465,0]
[null,null,466,0]
[null,null,467,0]
[null,null,468,0]
[null,null,469,0]
[null,null,470,0]
[null,null,471,0]
[null,null,472,0]
[null,null,473,0]
[null,null,474,0]
[null,null,475,0]
[null,null,476,0]
[null,null,477,0]
[null,null,478,0]
[null,null,479,0]
[null,null,480,0]
[null,null,481,0]
[null,null,482,0]
[null,null,483,0]
[null,null,484,0]
[null,null,485,0]
[null,null,486,0]
[null,null,487,0]
[null,null,488,0]
[null,null,489,0]
[null,null,490,0]
[null,null,491,0]
[null,null,492,0]
[null,null,493,0]
[null,null,494,0]
[null,null,495,0]
[null,null,496,0]
[null,null,497,0]
[null,null,498,0]
[null,null,499,0]
[null,null,500,0]
[null,null,501,0]
[null,null,502,0]
[null,null,503,0]
[null,null,504,0]
[null,null,505,0]
[null,null,506,0]
[null,null,507,0]
[null,null,508,0]
[null,null,509,0]
[null,null,510,0]
[null,null,511,0]
[null,null,512,0]
[null,null,513,0]
[null,null,514,{"$f":"F$2","v":0}]
[null,null,{"$f":"C520+1","v":515},0]
[null,null,516,0]
[null,null,517,0]
[null,null,518,0]
[null,null,519,0]
[null,null,520,0]
[null,null,521,0]
[null,null,522,0]
[null,null,523,0]
[null,null,524,0]
[null,null,525,0]
[null,null,526,0]
[null,null,527,0]
[null,null,528,0]
[null,null,529,0]
[null,null,530,0]
[null,null,531,0]
[null,null,532,0]
[null,null,533,0]
[null,null,534,0]
[null,null,535,0]
[null,null,536,0]
[null,null,537,0]
[null,null,538,0]
[null,null,539,0]
[null,null,540,0]
[null,null,541,0]
[null,null,542,0]
[null,null,543,0]
[null,null,544,0]
[null,null,545,0]
[null,null,546,0]
[null,null,547,0]
[null,null,548,0]
[null,null,549,0]
[null,null,550,0]
[null,null,551,0]
[null,null,552,0]
[null,null,553,0]
[null,null,554,0]
[null,null,555,0]
[null,null,556,0]
[null,null,557,0]
[null,null,558,0]
[null,null,559,0]
[null,null,560,0]
[null,null,561,0]
[null,null,562,0]
[null,null,563,0]
[null,null,564,0]
[null,null,565,0]
[null,null,566,0]
[null,null,567,0]
[null,null,568,0]
[null,null,569,0]
[null,null,570,0]
[null,null,571,0]
[null,null,572,0]
[null,null,573,0]
[null,null,574,0]
[null,null,575,0]
[null,null,576,0]
[null,null,577,0]
[null,null,578,{"$f":"F$2","v":0}]
[null,null,{"$f":"C584+1","v":579},0]
[null,null,580,0]
[null,null,581,0]
[null,null,582,0]
[null,null,583,0]
[null,null,584,0]
[null,null,585,0]
[null,null,586,0]
[null,null,587,0]
[null,null,588,0]
[null,null,589,0]
[null,null,590,0]
[null,null,591,0]
[null,null,592,0]
[null,null,593,0]
[null,null,594,0]
[null,null,595,0]
[null,null,596,0]
[null,null,597,0]
[null,null,598,0]
[null,null,599,0]
[null,null,600,0]
[null,null,601,0]
[null,null,602,0]
[null,null,603,0]
[null,null,604,0]
[null,null,605,0]
[null,null,606,0]
[null,null,607,0]
[null,null,608,0]
[null,null,609,0]
[null,null,610,0]
[null,null,611,0]
[null,null,612,0]
[null,null,613,0]
[null,null,614,0]
[null,null,615,0]
[null,null,616,0]
[null,null,617,0]
[null,null,618,0]
[null,null,619,0]
[null,null,620,0]
[null,null,621,0]
[null,null,622,0]
[null,null,623,0]
[null,null,624,0]
[null,null,625,0]
[null,null,626,0]
[null,null,627,0]
[null,null,628,0]
[null,null,629,0]
[null,null,630,0]
[null,null,631,0]
[null,null,632,0]
[null,null,633,0]
[null,null,634,0]
[null,null,635,0]
[null,null,636,0]
[null,null,637,0]
[null,null,638,0]
[null,null,639,0]
[null,null,640,0]
[null,null,641,0]
[null,null,642,{"$f":"F$2","v":0}]
[null,null,{"$f":"C648+1","v":643},0]
[null,null,644,0]
[null,null,645,0]
[null,null,646,0]
[null,null,647,0]
[null,null,648,0]
[null,null,649,0]
[null,null,650,0]
[null,null,651,0]
[null,null,652,0]
[null,null,653,0]
[null,null,654,0]
[null,null,655,0]
[null,null,656,0]
[null,null,657,0]
[null,null,658,0]
[null,null,659,0]
[null,null,660,0]
[null,null,661,0]
[null,null,662,0]
[null,null,663,0]
[null,null,664,0]
[null,null,665,0]
[null,null,666,0]
[null,null,667,0]
[null,null,668,0]
[null,null,669,0]
[null,null,670,0]
[null,null,671,0]
[null,null,672,0]
[null,null,673,0]
[null,null,674,0]
[null,null,675,0]
[null,null,676,0]
[null,null,677,0]
[null,null,678,0]
[null,null,679,0]
[null,null,680,0]
[null,null,681,0]
[null,null,682,0]
[null,null,683,0]
[null,null,684,0]
[null,null,685,0]
[null,null,686,0]
[null,null,687,0]
[null,null,688,0]
[null,null,689,0]
[null,null,690,0]
[null,null,691,0]
[null,null,692,0]
[null,null,693,0]
[null,null,694,0]
[null,null,695,0]
[null,null,696,0]
[null,null,697,0]
[null,null,698,0]
[null,null,699,0]
[null,null,700,0]
[null,null,701,0]
[null,null,702,0]
[null,null,703,0]
[null,null,704,0]
[null,null,705,0]
[null,null,706,{"$f":"F$2","v":0}]
[null,null,{"$f":"C712+1","v":707},0]
[null,null,708,0]
[null,null,709,0]
[null,null,710,0]
[null,null,711,0]
[null,null,712,0]
[null,null,713,0]
[null,null,714,0]
[null,null,715,0]
[null,null,716,0]
[null,null,717,0]
[null,null,718,0]
[null,null,719,0]
[null,null,720,0]
[null,null,721,0]
[null,null,722,0]
[null,null,723,0]
[null,null,724,0]
[null,null,725,0]
[null,null,726,0]
[null,null,727,0]
[null,null,728,0]
[null,null,729,0]
[null,null,730,0]
[null,null,731,0]
[null,null,732,0]
[null,null,733,0]
[null,null,734,0]
[null,null,735,0]
[null,null,736,0]
[null,null,737,0]
[null,null,738,0]
[null,null,739,0]
[null,null,740,0]
[null,null,741,0]
[null,null,742,0]
[null,null,743,0]
[null,null,744,0]
[null,null,745,0]
[null,null,746,0]
[null,null,747,0]
[null,null,748,0]
[null,null,749,0]
[null,null,750,0]
[null,null,751,0]
[null,null,752,0]
[null,null,753,0]
[null,null,754,0]
[null,null,755,0]
[null,null,756,0]
[null,null,757,0]
[null,null,758,0]
[null,null,759,0]
[null,null,760,0]
[null,null,761,0]
[null,null,762,0]
[null,null,763,0]
[null,null,764,0]
[null,null,765,0]
[null,null,766,0]
[null,null,767,0]
[null,null,768,0]
[null,null,769,0]
[null,null,770,{"$f":"F$2","v":0}]
[null,null,{"$f":"C776+1","v":771},0]
[null,null,772,0]
[null,null,773,0]
[null,null,774,0]
[null,null,775,0]
[null,null,776,0]
[null,null,777,0]
[null,null,778,0]
[null,null,779,0]
[null,null,780,0]
[null,null,781,0]
[null,null,782,0]
[null,null,783,0]
[null,null,784,0]
[null,null,785,0]
[null,null,786,0]
[null,null,787,0]
[null,null,788,0]
[null,null,789,0]
[null,null,790,0]
[null,null,791,0]
[null,null,792,0]
[null,null,793,0]
[null,null,794,0]
[null,null,795,0]
[null,null,796,0]
[null,null,797,0]
[null,null,798,0]
[null,null,799,0]
[null,null,800,0]
[null,null,801,0]
[null,null,802,0]
[null,null,803,0]
[null,null,804,0]
[null,null,805,0]
[null,null,806,0]
[null,null,807,0]
[null,null,808,0]
[null,null,809,0]
[null,null,810,0]
[null,null,811,0]
[null,null,812,0]
[null,null,813,0]
[null,null,814,0]
[null,null,815,0]
[null,null,816,0]
[null,null,817,0]
[null,null,818,0]
[null,null,819,0]
[null,null,820,0]
[null,null,821,0]
[null,null,822,0]
[null,null,823,0]
[null,null,824,0]
[null,null,825,0]
[null,null,826,0]
[null,null,827,0]
[null,null,828,0]
[null,null,829,0]
[null,null,830,0]
[null,null,831,0]
[null,null,832,0]
[null,null,833,0]
[null,null,834,{"$f":"F$2","v":0}]
[null,null,{"$f":"C840+1","v":835},0]
[null,null,836,0]
[null,null,837,0]
[null,null,838,0]
[null,null,839,0]
[null,null,840,0]
[null,null,841,0]
[null,null,842,0]
[null,null,843,0]
[null,null,844,0]
[null,null,845,0]
[null,null,846,0]
[null,null,847,0]
[null,null,848,0]
[null,null,849,0]
[null,null,850,0]
[null,null,851,0]
[null,null,852,0]
[null,null,853,0]
[null,null,854,0]
[null,null,855,0]
[null,null,856,0]
[null,null,857,0]
[null,null,858,0]
[null,null,859,0]
[null,null,860,0]
[null,null,861,0]
[null,null,862,0]
[null,null,863,0]
[null,null,864,0]
[null,null,865,0]
[null,null,866,0]
[null,null,867,0]
[null,null,868,0]
[null,null,869,0]
[null,null,870,0]
[null,null,871,0]
[null,null,872,0]
[null,null,873,0]
[null,null,874,0]
[null,null,875,0]
[null,null,876,0]
[null,null,877,0]
[null,null,878,0]
[null,null,879,0]
[null,null,880,0]
[null,null,881,0]
[null,null,882,0]
[null,null,883,0]
[null,null,884,0]
[null,null,885,0]
[null,null,886,0]
[null,null,887,0]
[null,null,888,0]
[null,null,889,0]
[null,null,890,0]
[null,null,891,0]
[null,null,892,0]
[null,null,893,0]
[null,null,894,0]
[null,null,895,0]
[null,null,896,0]
[null,null,897,0]
[null,null,898,{"$f":"F$2","v":0}]
[null,null,{"$f":"C904+1","v":899},0]
[null,null,900,0]
[null,null,901,0]
[null,null,902,0]
[null,null,903,0]
[null,null,904,0]
[null,null,905,0]
[null,null,906,0]
[null,null,907,0]
[null,null,908,0]
[null,null,909,0]
[null,null,910,0]
[null,null,911,0]
[null,null,912,0]
[null,null,913,0]
[null,null,914,0]
[null,null,915,0]
[null,null,916,0]
[null,null,917,0]
[null,null,918,0]
[null,null,919,0]
[null,null,920,0]
[null,null,921,0]
[null,null,922,0]
[null,null,923,0]
[null,null,924,0]
[null,null,925,0]
[null,null,926,0]
[null,null,927,0]
[null,null,928,0]
[null,null,929,0]
[null,null,930,0]
[null,null,931,0]
[null,null,932,0]
[null,null,933,0]
[null,null,934,0]
[null,null,935,0]
[null,null,936,0]
[null,null,937,0]
[null,null,938,0]
[null,null,939,0]
[null,null,940,0]
[null,null,941,0]
[null,null,942,0]
[null,null,943,0]
[null,null,944,0]
[null,null,945,0]
[null,null,946,0]
[null,null,947,0]
[null,null,948,0]
[null,null,949,0]
[null,null,950,0]
[null,null,951,0]
[null,null,952,0]
[null,null,953,0]
[null,null,954,0]
[null,null,955,0]
[null,null,956,0]
[null,null,957,0]
[null,null,958,0]
[null,null,959,0]
[null,null,960,0]
[null,null,961,0]
[null,null,962,{"$f":"F$2","v":0}]
[null,null,{"$f":"C968+1","v":963},0]
[null,null,964,0]
[null,null,965,0]
[null,null,966,0]
[null,null,967,0]
[null,null,968,0]
[null,null,969,0]
[null,null,970,0]
[null,null,971,0]
[null,null,972,0]
[null,null,973,0]
[null,null,974,0]
[null,null,975,0]
[null,null,976,0]
[null,null,977,0]
[null,null,978,0]
[null,null,979,0]
[null,null,980,0]
[null,null,981,0]
[null,null,982,0]
[null,null,983,0]
[null,null,984,0]
[null,null,985,0]
[null,null,986,0]
[null,null,987,0]
[null,null,988,0]
[null,null,989,0]
[null,null,990,0]
[null,null,991,0]
[null,null,992,0]
[null,null,993,0]
[null,null,994,0]
[null,null,995,0]
[null,null,996,0]
[null,null,997,0]
[null,null,998,0]
[null,null,999,0]
[null,null,1000,0]
[null,null,1001,0]
[null,null,1002,0]
[null,null,1003,0]
[null,null,1004,0]
[null,null,1005,0]
[null,null,1006,0]
[null,null,1007,0]
[null,null,1008,0]
[null,null,1009,0]
[null,null,1010,0]
[null,null,1011,0]
[null,null,1012,0]
[null,null,1013,0]
[null,null,1014,0]
[null,null,1015,0]
[null,null,1016,0]
[null,null,1017,0]
[null,null,1018,0]
[null,null,1019,0]
[null,null,1020,0]
[null,null,1021,0]
[null,null,1022,0]
[null,null,1023,0]
[null,null,1024,0]
[null,null,1025,0]
[null,null,1026,{"$f":"F$2","v":0}]
[null,null,{"$f":"C1032+1","v":1027},0]
[null,null,1028,0]
[null,null,1029,0]
[null,null,1030,0]
[null,null,1031,0]
[null,null,1032,0]
[null,null,1033,0]
[null,null,1034,0]
[null,null,1035,0]
[null,null,1036,0]
[null,null,1037,0]
[null,null,1038,0]
[null,null,1039,0]
[null,null,1040,0]
[null,null,1041,0]
[null,null,1042,0]
[null,null,1043,0]
[null,null,1044,0]
[null,null,1045,0]
[null,null,1046,0]
[null,null,1047,0]
[null,null,1048,0]
[null,null,1049,0]
[null,null,1050,0]
[null,null,1051,0]
[null,null,1052,0]
[null,null,1053,0]
[null,null,1054,0]
[null,null,1055,0]
[null,null,1056,0]
[null,null,1057,0]
[null,null,1058,0]
[null,null,1059,0]
[null,null,1060,0]
[null,null,1061,0]
[null,null,1062,0]
[null,null,1063,0]
[null,null,1064,0]
[null,null,1065,0]
[null,null,1066,0]
[null,null,1067,0]
[null,null,1068,0]
[null,null,1069,0]
[null,null,1070,0]
[null,null,1071,0]
[null,null,1072,0]
[null,null,1073,0]
[null,null,1074,0]
[null,null,1075,0]
[null,null,1076,0]
[null,null,1077,0]
[null,null,1078,0]
[null,null,1079,0]
[null,null,1080,0]
[null,null,1081,0]
[null,null,1082,0]
[null,null,1083,0]
[null,null,1084,0]
[null,null,1085,0]
[null,null,1086,0]
[null,null,1087,0]
[null,null,1088,0]
[null,null,1089,0]
[null,null,1090,{"$f":"F$2","v":0}]
[null,null,{"$f":"C1096+1","v":1091},0]
[null,null,1092,0]
[null,null,1093,0]
[null,null,1094,0]
[null,null,1095,0]
[null,null,1096,0]
[null,null,1097,0]
[null,null,1098,0]
[null,null,1099,0]
[null,null,1100,0]
[null,null,1101,0]
[null,null,1102,0]
[null,null,1103,0]
[null,null,1104,0]
[null,null,1105,0]
[null,null,1106,0]
[null,null,1107,0]
[null,null,1108,0]
[null,null,1109,0]
[null,null,1110,0]
[null,null,1111,0]
[null,null,1112,0]
[null,null,1113,0]
[null,null,1114,0]
[null,null,1115,0]
[null,null,1116,0]
[null,null,1117,0]
[null,null,1118,0]
[null,null,1119,0]
[null,null,1120,0]
[null,null,1121,0]
[null,null,1122,0]
[null,null,1123,0]
[null,null,1124,0]
["行を挿入する場合は、この行よりも上に挿入してください。"]
[null,null,"年計",null,null,{"$f":"SUM(F7:F1131)","v":0},0,0,0,0,0,0,0,0,0,0,0,0,0,{"$f":"SUM(T7:T1131)","v":0},0,0,0,0,0,0,0,0,0,0,0,0,0,0,0,0,0,0,0,0,0,0,0,0,0,0,0,0,0,0,0,0,null,{"$f":"SUM(BB7:BB1131)","v":0},0,0,0,0,0,0,0,0,0,0,0,0,0,0,0,0,0,0,0,0,0,0,0,0,0,0,0,0,0,0,0,{"$f":"SUM(CH7:CH1131)","v":0},0,0,0,0,0,{"$f":"SUM(CN7:CN1131)","v":0},0,0,0,0,{"$f":"SUM(CS7:CS1131)","v":0},0,0,0,{"$f":"SUM(CW7:CW1131)","v":0},0,{"$f":"SUM(CY7:CY1131)","v":0},0,0,0,0,{"$f":"SUM(DD7:DD1131)","v":0},{"$f":"SUM(DE7:DE1131)","v":0},0,0,0,0,0,0,{"$f":"SUM(DL7:DL1131)","v":0},0,0,0,0,0,0,0,0,0,0,0,0,{"$f":"SUM(DY7:DY1131)","v":0},0,null,{"$f":"SUM(EB7:EB1131)","v":0},0,0,0,0,0,0,0,0,0]

{"sheet":"個別ケア会議（随時入力用）","index":2,"n_rows":206,"n_cols":66,"rows_kept":206,"cut":false,"hidden":false,"merged":[[3,11,3,12],[3,13,3,20],[3,21,3,43],[3,44,3,64],[3,65,4,65],[1,0,1,2],[2,4,2,9],[3,0,4,0],[3,1,4,1],[3,2,4,2],[3,3,4,3],[3,4,3,5],[3,7,3,10]]}
["（様式１）"]
[{"$f":"センター基礎情報!A3","v":"令和8年度"},null,null,"個別ケア会議報告書"]
[null,null,null,null,{"$f":"センター基礎情報!A6","v":0},null,null,null,null,null,"地域包括支援センター"]
["月","日","NO","センター名","回数",null,"個人情報","世帯構成",null,null,null,"属性",null,"開催目的（主なもの全て）",null,null,null,null,null,null,null,"参加者（該当する者全て）",null,null,null,null,null,null,null,null,null,null,null,null,null,null,null,null,null,null,null,null,null,null,"主な論点（該当するもの全て）",null,null,null,null,null,null,null,null,null,null,null,null,null,null,null,null,null,null,null,null,"検討概要の特記事項・備考欄（必要に応じて記載）"]
[null,null,null,null,"初回","２回目以降","本人同意","独居","夫婦のみ","家族と同居","その他","複合的な課題がある世帯","家族介護者の介護負担","支援方針検討","専門機関連携","行政部署との連携","支援者支援","地域連携","苦情・トラブル","その他","その他の内容","本人","家族","知人","民生委員","地域住民(地縁組織含む)","ケアマネジャー","介護サービス事業所","権利擁護専門職","医療機関・薬局","地域リハ拠点","生活支援コーディネーター","地域ケアコーディネーター","障害者相談支援センター","障害サービス事業所","地域支援室","高齢者支援係","障害者支援係","精神保健係","保護課","地域支援課","その他行政","他地域包括支援センター","その他","認知症","障害","精神疾患","身寄り無・KP不在等","支援拒否・援助希求無","金銭管理","成年後見制度関係","経済問題","ごみ問題","医療との連携","他分野の支援者との連携","支援者の役割分担","支援者の経験・スキル","家族関係・トラブル","ご近所トラブル","他苦情・トラブル","自立支援・介護予防","入退院時支援","健康管理","その他","その他の内容"]
[null,null,"年計",null,{"$f":"COUNTA(E7:E206)","v":0},{"$f":"COUNTA(F7:F206)","v":0},null,{"$f":"COUNTA(H7:H206)","v":0},0,0,0,0,0,0,0,0,0,0,0,0,null,{"$f":"COUNTA(V7:V206)","v":0},0,0,0,0,0,0,0,0,0,0,0,0,0,0,0,0,0,0,0,0,0,0,0,0,0,0,0,0,0,0,0,0,0,0,0,0,0,0,0,0,0,0]
[null,null,1,{"$f":"$E$3","v":0}]
[null,null,{"$f":"C7+1","v":2},{"$f":"$E$3","v":0}]
[null,null,{"$f":"C8+1","v":3},0]
[null,null,4,0]
[null,null,5,0]
[null,null,6,0]
[null,null,7,0]
[null,null,8,0]
[null,null,9,0]
[null,null,10,0]
[null,null,11,0]
[null,null,12,0]
[null,null,13,0]
[null,null,14,0]
[null,null,15,0]
[null,null,16,0]
[null,null,17,0]
[null,null,18,0]
[null,null,19,0]
[null,null,20,0]
[null,null,21,0]
[null,null,22,0]
[null,null,23,0]
[null,null,24,0]
[null,null,25,0]
[null,null,26,0]
[null,null,27,0]
[null,null,28,0]
[null,null,29,0]
[null,null,30,0]
[null,null,31,0]
[null,null,32,0]
[null,null,33,0]
[null,null,34,0]
[null,null,35,0]
[null,null,36,0]
[null,null,37,0]
[null,null,38,0]
[null,null,39,0]
[null,null,40,0]
[null,null,41,0]
[null,null,42,0]
[null,null,43,0]
[null,null,44,0]
[null,null,45,0]
[null,null,46,0]
[null,null,47,0]
[null,null,48,0]
[null,null,49,0]
[null,null,50,0]
[null,null,51,0]
[null,null,52,0]
[null,null,53,0]
[null,null,54,0]
[null,null,55,0]
[null,null,56,0]
[null,null,57,0]
[null,null,58,0]
[null,null,59,0]
[null,null,60,0]
[null,null,61,0]
[null,null,62,0]
[null,null,63,0]
[null,null,64,0]
[null,null,65,0]
[null,null,66,0]
[null,null,{"$f":"C72+1","v":67},0]
[null,null,68,0]
[null,null,69,0]
[null,null,70,0]
[null,null,71,0]
[null,null,72,0]
[null,null,73,0]
[null,null,74,0]
[null,null,75,0]
[null,null,76,0]
[null,null,77,0]
[null,null,78,0]
[null,null,79,0]
[null,null,80,0]
[null,null,81,0]
[null,null,82,0]
[null,null,83,0]
[null,null,84,0]
[null,null,85,0]
[null,null,86,0]
[null,null,87,0]
[null,null,88,0]
[null,null,89,0]
[null,null,90,0]
[null,null,91,0]
[null,null,92,0]
[null,null,93,0]
[null,null,94,0]
[null,null,95,0]
[null,null,96,0]
[null,null,97,0]
[null,null,98,0]
[null,null,99,0]
[null,null,100,0]
[null,null,101,0]
[null,null,102,0]
[null,null,103,0]
[null,null,104,0]
[null,null,105,0]
[null,null,106,0]
[null,null,107,0]
[null,null,108,0]
[null,null,109,0]
[null,null,110,0]
[null,null,111,0]
[null,null,112,0]
[null,null,113,0]
[null,null,114,0]
[null,null,115,{"$f":"$E$3","v":0}]
[null,null,116,0]
[null,null,117,0]
[null,null,118,0]
[null,null,119,0]
[null,null,120,0]
[null,null,121,0]
[null,null,122,0]
[null,null,123,0]
[null,null,124,0]
[null,null,125,0]
[null,null,126,0]
[null,null,127,0]
[null,null,128,0]
[null,null,129,0]
[null,null,130,0]
[null,null,{"$f":"C136+1","v":131},0]
[null,null,132,0]
[null,null,133,0]
[null,null,134,0]
[null,null,135,0]
[null,null,136,0]
[null,null,137,0]
[null,null,138,0]
[null,null,139,0]
[null,null,140,0]
[null,null,141,0]
[null,null,142,0]
[null,null,143,0]
[null,null,144,0]
[null,null,145,0]
[null,null,146,0]
[null,null,147,0]
[null,null,148,0]
[null,null,149,0]
[null,null,150,0]
[null,null,151,0]
[null,null,152,0]
[null,null,153,0]
[null,null,154,0]
[null,null,155,0]
[null,null,156,0]
[null,null,157,0]
[null,null,158,0]
[null,null,159,0]
[null,null,160,0]
[null,null,161,0]
[null,null,162,0]
[null,null,163,0]
[null,null,164,0]
[null,null,165,0]
[null,null,166,0]
[null,null,167,0]
[null,null,168,0]
[null,null,169,0]
[null,null,170,0]
[null,null,171,0]
[null,null,172,0]
[null,null,173,0]
[null,null,174,0]
[null,null,175,0]
[null,null,176,0]
[null,null,177,0]
[null,null,178,0]
[null,null,179,{"$f":"$E$3","v":0}]
[null,null,180,0]
[null,null,181,0]
[null,null,182,0]
[null,null,183,0]
[null,null,184,0]
[null,null,185,0]
[null,null,186,0]
[null,null,187,0]
[null,null,188,0]
[null,null,189,0]
[null,null,190,0]
[null,null,191,0]
[null,null,192,0]
[null,null,193,0]
[null,null,194,0]
[null,null,{"$f":"C200+1","v":195},0]
[null,null,196,0]
[null,null,197,0]
[null,null,198,0]
[null,null,199,0]
[null,null,200,0]

{"sheet":"地域活動支援・機関ネットワーク（随時入力用）","index":3,"n_rows":220,"n_cols":72,"rows_kept":220,"cut":false,"hidden":false,"merged":[[3,2,5,2],[3,3,5,3],[3,4,3,26],[3,28,3,52],[0,0,0,2],[1,4,1,9],[3,0,5,0],[3,1,5,1],[3,55,5,55],[4,4,4,15],[4,16,4,20],[4,21,4,26],[4,28,4,39],[4,40,4,52]]}
[{"$f":"センター基礎情報!A3","v":"令和8年度"},null,null,"地域活動支援・機関ネットワーク関係実績報告書"]
[null,null,null,null,{"$f":"センター基礎情報!A6","v":0},null,null,null,null,null,"地域包括支援センター"]
[null,null,null,null,null,null,null,null,null,null,null,null,null,null,null,null,null,null,null,null,null,null,null,null,null,null,null,null,null,null,null,null,null,null,null,null,null,null,null,null,null,null,null,null,null,null,null,null,null,null,null,null,null,null,null,null,null,null,"※包括で必要だと思う項目を追記してください"]
["月","日","NO","対象機関名・\nイベント名等","対象機関(主催団体・機関）属性",null,null,null,null,null,null,null,null,null,null,null,null,null,null,null,null,null,null,null,null,null,null,null,"地域包括支援センターが行った活動・支援",null,null,null,null,null,null,null,null,null,null,null,null,null,null,null,null,null,null,null,null,null,null,null,null,null,null,"備考"]
[null,null,null,null,"地域",null,null,null,null,null,null,null,null,null,null,null,"施設等",null,null,null,null,"専門機関",null,null,null,null,null,null,"活動・支援を行った対象機関の活動の場の内訳",null,null,null,null,null,null,null,null,null,null,null,"活動・支援内容内訳"]
[null,null,null,null,"民児協","町会・自治会","老人会・老人クラブ","地区社協",null,"その他ボランティア団体","家族会・当事者グループ","自主活動団体","団地・マンション管理組合等","商店会等商業関係","ＪＡ・郵便局等金融関係","その他","いこいの家","老人福祉センター","小規模多機能型施設・\nグループホーム","学校等教育関係","その他","居宅介護支援事業所・\n介護支援専門員連絡会等","介護サービス事業所・\n介護サービス連絡会等","区地域支援担当","警察・消防","医療機関","その他",null,"会食会","ミニデイ","公園体操","その他体操関連","サロン","趣味の会","お祭り等地域のイベント","健康教室","いこい元気広場",null,"定例会・会議・研修会等","その他","参加・見学(顔合わせ）","包括についての周知・広報","介護保険制度についての説明等","権利擁護関連について周知・広報","認知症について普及啓発","介護予防等のミニ講話・説明等","相談・意見交換会","事例検討会への協力・支援","研修会等への協力・支援","委員・メンバーとして協力・支援","その他情報提供","場所の提供","その他","新規ネットワーク構築に向けてのアプローチ"]
[null,null,"年計",null,{"$f":"E220","v":0},{"$f":"F220","v":0},0,0,0,0,0,0,0,0,0,0,0,0,0,0,0,0,0,0,0,0,0,null,{"$f":"AC220","v":0},{"$f":"AD220","v":0},0,0,0,0,0,0,0,0,0,0,0,0,0,0,0,0,0,0,0,0,0,0,0,0,null,null,{"$f":"BE220","v":0},0,0,0,0,0,0,0,0,0,0,0,0,0,0,0]
[null,null,null,"9行目から入力してください"]
[null,null,1]
[null,null,{"$f":"C9+1","v":2}]
[null,null,{"$f":"C10+1","v":3}]
[null,null,4]
[null,null,5]
[null,null,6]
[null,null,7]
[null,null,8]
[null,null,9]
[null,null,10]
[null,null,11]
[null,null,12]
[null,null,13]
[null,null,14]
[null,null,15]
[null,null,16]
[null,null,17]
[null,null,18]
[null,null,19]
[null,null,20]
[null,null,21]
[null,null,22]
[null,null,23]
[null,null,24]
[null,null,25]
[null,null,26]
[null,null,27]
[null,null,28]
[null,null,29]
[null,null,30]
[null,null,31]
[null,null,32]
[null,null,33]
[null,null,34]
[null,null,35]
[null,null,36]
[null,null,37]
[null,null,38]
[null,null,39]
[null,null,40]
[null,null,41]
[null,null,42]
[null,null,43]
[null,null,44]
[null,null,45]
[null,null,46]
[null,null,47]
[null,null,48]
[null,null,49]
[null,null,50]
[null,null,51]
[null,null,52]
[null,null,53]
[null,null,54]
[null,null,55]
[null,null,56]
[null,null,57]
[null,null,58]
[null,null,59]
[null,null,60]
[null,null,61]
[null,null,62]
[null,null,63]
[null,null,64]
[null,null,65]
[null,null,66]
[null,null,{"$f":"C74+1","v":67}]
[null,null,68]
[null,null,69]
[null,null,70]
[null,null,71]
[null,null,72]
[null,null,73]
[null,null,74]
[null,null,75]
[null,null,76]
[null,null,77]
[null,null,78]
[null,null,79]
[null,null,80]
[null,null,81]
[null,null,82]
[null,null,83]
[null,null,84]
[null,null,85]
[null,null,86]
[null,null,87]
[null,null,88]
[null,null,89]
[null,null,90]
[null,null,91]
[null,null,92]
[null,null,93]
[null,null,94]
[null,null,95]
[null,null,96]
[null,null,97]
[null,null,98]
[null,null,99]
[null,null,100]
[null,null,101]
[null,null,102]
[null,null,103]
[null,null,104]
[null,null,105]
[null,null,106]
[null,null,107]
[null,null,108]
[null,null,109]
[null,null,110]
[null,null,111]
[null,null,112]
[null,null,113]
[null,null,114]
[null,null,115]
[null,null,116]
[null,null,117]
[null,null,118]
[null,null,119]
[null,null,120]
[null,null,121]
[null,null,122]
[null,null,123]
[null,null,124]
[null,null,125]
[null,null,126]
[null,null,127]
[null,null,128]
[null,null,129]
[null,null,130]
[null,null,{"$f":"C138+1","v":131}]
[null,null,132]
[null,null,133]
[null,null,134]
[null,null,135]
[null,null,136]
[null,null,137]
[null,null,138]
[null,null,139]
[null,null,140]
[null,null,141]
[null,null,142]
[null,null,143]
[null,null,144]
[null,null,145]
[null,null,146]
[null,null,147]
[null,null,148]
[null,null,149]
[null,null,150]
[null,null,151]
[null,null,152]
[null,null,153]
[null,null,154]
[null,null,155]
[null,null,156]
[null,null,157]
[null,null,158]
[null,null,159]
[null,null,160]
[null,null,161]
[null,null,162]
[null,null,163]
[null,null,164]
[null,null,165]
[null,null,166]
[null,null,167]
[null,null,168]
[null,null,169]
[null,null,170]
[null,null,171]
[null,null,172]
[null,null,173]
[null,null,174]
[null,null,175]
[null,null,176]
[null,null,177]
[null,null,178]
[null,null,179]
[null,null,180]
[null,null,181]
[null,null,182]
[null,null,183]
[null,null,184]
[null,null,185]
[null,null,186]
[null,null,187]
[null,null,188]
[null,null,189]
[null,null,190]
[null,null,191]
[null,null,192]
[null,null,193]
[null,null,194]
[null,null,{"$f":"C202+1","v":195}]
[null,null,196]
[null,null,197]
[null,null,198]
[null,null,199]
[null,null,200]
[null,null,201]
[null,null,202]
[null,null,203]
[null,null,204]
[null,null,205]
[null,null,206]
[null,null,207]
[null,null,208]
[null,null,209]
[null,null,210]
["行を挿入する場合は、この行よりも上に挿入してください。"]
[null,null,"年計",null,{"$f":"SUM(E9:E219)","v":0},{"$f":"SUM(F9:F219)","v":0},0,0,0,0,0,0,0,0,0,0,0,{"$f":"SUM(R9:R219)","v":0},0,0,0,0,0,0,0,0,0,null,{"$f":"SUM(AC9:AC219)","v":0},0,0,0,0,0,0,0,0,0,0,0,0,0,0,0,0,0,0,0,0,0,0,0,0,0,null,null,{"$f":"SUM(BE9:BE219)","v":0},0,0,0,0,0,0,0,0,0,0,0,0,0,0,0]

{"sheet":"継続対応ケース（月締入力用）","index":4,"n_rows":15,"n_cols":15,"rows_kept":15,"cut":false,"hidden":false,"merged":[[8,0,8,1],[9,0,9,1],[13,0,13,1],[14,0,14,1],[1,2,1,4],[4,0,4,1],[5,0,5,1],[6,0,6,1],[7,0,7,1]]}
[{"$f":"センター基礎情報!A3","v":"令和8年度"},"高齢者実態把握事業報告書"]
[null,null,{"$f":"センター基礎情報!A6","v":0},null,null,"地域包括支援センター"]
["１　継続対応中の対象者（各月の月締め時点）"]
[null,null,"４月","５月","６月","７月","８月","９月","１０月","１１月","１２月","１月","２月","３月","最新"]
["権利擁護・虐待",null,null,null,null,null,null,null,null,null,null,null,null,null,{"$f":"INDEX(C5:N5,MATCH(MAX(C5:N5)+1,C5:N5,1))","v":{"$error":"#N/A"}}]
["他機関と連携して介入",null,null,null,null,null,null,null,null,null,null,null,null,null,{"$error":"#N/A"}]
["包括以外に関わり無等",null,null,null,null,null,null,null,null,null,null,null,null,null,{"$error":"#N/A"}]
["その他",null,null,null,null,null,null,null,null,null,null,null,null,null,{"$error":"#N/A"}]
["継続対応者計",null,{"$f":"SUM(C5:C8)","v":0},{"$f":"SUM(D5:D8)","v":0},0,0,0,0,0,0,0,0,0,0,0]
["継続対応者のうち、支援拒否",null,null,null,null,null,null,null,null,null,null,null,null,null,{"$error":"#N/A"}]
[]
["２　その他の実態把握対象者"]
[null,null,"４月","５月","６月","７月","８月","９月","１０月","１１月","１２月","１月","２月","３月","最新"]
["実態把握対象者",null,null,null,null,null,null,null,null,null,null,null,null,null,{"$f":"INDEX(C14:N14,MATCH(MAX(C14:N14)+1,C14:N14,1))","v":{"$error":"#N/A"}}]
["継続的にかかわっていない実態把握対象者のモニタリング件数",null,null,null,null,null,null,null,null,null,null,null,null,null,{"$f":"INDEX(C15:N15,MATCH(MAX(C15:N15)+1,C15:N15,1))","v":{"$error":"#N/A"}}]

{"sheet":"介護予防ケアマネジメント（月締入力用）","index":5,"n_rows":16,"n_cols":59,"rows_kept":16,"cut":false,"hidden":false,"merged":[[1,2,1,4],[4,0,6,0],[7,0,9,0],[10,0,12,0],[13,0,15,0]]}
[{"$f":"センター基礎情報!A3","v":"令和8年度"},"介護予防ケアマネジメント事業実績報告書"]
[null,null,{"$f":"センター基礎情報!A6","v":0},null,null,"地域包括支援センター"]
["各月の国保連請求件数を記載",null,null,null,null,null,null,null,null,null,null,null,null,null,null,null,null,null,null,null,null,null,null,null,null,null,null,null,null,null,null,null,null,null,null,null,null,null,null,null,null,null,null,null,null,null,null,null,null,null,null,null,null,null,null,null,null,null,"※包括で必要だと思う項目を追記してください"]
[null,null,"４月\n（５月請求）","５月\n（６月請求）","６月\n（７月請求）","７月\n（８月請求）","８月\n（９月請求）","９月\n（１０月請求）","１０月\n（１１月請求）","１１月\n（１２月請求）","１２月\n（１月請求）","１月\n（２月請求）","２月\n（３月請求）","３月\n（４月請求）","年間計"]
["介護予防支援","直営",null,null,null,null,null,null,null,null,null,null,null,null,{"$f":"SUM(C5:N5)","v":0}]
[null,"委託",null,null,null,null,null,null,null,null,null,null,null,null,0]
[null,"小計",{"$f":"SUM(C5:C6)","v":0},{"$f":"SUM(D5:D6)","v":0},0,0,0,0,0,0,0,0,0,0,0]
["ケアマネジメントA","直営",null,null,null,null,null,null,null,null,null,null,null,null,0]
[null,"委託",null,null,null,null,null,null,null,null,null,null,null,null,0]
[null,"小計",{"$f":"SUM(C8:C9)","v":0},{"$f":"SUM(D8:D9)","v":0},0,0,0,0,0,0,0,0,0,0,0]
["ケアマネジメントC","直営",null,null,null,null,null,null,null,null,null,null,null,null,0]
[null,"委託"]
[null,"小計",{"$f":"SUM(C11:C12)","v":0},0,0,0,0,0,0,0,0,0,0,0,{"$f":"SUM(C13:N13)","v":0}]
["総計","直営",{"$f":"SUM(C5,C8,C11)","v":0},{"$f":"SUM(D5,D8,D11)","v":0},0,0,0,0,0,0,0,0,0,0,{"$f":"SUM(C14:N14)","v":0}]
[null,"委託",{"$f":"SUM(C6,C9,C12)","v":0},{"$f":"SUM(D6,D9,D12)","v":0},0,0,0,0,0,0,0,0,0,0,{"$f":"SUM(C15:N15)","v":0}]
[null,"小計",{"$f":"SUM(C14:C15)","v":0},{"$f":"SUM(D14:D15)","v":0},0,0,0,0,0,0,0,0,0,0,{"$f":"SUM(C16:N16)","v":0}]

{"sheet":"集計シート","index":6,"n_rows":309,"n_cols":3,"rows_kept":309,"cut":false,"hidden":false,"merged":[[2,2,3,2],[244,0,245,0],[4,0,4,1],[5,0,7,0],[156,0,159,0],[160,0,160,1],[308,0,308,1],[165,0,165,1],[228,0,230,0],[250,0,262,0],[263,0,268,0],[171,0,177,0],[240,0,240,1],[269,0,275,0],[290,0,290,1],[234,0,234,1],[235,0,236,0],[237,0,237,1],[238,0,239,0],[241,0,242,0],[243,0,243,1]]}
["地域包括支援センター業務実績報告書 "]
[]
["１．個別ケース相談受付実績",null,{"$f":"センター基礎情報!A6","v":0}]
["●【1】相談受付分類"]
["地域包括支援センターが新規・再相談を受けた件数",null,{"$f":"SUM(C6:C8)","v":0}]
["（内訳）","新規ケース",{"$f":"'個別ケース相談対応（日報入力用）'!F$5","v":0}]
[null,"再相談ケース",{"$f":"'個別ケース相談対応（日報入力用）'!G$5","v":0}]
[null,"不明",{"$f":"'個別ケース相談対応（日報入力用）'!H$5","v":0}]
[]
["●【２】相談受付方法　※複数回答有"]
["来所（包括支援Ｃ内）",null,{"$f":"'個別ケース相談対応（日報入力用）'!I$5","v":0}]
["ＴＥＬ",null,{"$f":"'個別ケース相談対応（日報入力用）'!J$5","v":0}]
["訪問",null,{"$f":"'個別ケース相談対応（日報入力用）'!K$5","v":0}]
["メール",null,{"$f":"'個別ケース相談対応（日報入力用）'!L$5","v":0}]
["その他",null,{"$f":"'個別ケース相談対応（日報入力用）'!M$5","v":0}]
[]
["●【３】相談経路　※複数回答有"]
["家族",null,{"$f":"'個別ケース相談対応（日報入力用）'!N$5","v":0}]
["知人・友人",null,{"$f":"'個別ケース相談対応（日報入力用）'!O$5","v":0}]
["地域住民",null,{"$f":"'個別ケース相談対応（日報入力用）'!P$5","v":0}]
["ケアマネジャー",null,{"$f":"'個別ケース相談対応（日報入力用）'!Q$5","v":0}]
["事業所",null,{"$f":"'個別ケース相談対応（日報入力用）'!R$5","v":0}]
["民生委員",null,{"$f":"'個別ケース相談対応（日報入力用）'!S$5","v":0}]
["リーフレット",null,{"$f":"'個別ケース相談対応（日報入力用）'!T$5","v":0}]
["インターネット",null,{"$f":"'個別ケース相談対応（日報入力用）'!U$5","v":0}]
["行政機関",null,{"$f":"'個別ケース相談対応（日報入力用）'!V$5","v":0}]
["医療機関",null,{"$f":"'個別ケース相談対応（日報入力用）'!W$5","v":0}]
["不明",null,{"$f":"'個別ケース相談対応（日報入力用）'!X$5","v":0}]
["その他",null,{"$f":"'個別ケース相談対応（日報入力用）'!Y$5","v":0}]
[]
["●【４】相談者　※複数回答有"]
["本人",null,{"$f":"'個別ケース相談対応（日報入力用）'!Z$5","v":0}]
["家族・親族",null,{"$f":"'個別ケース相談対応（日報入力用）'!AA$5","v":0}]
["友人",null,{"$f":"'個別ケース相談対応（日報入力用）'!AB$5","v":0}]
["民生委員",null,{"$f":"'個別ケース相談対応（日報入力用）'!AC$5","v":0}]
["町会・自治会・地域住民など",null,{"$f":"'個別ケース相談対応（日報入力用）'!AD$5","v":0}]
["ケアマネジャー",null,{"$f":"'個別ケース相談対応（日報入力用）'!AE$5","v":0}]
["サービス事業所",null,{"$f":"'個別ケース相談対応（日報入力用）'!AF$5","v":0}]
["障害関係事業所",null,{"$f":"'個別ケース相談対応（日報入力用）'!AG$5","v":0}]
["医療機関",null,{"$f":"'個別ケース相談対応（日報入力用）'!AH$5","v":0}]
["弁護士・司法書士など（権利擁護）",null,{"$f":"'個別ケース相談対応（日報入力用）'!AI$5","v":0}]
["区役所（高齢者支援係）",null,{"$f":"'個別ケース相談対応（日報入力用）'!AJ$5","v":0}]
["区役所（介護認定給付係）",null,{"$f":"'個別ケース相談対応（日報入力用）'!AK$5","v":0}]
["区役所（保護課）",null,{"$f":"'個別ケース相談対応（日報入力用）'!AL$5","v":0}]
["区役所（障害者支援係）",null,{"$f":"'個別ケース相談対応（日報入力用）'!AM$5","v":0}]
["区役所（地域支援課）",null,{"$f":"'個別ケース相談対応（日報入力用）'!AN$5","v":0}]
["区役所（その他）",null,{"$f":"'個別ケース相談対応（日報入力用）'!AO$5","v":0}]
["その他",null,{"$f":"'個別ケース相談対応（日報入力用）'!AP$5","v":0}]
["不明",null,{"$f":"'個別ケース相談対応（日報入力用）'!AQ$5","v":0}]
[]
["●【５】本人の年齢"]
["65歳未満",null,{"$f":"'個別ケース相談対応（日報入力用）'!AR$5","v":0}]
["65～74歳",null,{"$f":"'個別ケース相談対応（日報入力用）'!AS$5","v":0}]
["75～85歳",null,{"$f":"'個別ケース相談対応（日報入力用）'!AT$5","v":0}]
["85歳歳以上",null,{"$f":"'個別ケース相談対応（日報入力用）'!AU$5","v":0}]
["不明",null,{"$f":"'個別ケース相談対応（日報入力用）'!AV$5","v":0}]
[]
["●【６】本人の性別"]
["男性",null,{"$f":"'個別ケース相談対応（日報入力用）'!AW$5","v":0}]
["女性",null,{"$f":"'個別ケース相談対応（日報入力用）'!AX$5","v":0}]
["その他",null,{"$f":"'個別ケース相談対応（日報入力用）'!AY$5","v":0}]
["不明",null,{"$f":"'個別ケース相談対応（日報入力用）'!AZ$5","v":0}]
[]
["●【７】世帯構成"]
["独居",null,{"$f":"'個別ケース相談対応（日報入力用）'!BB$5","v":0}]
["夫婦のみ",null,{"$f":"'個別ケース相談対応（日報入力用）'!BC$5","v":0}]
["家族と同居",null,{"$f":"'個別ケース相談対応（日報入力用）'!BD$5","v":0}]
["その他",null,{"$f":"'個別ケース相談対応（日報入力用）'!BE$5","v":0}]
["不明",null,{"$f":"'個別ケース相談対応（日報入力用）'!BF$5","v":0}]
[]
["●【８】認定申請状況"]
["未申請",null,{"$f":"'個別ケース相談対応（日報入力用）'!BG$5","v":0}]
["申請中",null,{"$f":"'個別ケース相談対応（日報入力用）'!BH$5","v":0}]
["事業対象者",null,{"$f":"'個別ケース相談対応（日報入力用）'!BI$5","v":0}]
["要支援１",null,{"$f":"'個別ケース相談対応（日報入力用）'!BJ$5","v":0}]
["要支援２",null,{"$f":"'個別ケース相談対応（日報入力用）'!BK$5","v":0}]
["要介護１",null,{"$f":"'個別ケース相談対応（日報入力用）'!BL$5","v":0}]
["要介護２",null,{"$f":"'個別ケース相談対応（日報入力用）'!BM$5","v":0}]
["要介護３",null,{"$f":"'個別ケース相談対応（日報入力用）'!BN$5","v":0}]
["要介護４",null,{"$f":"'個別ケース相談対応（日報入力用）'!BO$5","v":0}]
["要介護５",null,{"$f":"'個別ケース相談対応（日報入力用）'!BP$5","v":0}]
["不明",null,{"$f":"'個別ケース相談対応（日報入力用）'!BQ$5","v":0}]
[]
["●【９】相談内容（主訴）　※複数回答有"]
["介護給付",null,{"$f":"'個別ケース相談対応（日報入力用）'!BR$5","v":0}]
["予防給付・総合事業",null,{"$f":"'個別ケース相談対応（日報入力用）'!BS$5","v":0}]
["介護保険関連（申請）",null,{"$f":"'個別ケース相談対応（日報入力用）'!BT$5","v":0}]
["本人の介護に関する相談",null,{"$f":"'個別ケース相談対応（日報入力用）'!BU$5","v":0}]
["介護者の負担",null,{"$f":"'個別ケース相談対応（日報入力用）'!BV$5","v":0}]
["介護離職",null,{"$f":"'個別ケース相談対応（日報入力用）'!BW$5","v":0}]
["障害等他分野の相談",null,{"$f":"'個別ケース相談対応（日報入力用）'!BX$5","v":0}]
["複合的な課題",null,{"$f":"'個別ケース相談対応（日報入力用）'!BY$5","v":0}]
["市単サービス",null,{"$f":"'個別ケース相談対応（日報入力用）'!BZ$5","v":0}]
["インフォーマルサポート",null,{"$f":"'個別ケース相談対応（日報入力用）'!CA$5","v":0}]
["施設入所",null,{"$f":"'個別ケース相談対応（日報入力用）'!CB$5","v":0}]
["介護方法等",null,{"$f":"'個別ケース相談対応（日報入力用）'!CC$5","v":0}]
["医療・健康管理全般",null,{"$f":"'個別ケース相談対応（日報入力用）'!CD$5","v":0}]
["安否確認",null,{"$f":"'個別ケース相談対応（日報入力用）'!CE$5","v":0}]
["判断能力を欠く常況（成年後見含む）",null,{"$f":"'個別ケース相談対応（日報入力用）'!CF$5","v":0}]
["認知症（判断能力低下など疑い含む）",null,{"$f":"'個別ケース相談対応（日報入力用）'!CG$5","v":0}]
["支援拒否・援助希求無",null,{"$f":"'個別ケース相談対応（日報入力用）'!CH$5","v":0}]
["虐待",null,{"$f":"'個別ケース相談対応（日報入力用）'!CI$5","v":0}]
["生活保護・困窮・経済的な相談",null,{"$f":"'個別ケース相談対応（日報入力用）'!CJ$5","v":0}]
["その他生活上の課題（生活支援）",null,{"$f":"'個別ケース相談対応（日報入力用）'!CK$5","v":0}]
["苦情・トラブル",null,{"$f":"'個別ケース相談対応（日報入力用）'!CL$5","v":0}]
["その他",null,{"$f":"'個別ケース相談対応（日報入力用）'!CM$5","v":0}]
[]
["●【10】緊急レベル"]
["レベル１（一般的な問い合わせ）",null,{"$f":"'個別ケース相談対応（日報入力用）'!CN$5","v":0}]
["レベル２（相談者自身で対応が可能）",null,{"$f":"'個別ケース相談対応（日報入力用）'!CO$5","v":0}]
["レベル３（専門的・継続的な支援が必要）",null,{"$f":"'個別ケース相談対応（日報入力用）'!CP$5","v":0}]
["レベル４（緊急対応が必要）",null,{"$f":"'個別ケース相談対応（日報入力用）'!CQ$5","v":0}]
[]
["●【11】対応方針（月締め時点）　※複数回答有"]
["予防プラン作成等",null,{"$f":"'個別ケース相談対応（日報入力用）'!CR$5","v":0}]
["状態改善のための集中支援",null,{"$f":"'個別ケース相談対応（日報入力用）'!CS$5","v":0}]
["居宅サービス利用",null,{"$f":"'個別ケース相談対応（日報入力用）'!CT$5","v":0}]
["施設入所",null,{"$f":"'個別ケース相談対応（日報入力用）'!CU$5","v":0}]
["医療へのつなぎ",null,{"$f":"'個別ケース相談対応（日報入力用）'!CV$5","v":0}]
["その他福祉サービス・相談機関の紹介",null,{"$f":"'個別ケース相談対応（日報入力用）'!CW$5","v":0}]
["インフォーマルサポート・サービス",null,{"$f":"'個別ケース相談対応（日報入力用）'!CX$5","v":0}]
["高齢者虐待",null,{"$f":"'個別ケース相談対応（日報入力用）'!DA$5","v":0}]
["その他権利擁護",null,{"$f":"'個別ケース相談対応（日報入力用）'!DA$5","v":0}]
["支援困難事例等として介入（虐待以外）",null,{"$f":"'個別ケース相談対応（日報入力用）'!DB$5","v":0}]
["その他継続対応（見守り等）",null,{"$f":"'個別ケース相談対応（日報入力用）'!DC$5","v":0}]
["対応保留・連絡待ち等",null,{"$f":"'個別ケース相談対応（日報入力用）'!DD$5","v":0}]
["その他",null,{"$f":"'個別ケース相談対応（日報入力用）'!DE$5","v":0}]
[]
["●【12】調整先（月締め時点）　※複数回答有"]
["本人",null,{"$f":"'個別ケース相談対応（日報入力用）'!DE$5","v":0}]
["家族・親族",null,{"$f":"'個別ケース相談対応（日報入力用）'!DF$5","v":0}]
["民生委員",null,{"$f":"'個別ケース相談対応（日報入力用）'!DG$5","v":0}]
["町内会・自治会・地域住民など",null,{"$f":"'個別ケース相談対応（日報入力用）'!DH$5","v":0}]
["ケアマネジャー",null,{"$f":"'個別ケース相談対応（日報入力用）'!DI$5","v":0}]
["介護サービス事業所",null,{"$f":"'個別ケース相談対応（日報入力用）'!DJ$5","v":0}]
["介護予防事業",null,{"$f":"'個別ケース相談対応（日報入力用）'!DK$5","v":0}]
["地域活動",null,{"$f":"'個別ケース相談対応（日報入力用）'!DL$5","v":0}]
["その他インフォーマルサポート・サービス",null,{"$f":"'個別ケース相談対応（日報入力用）'!DM$5","v":0}]
["地域リハビリテーション支援拠点",null,{"$f":"'個別ケース相談対応（日報入力用）'!DN$5","v":0}]
["障害関係事業所",null,{"$f":"'個別ケース相談対応（日報入力用）'!DO$5","v":0}]
["医療機関",null,{"$f":"'個別ケース相談対応（日報入力用）'!DP$5","v":0}]
["区役所（高齢）",null,{"$f":"'個別ケース相談対応（日報入力用）'!DQ$5","v":0}]
["区役所（認定給付）",null,{"$f":"'個別ケース相談対応（日報入力用）'!DR$5","v":0}]
["区役所（保護）",null,{"$f":"'個別ケース相談対応（日報入力用）'!DS$5","v":0}]
["区役所（障害・精神）",null,{"$f":"'個別ケース相談対応（日報入力用）'!DT$5","v":0}]
["区役所（地域支援）",null,{"$f":"'個別ケース相談対応（日報入力用）'!DU$5","v":0}]
["その他行政",null,{"$f":"'個別ケース相談対応（日報入力用）'!DV$5","v":0}]
["生活支援コーディネーター",null,{"$f":"'個別ケース相談対応（日報入力用）'!DW$5","v":0}]
["権利擁護機関",null,{"$f":"'個別ケース相談対応（日報入力用）'!DX$5","v":0}]
["住まい関係の機関・団体・事業所",null,{"$f":"'個別ケース相談対応（日報入力用）'!DY$5","v":0}]
["その他",null,{"$f":"'個別ケース相談対応（日報入力用）'!DZ$5","v":0}]
[]
[]
["２．実態把握事業"]
["●【1】継続対応中　※給付管理対象者以外"]
["継続対応中",null,{"$f":"'継続対応ケース（月締入力用）'!O$9","v":0}]
["(内訳）","権利擁護・虐待",{"$f":"'継続対応ケース（月締入力用）'!O$5","v":{"$error":"#N/A"}}]
[null,"他機関と連携して介入",{"$f":"'継続対応ケース（月締入力用）'!O$6","v":{"$error":"#N/A"}}]
[null,"包括以外に関わり無等",{"$f":"'継続対応ケース（月締入力用）'!O$7","v":{"$error":"#N/A"}}]
[null,"その他",{"$f":"'継続対応ケース（月締入力用）'!O$8","v":{"$error":"#N/A"}}]
["うち、支援拒否",null,{"$f":"'継続対応ケース（月締入力用）'!O$10","v":{"$error":"#N/A"}}]
[]
["●【2】その他の実態把握対象者　※給付管理対象者以外"]
["上記以外の実態把握対象者",null,{"$f":"'継続対応ケース（月締入力用）'!O$14","v":{"$error":"#N/A"}}]
["(内訳）","実態把握対象者",{"$f":"'継続対応ケース（月締入力用）'!O$14","v":{"$error":"#N/A"}}]
["継続的にかかわっていない実態把握対象者のモニタリング件数",null,{"$f":"'継続対応ケース（月締入力用）'!O$15","v":{"$error":"#N/A"}}]
[]
[]
["３．包括的・継続的ケアマネジメント支援事業実績"]
["●【1】個別ケア会議"]
["個別ケア会議開催件数",null,{"$f":"'個別ケア会議（随時入力用）'!E6+'個別ケア会議（随時入力用）'!F6","v":0}]
["(開催目的）複数選択有","支援方針検討",{"$f":"'個別ケア会議（随時入力用）'!N$6","v":0}]
[null,"専門機関連携",{"$f":"'個別ケア会議（随時入力用）'!O$6","v":0}]
[null,"行政部署との連携",{"$f":"'個別ケア会議（随時入力用）'!P$6","v":0}]
[null,"支援者支援",{"$f":"'個別ケア会議（随時入力用）'!Q$6","v":0}]
[null,"地域連携",{"$f":"'個別ケア会議（随時入力用）'!R$6","v":0}]
[null,"苦情・トラブル",{"$f":"'個別ケア会議（随時入力用）'!S$6","v":0}]
[null,"その他",{"$f":"'個別ケア会議（随時入力用）'!T$6","v":0}]
[]
["●【2】個別ケア会議の参加者　※複数選択有"]
["本人",null,{"$f":"'個別ケア会議（随時入力用）'!V$6","v":0}]
["家族",null,{"$f":"'個別ケア会議（随時入力用）'!W$6","v":0}]
["知人",null,{"$f":"'個別ケア会議（随時入力用）'!X$6","v":0}]
["民生委員",null,{"$f":"'個別ケア会議（随時入力用）'!Y$6","v":0}]
["地域住民(地縁組織含む)",null,{"$f":"'個別ケア会議（随時入力用）'!Z$6","v":0}]
["ケアマネジャー",null,{"$f":"'個別ケア会議（随時入力用）'!AA$6","v":0}]
["介護サービス事業所",null,{"$f":"'個別ケア会議（随時入力用）'!AB$6","v":0}]
["権利擁護専門職",null,{"$f":"'個別ケア会議（随時入力用）'!AC$6","v":0}]
["医療機関・薬局",null,{"$f":"'個別ケア会議（随時入力用）'!AD$6","v":0}]
["地域リハ拠点",null,{"$f":"'個別ケア会議（随時入力用）'!AE$6","v":0}]
["生活支援コーディネーター",null,{"$f":"'個別ケア会議（随時入力用）'!AF$6","v":0}]
["地域ケアコーディネーター",null,{"$f":"'個別ケア会議（随時入力用）'!AG$6","v":0}]
["障害者相談支援センター",null,{"$f":"'個別ケア会議（随時入力用）'!AH$6","v":0}]
["障害サービス事業所",null,{"$f":"'個別ケア会議（随時入力用）'!AI$6","v":0}]
["地域支援室",null,{"$f":"'個別ケア会議（随時入力用）'!AJ$6","v":0}]
["高齢者支援係",null,{"$f":"'個別ケア会議（随時入力用）'!AK$6","v":0}]
["障害者支援係",null,{"$f":"'個別ケア会議（随時入力用）'!AL$6","v":0}]
["精神保健係",null,{"$f":"'個別ケア会議（随時入力用）'!AM$6","v":0}]
["保護課",null,{"$f":"'個別ケア会議（随時入力用）'!AN$6","v":0}]
["地域支援課",null,{"$f":"'個別ケア会議（随時入力用）'!AO$6","v":0}]
["その他行政",null,{"$f":"'個別ケア会議（随時入力用）'!AP$6","v":0}]
["他地域包括支援センター",null,{"$f":"'個別ケア会議（随時入力用）'!AQ$6","v":0}]
["その他",null,{"$f":"'個別ケア会議（随時入力用）'!AR$6","v":0}]
[]
["●【3】個別ケア会議の主な論点　※複数選択有"]
["認知症",null,{"$f":"'個別ケア会議（随時入力用）'!V$6","v":0}]
["障害",null,{"$f":"'個別ケア会議（随時入力用）'!W$6","v":0}]
["精神疾患",null,{"$f":"'個別ケア会議（随時入力用）'!X$6","v":0}]
["身寄り無・KP不在等",null,{"$f":"'個別ケア会議（随時入力用）'!Y$6","v":0}]
["支援拒否・援助希求無",null,{"$f":"'個別ケア会議（随時入力用）'!Z$6","v":0}]
["金銭管理",null,{"$f":"'個別ケア会議（随時入力用）'!AA$6","v":0}]
["成年後見制度関係",null,{"$f":"'個別ケア会議（随時入力用）'!AB$6","v":0}]
["経済問題",null,{"$f":"'個別ケア会議（随時入力用）'!AC$6","v":0}]
["ごみ問題",null,{"$f":"'個別ケア会議（随時入力用）'!AD$6","v":0}]
["医療との連携",null,{"$f":"'個別ケア会議（随時入力用）'!AE$6","v":0}]
["他分野の支援者との連携",null,{"$f":"'個別ケア会議（随時入力用）'!AF$6","v":0}]
["支援者の役割分担",null,{"$f":"'個別ケア会議（随時入力用）'!AG$6","v":0}]
["支援者の経験・スキル",null,{"$f":"'個別ケア会議（随時入力用）'!AH$6","v":0}]
["家族関係・トラブル",null,{"$f":"'個別ケア会議（随時入力用）'!AI$6","v":0}]
["ご近所トラブル",null,{"$f":"'個別ケア会議（随時入力用）'!AJ$6","v":0}]
["他苦情・トラブル",null,{"$f":"'個別ケア会議（随時入力用）'!AK$6","v":0}]
["自立支援・介護予防",null,{"$f":"'個別ケア会議（随時入力用）'!AL$6","v":0}]
["入退院時支援",null,{"$f":"'個別ケア会議（随時入力用）'!AM$6","v":0}]
["健康管理",null,{"$f":"'個別ケア会議（随時入力用）'!AN$6","v":0}]
["その他",null,{"$f":"'個別ケア会議（随時入力用）'!AR$6","v":0}]
[]
["●【4】ケアマネジャーへの支援件数（個別ケア会議以外）"]
["ケアマネジャーへケース対応・支援した件数計"]
["(内訳）","ケース対応支援(同行訪問等）"]
[null,"他機関連携支援"]
[null,"その他　"]
[]
["４．介護予防ケアマネジメント"]
["●担当件数"]
["介護予防支援",null,{"$f":"SUM(C236:C237)","v":0}]
["（内訳）","直営",{"$f":"'介護予防ケアマネジメント（月締入力用）'!O5","v":0}]
[null,"委託",{"$f":"'介護予防ケアマネジメント（月締入力用）'!O6","v":0}]
["介護予防ケアマネジメントA",null,{"$f":"SUM(C239:C240)","v":0}]
["（内訳）","直営",{"$f":"'介護予防ケアマネジメント（月締入力用）'!O8","v":0}]
[null,"委託",{"$f":"'介護予防ケアマネジメント（月締入力用）'!O9","v":0}]
["介護予防ケアマネジメントC",null,{"$f":"SUM(C242:C243)","v":0}]
["（内訳）","直営",{"$f":"'介護予防ケアマネジメント（月締入力用）'!O11","v":0}]
[null,"委託"]
["総計",null,{"$f":"SUM(C245:C246)","v":0}]
["（内訳）","直営",{"$f":"SUM(C236,C239,C242)","v":0}]
[null,"委託",{"$f":"SUM(C237,C240,C243)","v":0}]
[]
["５．地域活動支援・機関連携ネットワーク関係実績"]
["■【１】対象機関(主催団体・機関）属性"]
["地域包括支援センターが関わった団体・機関の件数　計",null,{"$f":"C263+C269+C276","v":0}]
["地域\n","民児協",{"$f":"'地域活動支援・機関ネットワーク（随時入力用）'!E$7","v":0}]
[null,"町会・自治会",{"$f":"'地域活動支援・機関ネットワーク（随時入力用）'!F$7","v":0}]
[null,"老人会・老人クラブ",{"$f":"'地域活動支援・機関ネットワーク（随時入力用）'!G$7","v":0}]
[null,"地区社協",{"$f":"'地域活動支援・機関ネットワーク（随時入力用）'!H$7","v":0}]
[]
[null,"その他ボランティア団体",{"$f":"'地域活動支援・機関ネットワーク（随時入力用）'!J$7","v":0}]
[null,"家族会",{"$f":"'地域活動支援・機関ネットワーク（随時入力用）'!K$7","v":0}]
[null,"自主活動団体",{"$f":"'地域活動支援・機関ネットワーク（随時入力用）'!L$7","v":0}]
[null,"団地・マンション管理組合等",{"$f":"'地域活動支援・機関ネットワーク（随時入力用）'!M$7","v":0}]
[null,"商店会等商業関係",{"$f":"'地域活動支援・機関ネットワーク（随時入力用）'!N$7","v":0}]
[null,"ＪＡ・郵便局等金融関係",{"$f":"'地域活動支援・機関ネットワーク（随時入力用）'!O$7","v":0}]
[null,"その他",{"$f":"'地域活動支援・機関ネットワーク（随時入力用）'!P$7","v":0}]
[null,"小計",{"$f":"SUM(C251:C262)","v":0}]
["施設等\n","いこいの家",{"$f":"'地域活動支援・機関ネットワーク（随時入力用）'!Q$7","v":0}]
[null,"老人福祉センター",{"$f":"'地域活動支援・機関ネットワーク（随時入力用）'!R$7","v":0}]
[null,"小規模多機能型施設・グループホーム",{"$f":"'地域活動支援・機関ネットワーク（随時入力用）'!S$7","v":0}]
[null,"学校等教育関係",{"$f":"'地域活動支援・機関ネットワーク（随時入力用）'!T$7","v":0}]
[null,"その他",{"$f":"'地域活動支援・機関ネットワーク（随時入力用）'!U$7","v":0}]
[null,"小計",{"$f":"SUM(C264:C268)","v":0}]
["専門機関\n団体\n","居宅介護支援事業所・介護支援専門員連絡会等",{"$f":"'地域活動支援・機関ネットワーク（随時入力用）'!V$7","v":0}]
[null,"介護サービス事業所・介護サービス連絡会等",{"$f":"'地域活動支援・機関ネットワーク（随時入力用）'!W$7","v":0}]
[null,"区地域みまもり支援センター",{"$f":"'地域活動支援・機関ネットワーク（随時入力用）'!X$7","v":0}]
[null,"警察・消防",{"$f":"'地域活動支援・機関ネットワーク（随時入力用）'!Y$7","v":0}]
[null,"医療機関",{"$f":"'地域活動支援・機関ネットワーク（随時入力用）'!Z$7","v":0}]
[null,"その他",{"$f":"'地域活動支援・機関ネットワーク（随時入力用）'!AA$7","v":0}]
[null,"小計",{"$f":"SUM(C270:C275)","v":0}]
[]
["■【２】包括が活動・支援を行った対象機関の活動の場の内訳"]
["会食会",null,{"$f":"'地域活動支援・機関ネットワーク（随時入力用）'!AC$7","v":0}]
["ミニデイ",null,{"$f":"'地域活動支援・機関ネットワーク（随時入力用）'!AD$7","v":0}]
["公園体操",null,{"$f":"'地域活動支援・機関ネットワーク（随時入力用）'!AE$7","v":0}]
["その他体操教室等",null,{"$f":"'地域活動支援・機関ネットワーク（随時入力用）'!AF$7","v":0}]
["サロン",null,{"$f":"'地域活動支援・機関ネットワーク（随時入力用）'!AG$7","v":0}]
["趣味の会",null,{"$f":"'地域活動支援・機関ネットワーク（随時入力用）'!AH$7","v":0}]
["お祭り等地域のイベント",null,{"$f":"'地域活動支援・機関ネットワーク（随時入力用）'!AI$7","v":0}]
["健康教室",null,{"$f":"'地域活動支援・機関ネットワーク（随時入力用）'!AJ$7","v":0}]
["いこい元気広場",null,{"$f":"'地域活動支援・機関ネットワーク（随時入力用）'!AK$7","v":0}]
[null,null,{"$f":"'地域活動支援・機関ネットワーク（随時入力用）'!AL$7","v":0}]
["定例会・会議・研修会等",null,{"$f":"'地域活動支援・機関ネットワーク（随時入力用）'!AM$7","v":0}]
["その他",null,{"$f":"'地域活動支援・機関ネットワーク（随時入力用）'!AN$7","v":0}]
["計",null,{"$f":"SUM(C279:C290)","v":0}]
[]
["■【３】包括の活動・支援内容内訳(複数回答有）"]
["参加・見学(顔合わせ）",null,{"$f":"'地域活動支援・機関ネットワーク（随時入力用）'!AO$7","v":0}]
["地域包括支援センターについての周知・広報",null,{"$f":"'地域活動支援・機関ネットワーク（随時入力用）'!AP$7","v":0}]
["介護保険制度についての説明等",null,{"$f":"'地域活動支援・機関ネットワーク（随時入力用）'!AQ$7","v":0}]
["権利擁護関連についての周知・広報",null,{"$f":"'地域活動支援・機関ネットワーク（随時入力用）'!AR$7","v":0}]
["認知症について普及啓発",null,{"$f":"'地域活動支援・機関ネットワーク（随時入力用）'!AS$7","v":0}]
["介護予防等のミニ講話・説明等",null,{"$f":"'地域活動支援・機関ネットワーク（随時入力用）'!AT$7","v":0}]
["相談・意見交換会",null,{"$f":"'地域活動支援・機関ネットワーク（随時入力用）'!AU$7","v":0}]
["事例検討会への協力・支援",null,{"$f":"'地域活動支援・機関ネットワーク（随時入力用）'!AV$7","v":0}]
["研修会等への協力・支援",null,{"$f":"'地域活動支援・機関ネットワーク（随時入力用）'!AW$7","v":0}]
["委員・メンバーとして協力・支援",null,{"$f":"'地域活動支援・機関ネットワーク（随時入力用）'!AX$7","v":0}]
["その他情報提供",null,{"$f":"'地域活動支援・機関ネットワーク（随時入力用）'!AY$7","v":0}]
["場所の提供",null,{"$f":"'地域活動支援・機関ネットワーク（随時入力用）'!AZ$7","v":0}]
["その他",null,{"$f":"'地域活動支援・機関ネットワーク（随時入力用）'!BA$7","v":0}]
[]
["■【４】新規ネットワーク構築に向けてのアプローチ"]
["計",null,{"$f":"'地域活動支援・機関ネットワーク（随時入力用）'!$BB$7","v":0}]

{"sheet":"マスタ","index":7,"n_rows":69,"n_cols":1,"rows_kept":69,"cut":false,"hidden":false,"merged":[]}
["年度"]
["令和7年度"]
["令和8年度"]
["令和9年度"]
["令和10年度"]
["令和11年度"]
["令和12年度"]
["令和13年度"]
["令和14年度"]
["令和15年度"]
["令和16年度"]
["令和17年度"]
["令和18年度"]
["令和19年度"]
["令和20年度"]
["令和21年度"]
["令和22年度"]
[]
[]
["センター名称"]
["01桜寿園"]
["02恒春園"]
["03大師の里"]
["04しおん"]
["05京町"]
["06大師中央"]
["07ビオラ川崎"]
["08大島中島"]
["09藤崎"]
["10幸風苑"]
["11夢見ヶ崎"]
["12かしまだ"]
["13しゃんぐりら"]
["14みんなと暮らす町"]
["15さいわい東"]
["16すみよし"]
["17こだなか"]
["18ひらまの里"]
["19みやうち"]
["20いだ"]
["21とどろき"]
["22わらく"]
["23すえなが"]
["24陽だまりの園"]
["25溝口"]
["26ひさすえ"]
["27樹の丘"]
["28リ・ケア向ヶ丘"]
["29みかど荘"]
["30鷲ヶ峯"]
["31富士見プラザ"]
["32レストア川崎"]
["33フレンド神木"]
["34宮前平"]
["35ビオラ宮崎"]
["36長沢壮寿の里"]
["37多摩川の里"]
["38太陽の園"]
["39菅の里"]
["40しゅくがわら"]
["41よみうりランド花ハウス"]
["42登戸"]
["43柿生アルナ園"]
["44栗木台"]
["45虹の里"]
["46片平"]
["47百合丘"]
["48新百合"]
["49高石"]