Workbook
Name usernameTF: "usernameTF"
Name コンボ・グループ: [1]コンボ!$A$2:$A$11
Name コンボ・状況: [1]コンボ!$B$2:$B$11
Name コンボ状態: [2]コンボ!$B$2:$B$7
Name システム: [3]リスト隠し!$K$5:$K$16
Name スタイル: [3]リスト隠し!$G$5:$G$8
Name データタイプ: [3]リスト隠し!$J$5:$J$15
Name 横配置: [3]リスト隠し!$H$5:$H$9
Name 改行コード: [3]リスト隠し!$C$5:$C$6
Name 種類: [3]リスト隠し!$I$5:$I$9
Name 書式: [3]リスト隠し!$F$5:$F$6
Name 属性: [3]リスト隠し!$B$5:$B$6
Name 大きさ: [3]リスト隠し!$E$5:$E$7
Name 特記事項: [3]リスト隠し!$I$5:$I$7
Name 表示形式: #REF!
Name 表示形式: #REF!
Name 表示形式: #REF!
Name 表示形式: #REF!
Name 用紙種別: [4]コンボボックス!$B$3:$B$36

Sheet 請求書
AV4: 事業所番号：
AW5: 請求日 | BG5: 年 | BL5: 月 | BP5: 日
B6: （宛先）川崎市長
A7: 施設等利用費請求書
C8: 私（請求者）は、特定子ども・子育て支援提供者として、子ども・子育て支援法第３０条の１１第３項の規定に基づき、川崎市に居住している施設等利用給付認定保護者に代わり、施設等利用費を下記の通り申請します。 なお、施設等利用費の審査及び支払いにあたり、次の事項に同意します。
D12: １． | G12: 実際の利用状況等について川崎市が施設等利用給付認定保護者に確認すること。
D13: ２． | G13: 利用料の請求・支払い状況を川崎市が施設等利用給付認定保護者に確認すること。
D14: ３． | G14: 川崎市の要請・質問等に対応すること。
AC16: 所在地
AC19: 幼稚園名
AC22: 設置法人 （設置者） の名称
AC25: 代表者職氏名
B29: 1．施設等利用費請求金額
B30: 請求する 年 月 分 | T30: 年 | AA30: 月分 | AF30: 請 求 金 額 | AQ30: =請求金額!F17 -> 0 | BL30: 円
B32: 子育て支援の提供時間帯 | W32: ～
B34: 2．施設等利用費請求金額の内訳
D35: 別紙「施設等利用費内訳書」のとおり
B37: 3．振込先
D38: 前回の請求と同じ口座を希望する場合は、「継続」にチェックしてください。
D39: ※ 可能な限り前回の請求と同じ口座としていただきますよう御協力をお願いいたします。
B40: 区分 | I40: □ | N40: 継続 | V40: □ | AA40: 新規
B42: 金融機関・支店等名 | AK42: 預金種目 | AU42: □ | AX42: 普通 | BE42: □ | BH42: 当座
L43: 銀行・信用金庫 | AF43: 支店 | AK43: 口座番号
L44: 農協・信用組合 | AF44: 出張所 | AK44: 口座名義(カタカナ)

Sheet 請求金額
C3: =IF(請求書!$L$30="","",請求書!$L$30) | D3: 年 | E3: =IF(請求書!$W$30="","",請求書!$W$30) | F3: 月分 | G3: 施設等利用費（保育料）
B5: 当月請求分
C6: 対象人数 | F6: 金額
B7: 満３歳児 | C7: =COUNTIF('【令和８年度】内訳書（当月請求）満３歳'!$J$8:$J$307,"対象") -> 0 | E7: 人 | F7: =SUM('【令和８年度】内訳書（当月請求）満３歳'!$Q$8:$Q$307) -> 0 | H7: 円
B8: 年少 | C8: =COUNTIF('【令和８年度】内訳書（当月請求）年少'!$J$8:$J$307,"対象") -> 0 | E8: 人 | F8: =SUM('【令和８年度】内訳書（当月請求）年少'!$Q$8:$Q$307) -> 0 | H8: 円
B9: 年中 | C9: =COUNTIF('【令和８年度】内訳書（当月請求）年中'!$J$8:$J$307,"対象") -> 0 | E9: 人 | F9: =SUM('【令和８年度】内訳書（当月請求）年中'!$Q$8:$Q$307) -> 0 | H9: 円
B10: 年長 | C10: =COUNTIF('【令和８年度】内訳書（当月請求）年長'!$J$8:$J$307,"対象") -> 0 | E10: 人 | F10: =SUM('【令和８年度】内訳書（当月請求）年長'!$Q$8:$Q$307) -> 0 | H10: 円
B11: 合計 | C11: =SUM(C7:D10) -> 0 | E11: 人 | F11: =SUM(F7:G10) -> 0 | H11: 円 | I11: ・・・Ａ
B13: 追加調整分
C14: 対象人数 | F14: 金額
B15: 合計 | C15: =COUNTA('【令和８年度】内訳書（追加調整）'!$C$8:$C$407) -> 0 | E15: 人 | F15: =SUM('【令和８年度】内訳書（追加調整）'!$W$8:$W$407) -> 0 | H15: 円 | I15: ・・・Ｂ
B17: 請求金額合計 | F17: =SUM(F11,F15) -> 0 | H17: 円 | I17: Ａ+Ｂ

Sheet 【令和８年度】内訳書（当月請求）満３歳
B1: 施設等利用費請求金額内訳書（当月請求分 満３歳） | M1: 子ども子育て支援の提供時間帯 | N1: =請求書!$W$32 -> ～ | R1: 46113 | S1: 45748
B3: No. | C3: 認定子ども | K3: 入園料納付額 | N3: 保育料 納付額 d | O3: 納付額合計 e=c+d | P3: 無償化上限額 f | Q3: 請求金額 eとfの 少ない方 | R3: 46477
C4: 氏名 | D4: 生年月日 | E4: 認定番号 | F4: 認定開始日 | G4: 入園日 | H4: 請求月の 在園状況 （1日時点） | I4: 退園日 | J4: 請求月の請求対象 | K4: 入園料納付総額 a | L4: 年間在園 月数 b | M4: 月額換算 c=a/b
V5: =COUNTIF($H$8:$H$307,"休園") -> 0 | W5: =COUNTIF($H$8:$H$307,"復園") -> 0 | X5: =COUNTIF($H$8:$H$307,"復園") -> 0 | Y5: =COUNTIF($H$8:$H$307,"その他1（支給対象）") -> 0
B6: ① | C6: ② | D6: ③ | E6: ④ | F6: ⑤ | G6: ⑥ | H6: ⑦ | I6: ⑧ | J6: ⑨ | K6: ⑩ | L6: ⑪ | M6: ⑫ | N6: ⑬ | O6: ⑭ | P6: ⑮ | Q6: ⑯ | R6: 月数計算 | V6: =IF($V$5>0,"☆入力箇所☆","") | W6: =IF($W$5>0,"○入力箇所○","") | X6: =IF($X$5>0,"復園を選択した場合の在園月数","") | Y6: =IF($Y$5>0,"■入力箇所■","") | Z6: 計算欄
B7: ― | C7: 必須 | D7: 必須 | E7: 必須 | F7: 必須 | G7: 該当者 | H7: 必須 | I7: 該当者 | J7: ― | K7: 該当者 | L7: 該当者 | M7: ― | N7: 必須 | O7: ― | P7: ― | Q7: ― | T7: 在園 | U7: 在園のまま市内へ転入 | V7: 休園までの在園月数(A) | W7: 復園後の在園月数(B) | X7: 合計在園月数（A+B) | Y7: その他１（支給対象）の在園月数 | Z7: 在園のまま市内へ転入
B8: 1 | J8: =IF(OR(H8="在園",H8="在園のまま市内へ転入",H8="復園",H8="その他1（支給対象）"),"対象",IF(OR(H8="退園",H8="在園のまま市外へ転出",H8="休園",H8="入園キャンセル",H8="その他２（支給対象外）"),"対象外")) -> FALSE | L8: =IF(SUM(T8:U8,X8,Y8:Y8)=0,"",SUM(T8:U8,X8,Y8:Y8)) | M8: =IF(L8="","",ROUNDDOWN(K8/L8,0)) | O8: =SUM(M8:N8) -> 0 | P8: 28000 | Q8: =IF(J8="対象",IF(O8>P8,P8,O8),0) -> 0 | R8: =IF(H8="在園",(YEAR($R$3)-YEAR(F8))*12+MONTH($R$3)-MONTH(F8)+1,"") | S8: =IF(R8>12,"",R8) | T8: =IF(H8="在園",IF(R8>12,12,R8),"") | U8: =IF(H8="在園のまま市内へ転入",AA8,"") | X8: =IF(AND(OR(H8="休園",H8="復園"),SUM(V8+W8)>0),SUM(V8+W8),"") | Z8: =IF(H8="在園のまま市内へ転入",(YEAR($R$3)-YEAR(G8))*12+MONTH($R$3)-MONTH(G8)+1,"") | AA8: =IF(Z8>12,12,Z8) -> 12
B9: 2 | J9: =IF(OR(H9="在園",H9="在園のまま市内へ転入",H9="復園",H9="その他1（支給対象）"),"対象",IF(OR(H9="退園",H9="在園のまま市外へ転出",H9="休園",H9="入園キャンセル",H9="その他２（支給対象外）"),"対象外")) -> FALSE | L9: =IF(SUM(T9:U9,X9,Y9:Y9)=0,"",SUM(T9:U9,X9,Y9:Y9)) | M9: =IF(L9="","",ROUNDDOWN(K9/L9,0)) | O9: =SUM(M9:N9) -> 0 | P9: 28000 | Q9: =IF(J9="対象",IF(O9>P9,P9,O9),0) -> 0 | R9: =IF(H9="在園",(YEAR($R$3)-YEAR(F9))*12+MONTH($R$3)-MONTH(F9)+1,"") | S9: =IF(R9>12,"",R9) | T9: =IF(H9="在園",IF(R9>12,12,R9),"") | U9: =IF(H9="在園のまま市内へ転入",AA9,"") | X9: =IF(AND(OR(H9="休園",H9="復園"),SUM(V9+W9)>0),SUM(V9+W9),"") | Z9: =IF(H9="在園のまま市内へ転入",(YEAR($R$3)-YEAR(G9))*12+MONTH($R$3)-MONTH(G9)+1,"") | AA9: =IF(Z9>12,12,Z9) -> 12
B10: 3 | J10: =IF(OR(H10="在園",H10="在園のまま市内へ転入",H10="復園",H10="その他1（支給対象）"),"対象",IF(OR(H10="退園",H10="在園のまま市外へ転出",H10="休園",H10="入園キャンセル",H10="その他２（支給対象外）"),"対象外")) -> FALSE | L10: =IF(SUM(T10:U10,X10,Y10:Y10)=0,"",SUM(T10:U10,X10,Y10:Y10)) | M10: =IF(L10="","",ROUNDDOWN(K10/L10,0)) | O10: =SUM(M10:N10) -> 0 | P10: 28000 | Q10: =IF(J10="対象",IF(O10>P10,P10,O10),0) -> 0 | R10: =IF(H10="在園",(YEAR($R$3)-YEAR(F10))*12+MONTH($R$3)-MONTH(F10)+1,"") | S10: =IF(R10>12,"",R10) | T10: =IF(H10="在園",IF(R10>12,12,R10),"") | U10: =IF(H10="在園のまま市内へ転入",AA10,"") | X10: =IF(AND(OR(H10="休園",H10="復園"),SUM(V10+W10)>0),SUM(V10+W10),"") | Z10: =IF(H10="在園のまま市内へ転入",(YEAR($R$3)-YEAR(G10))*12+MONTH($R$3)-MONTH(G10)+1,"") | AA10: =IF(Z10>12,12,Z10) -> 12
B11: 4 | J11: =IF(OR(H11="在園",H11="在園のまま市内へ転入",H11="復園",H11="その他1（支給対象）"),"対象",IF(OR(H11="退園",H11="在園のまま市外へ転出",H11="休園",H11="入園キャンセル",H11="その他２（支給対象外）"),"対象外")) -> FALSE | L11: =IF(SUM(T11:U11,X11,Y11:Y11)=0,"",SUM(T11:U11,X11,Y11:Y11)) | M11: =IF(L11="","",ROUNDDOWN(K11/L11,0)) | O11: =SUM(M11:N11) -> 0 | P11: 28000 | Q11: =IF(J11="対象",IF(O11>P11,P11,O11),0) -> 0 | R11: =IF(H11="在園",(YEAR($R$3)-YEAR(F11))*12+MONTH($R$3)-MONTH(F11)+1,"") | S11: =IF(R11>12,"",R11) | T11: =IF(H11="在園",IF(R11>12,12,R11),"") | U11: =IF(H11="在園のまま市内へ転入",AA11,"") | X11: =IF(AND(OR(H11="休園",H11="復園"),SUM(V11+W11)>0),SUM(V11+W11),"") | Z11: =IF(H11="在園のまま市内へ転入",(YEAR($R$3)-YEAR(G11))*12+MONTH($R$3)-MONTH(G11)+1,"") | AA11: =IF(Z11>12,12,Z11) -> 12
B12: 5 | J12: =IF(OR(H12="在園",H12="在園のまま市内へ転入",H12="復園",H12="その他1（支給対象）"),"対象",IF(OR(H12="退園",H12="在園のまま市外へ転出",H12="休園",H12="入園キャンセル",H12="その他２（支給対象外）"),"対象外")) -> FALSE | L12: =IF(SUM(T12:U12,X12,Y12:Y12)=0,"",SUM(T12:U12,X12,Y12:Y12)) | M12: =IF(L12="","",ROUNDDOWN(K12/L12,0)) | O12: =SUM(M12:N12) -> 0 | P12: 28000 | Q12: =IF(J12="対象",IF(O12>P12,P12,O12),0) -> 0 | R12: =IF(H12="在園",(YEAR($R$3)-YEAR(F12))*12+MONTH($R$3)-MONTH(F12)+1,"") | S12: =IF(R12>12,"",R12) | T12: =IF(H12="在園",IF(R12>12,12,R12),"") | U12: =IF(H12="在園のまま市内へ転入",AA12,"") | X12: =IF(AND(OR(H12="休園",H12="復園"),SUM(V12+W12)>0),SUM(V12+W12),"") | Z12: =IF(H12="在園のまま市内へ転入",(YEAR($R$3)-YEAR(G12))*12+MONTH($R$3)-MONTH(G12)+1,"") | AA12: =IF(Z12>12,12,Z12) -> 12
B13: 6 | J13: =IF(OR(H13="在園",H13="在園のまま市内へ転入",H13="復園",H13="その他1（支給対象）"),"対象",IF(OR(H13="退園",H13="在園のまま市外へ転出",H13="休園",H13="入園キャンセル",H13="その他２（支給対象外）"),"対象外")) -> FALSE | L13: =IF(SUM(T13:U13,X13,Y13:Y13)=0,"",SUM(T13:U13,X13,Y13:Y13)) | M13: =IF(L13="","",ROUNDDOWN(K13/L13,0)) | O13: =SUM(M13:N13) -> 0 | P13: 28000 | Q13: =IF(J13="対象",IF(O13>P13,P13,O13),0) -> 0 | R13: =IF(H13="在園",(YEAR($R$3)-YEAR(F13))*12+MONTH($R$3)-MONTH(F13)+1,"") | S13: =IF(R13>12,"",R13) | T13: =IF(H13="在園",IF(R13>12,12,R13),"") | U13: =IF(H13="在園のまま市内へ転入",AA13,"") | X13: =IF(AND(OR(H13="休園",H13="復園"),SUM(V13+W13)>0),SUM(V13+W13),"") | Z13: =IF(H13="在園のまま市内へ転入",(YEAR($R$3)-YEAR(G13))*12+MONTH($R$3)-MONTH(G13)+1,"") | AA13: =IF(Z13>12,12,Z13) -> 12
B14: 7 | J14: =IF(OR(H14="在園",H14="在園のまま市内へ転入",H14="復園",H14="その他1（支給対象）"),"対象",IF(OR(H14="退園",H14="在園のまま市外へ転出",H14="休園",H14="入園キャンセル",H14="その他２（支給対象外）"),"対象外")) -> FALSE | L14: =IF(SUM(T14:U14,X14,Y14:Y14)=0,"",SUM(T14:U14,X14,Y14:Y14)) | M14: =IF(L14="","",ROUNDDOWN(K14/L14,0)) | O14: =SUM(M14:N14) -> 0 | P14: 28000 | Q14: =IF(J14="対象",IF(O14>P14,P14,O14),0) -> 0 | R14: =IF(H14="在園",(YEAR($R$3)-YEAR(F14))*12+MONTH($R$3)-MONTH(F14)+1,"") | S14: =IF(R14>12,"",R14) | T14: =IF(H14="在園",IF(R14>12,12,R14),"") | U14: =IF(H14="在園のまま市内へ転入",AA14,"") | X14: =IF(AND(OR(H14="休園",H14="復園"),SUM(V14+W14)>0),SUM(V14+W14),"") | Z14: =IF(H14="在園のまま市内へ転入",(YEAR($R$3)-YEAR(G14))*12+MONTH($R$3)-MONTH(G14)+1,"") | AA14: =IF(Z14>12,12,Z14) -> 12
B15: 8 | J15: =IF(OR(H15="在園",H15="在園のまま市内へ転入",H15="復園",H15="その他1（支給対象）"),"対象",IF(OR(H15="退園",H15="在園のまま市外へ転出",H15="休園",H15="入園キャンセル",H15="その他２（支給対象外）"),"対象外")) -> FALSE | L15: =IF(SUM(T15:U15,X15,Y15:Y15)=0,"",SUM(T15:U15,X15,Y15:Y15)) | M15: =IF(L15="","",ROUNDDOWN(K15/L15,0)) | O15: =SUM(M15:N15) -> 0 | P15: 28000 | Q15: =IF(J15="対象",IF(O15>P15,P15,O15),0) -> 0 | R15: =IF(H15="在園",(YEAR($R$3)-YEAR(F15))*12+MONTH($R$3)-MONTH(F15)+1,"") | S15: =IF(R15>12,"",R15) | T15: =IF(H15="在園",IF(R15>12,12,R15),"") | U15: =IF(H15="在園のまま市内へ転入",AA15,"") | X15: =IF(AND(OR(H15="休園",H15="復園"),SUM(V15+W15)>0),SUM(V15+W15),"") | Z15: =IF(H15="在園のまま市内へ転入",(YEAR($R$3)-YEAR(G15))*12+MONTH($R$3)-MONTH(G15)+1,"") | AA15: =IF(Z15>12,12,Z15) -> 12
B16: 9 | J16: =IF(OR(H16="在園",H16="在園のまま市内へ転入",H16="復園",H16="その他1（支給対象）"),"対象",IF(OR(H16="退園",H16="在園のまま市外へ転出",H16="休園",H16="入園キャンセル",H16="その他２（支給対象外）"),"対象外")) -> FALSE | L16: =IF(SUM(T16:U16,X16,Y16:Y16)=0,"",SUM(T16:U16,X16,Y16:Y16)) | M16: =IF(L16="","",ROUNDDOWN(K16/L16,0)) | O16: =SUM(M16:N16) -> 0 | P16: 28000 | Q16: =IF(J16="対象",IF(O16>P16,P16,O16),0) -> 0 | R16: =IF(H16="在園",(YEAR($R$3)-YEAR(F16))*12+MONTH($R$3)-MONTH(F16)+1,"") | S16: =IF(R16>12,"",R16) | T16: =IF(H16="在園",IF(R16>12,12,R16),"") | U16: =IF(H16="在園のまま市内へ転入",AA16,"") | X16: =IF(AND(OR(H16="休園",H16="復園"),SUM(V16+W16)>0),SUM(V16+W16),"") | Z16: =IF(H16="在園のまま市内へ転入",(YEAR($R$3)-YEAR(G16))*12+MONTH($R$3)-MONTH(G16)+1,"") | AA16: =IF(Z16>12,12,Z16) -> 12
B17: 10 | J17: =IF(OR(H17="在園",H17="在園のまま市内へ転入",H17="復園",H17="その他1（支給対象）"),"対象",IF(OR(H17="退園",H17="在園のまま市外へ転出",H17="休園",H17="入園キャンセル",H17="その他２（支給対象外）"),"対象外")) -> FALSE | L17: =IF(SUM(T17:U17,X17,Y17:Y17)=0,"",SUM(T17:U17,X17,Y17:Y17)) | M17: =IF(L17="","",ROUNDDOWN(K17/L17,0)) | O17: =SUM(M17:N17) -> 0 | P17: 28000 | Q17: =IF(J17="対象",IF(O17>P17,P17,O17),0) -> 0 | R17: =IF(H17="在園",(YEAR($R$3)-YEAR(F17))*12+MONTH($R$3)-MONTH(F17)+1,"") | S17: =IF(R17>12,"",R17) | T17: =IF(H17="在園",IF(R17>12,12,R17),"") | U17: =IF(H17="在園のまま市内へ転入",AA17,"") | X17: =IF(AND(OR(H17="休園",H17="復園"),SUM(V17+W17)>0),SUM(V17+W17),"") | Z17: =IF(H17="在園のまま市内へ転入",(YEAR($R$3)-YEAR(G17))*12+MONTH($R$3)-MONTH(G17)+1,"") | AA17: =IF(Z17>12,12,Z17) -> 12
B18: 11 | J18: =IF(OR(H18="在園",H18="在園のまま市内へ転入",H18="復園",H18="その他1（支給対象）"),"対象",IF(OR(H18="退園",H18="在園のまま市外へ転出",H18="休園",H18="入園キャンセル",H18="その他２（支給対象外）"),"対象外")) -> FALSE | L18: =IF(SUM(T18:U18,X18,Y18:Y18)=0,"",SUM(T18:U18,X18,Y18:Y18)) | M18: =IF(L18="","",ROUNDDOWN(K18/L18,0)) | O18: =SUM(M18:N18) -> 0 | P18: 28000 | Q18: =IF(J18="対象",IF(O18>P18,P18,O18),0) -> 0 | R18: =IF(H18="在園",(YEAR($R$3)-YEAR(F18))*12+MONTH($R$3)-MONTH(F18)+1,"") | S18: =IF(R18>12,"",R18) | T18: =IF(H18="在園",IF(R18>12,12,R18),"") | U18: =IF(H18="在園のまま市内へ転入",AA18,"") | X18: =IF(AND(OR(H18="休園",H18="復園"),SUM(V18+W18)>0),SUM(V18+W18),"") | Z18: =IF(H18="在園のまま市内へ転入",(YEAR($R$3)-YEAR(G18))*12+MONTH($R$3)-MONTH(G18)+1,"") | AA18: =IF(Z18>12,12,Z18) -> 12
B19: 12 | J19: =IF(OR(H19="在園",H19="在園のまま市内へ転入",H19="復園",H19="その他1（支給対象）"),"対象",IF(OR(H19="退園",H19="在園のまま市外へ転出",H19="休園",H19="入園キャンセル",H19="その他２（支給対象外）"),"対象外")) -> FALSE | L19: =IF(SUM(T19:U19,X19,Y19:Y19)=0,"",SUM(T19:U19,X19,Y19:Y19)) | M19: =IF(L19="","",ROUNDDOWN(K19/L19,0)) | O19: =SUM(M19:N19) -> 0 | P19: 28000 | Q19: =IF(J19="対象",IF(O19>P19,P19,O19),0) -> 0 | R19: =IF(H19="在園",(YEAR($R$3)-YEAR(F19))*12+MONTH($R$3)-MONTH(F19)+1,"") | S19: =IF(R19>12,"",R19) | T19: =IF(H19="在園",IF(R19>12,12,R19),"") | U19: =IF(H19="在園のまま市内へ転入",AA19,"") | X19: =IF(AND(OR(H19="休園",H19="復園"),SUM(V19+W19)>0),SUM(V19+W19),"") | Z19: =IF(H19="在園のまま市内へ転入",(YEAR($R$3)-YEAR(G19))*12+MONTH($R$3)-MONTH(G19)+1,"") | AA19: =IF(Z19>12,12,Z19) -> 12
... B307: 300 | J307: =IF(OR(H307="在園",H307="在園のまま市内へ転入",H307="復園",H307="その他1（支給対象）"),"対象",IF(OR(H307="退園",H307="在園のまま市外へ転出",H307="休園",H307="入園キャンセル",H307="その他２（支給対象外）"),"対象外")) -> FALSE | L307: =IF(SUM(T307:U307,X307,Y307:Y307)=0,"",SUM(T307:U307,X307,Y307:Y307)) | M307: =IF(L307="","",ROUNDDOWN(K307/L307,0)) | O307: =SUM(M307:N307) -> 0 | P307: 28000 | Q307: =IF(J307="対象",IF(O307>P307,P307,O307),0) -> 0 | R307: =IF(H307="在園",(YEAR($R$3)-YEAR(F307))*12+MONTH($R$3)-MONTH(F307)+1,"") | S307: =IF(R307>12,"",R307) | T307: =IF(H307="在園",IF(R307>12,12,R307),"") | U307: =IF(H307="在園のまま市内へ転入",AA307,"") | X307: =IF(AND(OR(H307="休園",H307="復園"),SUM(V307+W307)>0),SUM(V307+W307),"") | Z307: =IF(H307="在園のまま市内へ転入",(YEAR($R$3)-YEAR(G307))*12+MONTH($R$3)-MONTH(G307)+1,"") | AA307: =IF(Z307>12,12,Z307) -> 12

Sheet 【令和８年度】内訳書（当月請求）年少
B1: 施設等利用費請求金額内訳書（当月請求分 年少） | M1: 子ども子育て支援の提供時間帯 | N1: =請求書!$W$32 -> ～ | R1: 46113 | S1: 45748
B3: No. | C3: 認定子ども | K3: 入園料納付額 | N3: 保育料 納付額 d | O3: 納付額合計 e=c+d | P3: 無償化上限額 f | Q3: 請求金額 eとfの 少ない方 | R3: 46477
C4: 氏名 | D4: 生年月日 | E4: 認定番号 | F4: 認定開始日 | G4: 入園日 | H4: 請求月の 在園状況 （1日時点） | I4: 退園日 | J4: 請求月の請求対象 | K4: 入園料納付総額 a | L4: 年間在園 月数 b | M4: 月額換算 c=a/b
V5: =COUNTIF($H$8:$H$307,"休園") -> 0 | W5: =COUNTIF($H$8:$H$307,"復園") -> 0 | X5: =COUNTIF($H$8:$H$307,"復園") -> 0 | Y5: =COUNTIF($H$8:$H$307,"その他1（支給対象）") -> 0
B6: ① | C6: ② | D6: ③ | E6: ④ | F6: ⑤ | G6: ⑥ | H6: ⑦ | I6: ⑧ | J6: ⑨ | K6: ⑩ | L6: ⑪ | M6: ⑫ | N6: ⑬ | O6: ⑭ | P6: ⑮ | Q6: ⑯ | R6: 月数計算 | V6: =IF($V$5>0,"☆入力箇所☆","") | W6: =IF($W$5>0,"○入力箇所○","") | X6: =IF($X$5>0,"復園を選択した場合の在園月数","") | Y6: =IF($Y$5>0,"■入力箇所■","") | Z6: 計算欄
B7: ― | C7: 必須 | D7: 必須 | E7: 必須 | F7: 必須 | G7: 該当者 | H7: 必須 | I7: 該当者 | J7: ― | K7: 該当者 | L7: 該当者 | M7: ― | N7: 必須 | O7: ― | P7: ― | Q7: ― | T7: 在園 | U7: 在園のまま市内へ転入 | V7: 休園までの在園月数(A) | W7: 復園後の在園月数(B) | X7: 合計在園月数（A+B) | Y7: その他１（支給対象）の在園月数 | Z7: 在園のまま市内へ転入
B8: 1 | J8: =IF(OR(H8="在園",H8="在園のまま市内へ転入",H8="復園",H8="その他1（支給対象）"),"対象",IF(OR(H8="退園",H8="在園のまま市外へ転出",H8="休園",H8="入園キャンセル",H8="その他２（支給対象外）"),"対象外")) -> FALSE | L8: =IF(SUM(T8:U8,X8,Y8:Y8)=0,"",SUM(T8:U8,X8,Y8:Y8)) | M8: =IF(L8="","",ROUNDDOWN(K8/L8,0)) | O8: =SUM(M8:N8) -> 0 | P8: 28000 | Q8: =IF(J8="対象",IF(O8>P8,P8,O8),0) -> 0 | R8: =IF(H8="在園",(YEAR($R$3)-YEAR(F8))*12+MONTH($R$3)-MONTH(F8)+1,"") | S8: =IF(R8>12,"",R8) | T8: =IF(H8="在園",IF(R8>12,12,R8),"") | U8: =IF(H8="在園のまま市内へ転入",AA8,"") | X8: =IF(AND(OR(H8="休園",H8="復園"),SUM(V8+W8)>0),SUM(V8+W8),"") | Z8: =IF(H8="在園のまま市内へ転入",(YEAR($R$3)-YEAR(G8))*12+MONTH($R$3)-MONTH(G8)+1,"") | AA8: =IF(Z8>12,12,Z8) -> 12
B9: 2 | J9: =IF(OR(H9="在園",H9="在園のまま市内へ転入",H9="復園",H9="その他1（支給対象）"),"対象",IF(OR(H9="退園",H9="在園のまま市外へ転出",H9="休園",H9="入園キャンセル",H9="その他２（支給対象外）"),"対象外")) -> FALSE | L9: =IF(SUM(T9:U9,X9,Y9:Y9)=0,"",SUM(T9:U9,X9,Y9:Y9)) | M9: =IF(L9="","",ROUNDDOWN(K9/L9,0)) | O9: =SUM(M9:N9) -> 0 | P9: 28000 | Q9: =IF(J9="対象",IF(O9>P9,P9,O9),0) -> 0 | R9: =IF(H9="在園",(YEAR($R$3)-YEAR(F9))*12+MONTH($R$3)-MONTH(F9)+1,"") | S9: =IF(R9>12,"",R9) | T9: =IF(H9="在園",IF(R9>12,12,R9),"") | U9: =IF(H9="在園のまま市内へ転入",AA9,"") | X9: =IF(AND(OR(H9="休園",H9="復園"),SUM(V9+W9)>0),SUM(V9+W9),"") | Z9: =IF(H9="在園のまま市内へ転入",(YEAR($R$3)-YEAR(G9))*12+MONTH($R$3)-MONTH(G9)+1,"") | AA9: =IF(Z9>12,12,Z9) -> 12
B10: 3 | J10: =IF(OR(H10="在園",H10="在園のまま市内へ転入",H10="復園",H10="その他1（支給対象）"),"対象",IF(OR(H10="退園",H10="在園のまま市外へ転出",H10="休園",H10="入園キャンセル",H10="その他２（支給対象外）"),"対象外")) -> FALSE | L10: =IF(SUM(T10:U10,X10,Y10:Y10)=0,"",SUM(T10:U10,X10,Y10:Y10)) | M10: =IF(L10="","",ROUNDDOWN(K10/L10,0)) | O10: =SUM(M10:N10) -> 0 | P10: 28000 | Q10: =IF(J10="対象",IF(O10>P10,P10,O10),0) -> 0 | R10: =IF(H10="在園",(YEAR($R$3)-YEAR(F10))*12+MONTH($R$3)-MONTH(F10)+1,"") | S10: =IF(R10>12,"",R10) | T10: =IF(H10="在園",IF(R10>12,12,R10),"") | U10: =IF(H10="在園のまま市内へ転入",AA10,"") | X10: =IF(AND(OR(H10="休園",H10="復園"),SUM(V10+W10)>0),SUM(V10+W10),"") | Z10: =IF(H10="在園のまま市内へ転入",(YEAR($R$3)-YEAR(G10))*12+MONTH($R$3)-MONTH(G10)+1,"") | AA10: =IF(Z10>12,12,Z10) -> 12
B11: 4 | J11: =IF(OR(H11="在園",H11="在園のまま市内へ転入",H11="復園",H11="その他1（支給対象）"),"対象",IF(OR(H11="退園",H11="在園のまま市外へ転出",H11="休園",H11="入園キャンセル",H11="その他２（支給対象外）"),"対象外")) -> FALSE | L11: =IF(SUM(T11:U11,X11,Y11:Y11)=0,"",SUM(T11:U11,X11,Y11:Y11)) | M11: =IF(L11="","",ROUNDDOWN(K11/L11,0)) | O11: =SUM(M11:N11) -> 0 | P11: 28000 | Q11: =IF(J11="対象",IF(O11>P11,P11,O11),0) -> 0 | R11: =IF(H11="在園",(YEAR($R$3)-YEAR(F11))*12+MONTH($R$3)-MONTH(F11)+1,"") | S11: =IF(R11>12,"",R11) | T11: =IF(H11="在園",IF(R11>12,12,R11),"") | U11: =IF(H11="在園のまま市内へ転入",AA11,"") | X11: =IF(AND(OR(H11="休園",H11="復園"),SUM(V11+W11)>0),SUM(V11+W11),"") | Z11: =IF(H11="在園のまま市内へ転入",(YEAR($R$3)-YEAR(G11))*12+MONTH($R$3)-MONTH(G11)+1,"") | AA11: =IF(Z11>12,12,Z11) -> 12
B12: 5 | J12: =IF(OR(H12="在園",H12="在園のまま市内へ転入",H12="復園",H12="その他1（支給対象）"),"対象",IF(OR(H12="退園",H12="在園のまま市外へ転出",H12="休園",H12="入園キャンセル",H12="その他２（支給対象外）"),"対象外")) -> FALSE | L12: =IF(SUM(T12:U12,X12,Y12:Y12)=0,"",SUM(T12:U12,X12,Y12:Y12)) | M12: =IF(L12="","",ROUNDDOWN(K12/L12,0)) | O12: =SUM(M12:N12) -> 0 | P12: 28000 | Q12: =IF(J12="対象",IF(O12>P12,P12,O12),0) -> 0 | R12: =IF(H12="在園",(YEAR($R$3)-YEAR(F12))*12+MONTH($R$3)-MONTH(F12)+1,"") | S12: =IF(R12>12,"",R12) | T12: =IF(H12="在園",IF(R12>12,12,R12),"") | U12: =IF(H12="在園のまま市内へ転入",AA12,"") | X12: =IF(AND(OR(H12="休園",H12="復園"),SUM(V12+W12)>0),SUM(V12+W12),"") | Z12: =IF(H12="在園のまま市内へ転入",(YEAR($R$3)-YEAR(G12))*12+MONTH($R$3)-MONTH(G12)+1,"") | AA12: =IF(Z12>12,12,Z12) -> 12
B13: 6 | J13: =IF(OR(H13="在園",H13="在園のまま市内へ転入",H13="復園",H13="その他1（支給対象）"),"対象",IF(OR(H13="退園",H13="在園のまま市外へ転出",H13="休園",H13="入園キャンセル",H13="その他２（支給対象外）"),"対象外")) -> FALSE | L13: =IF(SUM(T13:U13,X13,Y13:Y13)=0,"",SUM(T13:U13,X13,Y13:Y13)) | M13: =IF(L13="","",ROUNDDOWN(K13/L13,0)) | O13: =SUM(M13:N13) -> 0 | P13: 28000 | Q13: =IF(J13="対象",IF(O13>P13,P13,O13),0) -> 0 | R13: =IF(H13="在園",(YEAR($R$3)-YEAR(F13))*12+MONTH($R$3)-MONTH(F13)+1,"") | S13: =IF(R13>12,"",R13) | T13: =IF(H13="在園",IF(R13>12,12,R13),"") | U13: =IF(H13="在園のまま市内へ転入",AA13,"") | X13: =IF(AND(OR(H13="休園",H13="復園"),SUM(V13+W13)>0),SUM(V13+W13),"") | Z13: =IF(H13="在園のまま市内へ転入",(YEAR($R$3)-YEAR(G13))*12+MONTH($R$3)-MONTH(G13)+1,"") | AA13: =IF(Z13>12,12,Z13) -> 12
B14: 7 | J14: =IF(OR(H14="在園",H14="在園のまま市内へ転入",H14="復園",H14="その他1（支給対象）"),"対象",IF(OR(H14="退園",H14="在園のまま市外へ転出",H14="休園",H14="入園キャンセル",H14="その他２（支給対象外）"),"対象外")) -> FALSE | L14: =IF(SUM(T14:U14,X14,Y14:Y14)=0,"",SUM(T14:U14,X14,Y14:Y14)) | M14: =IF(L14="","",ROUNDDOWN(K14/L14,0)) | O14: =SUM(M14:N14) -> 0 | P14: 28000 | Q14: =IF(J14="対象",IF(O14>P14,P14,O14),0) -> 0 | R14: =IF(H14="在園",(YEAR($R$3)-YEAR(F14))*12+MONTH($R$3)-MONTH(F14)+1,"") | S14: =IF(R14>12,"",R14) | T14: =IF(H14="在園",IF(R14>12,12,R14),"") | U14: =IF(H14="在園のまま市内へ転入",AA14,"") | X14: =IF(AND(OR(H14="休園",H14="復園"),SUM(V14+W14)>0),SUM(V14+W14),"") | Z14: =IF(H14="在園のまま市内へ転入",(YEAR($R$3)-YEAR(G14))*12+MONTH($R$3)-MONTH(G14)+1,"") | AA14: =IF(Z14>12,12,Z14) -> 12
B15: 8 | J15: =IF(OR(H15="在園",H15="在園のまま市内へ転入",H15="復園",H15="その他1（支給対象）"),"対象",IF(OR(H15="退園",H15="在園のまま市外へ転出",H15="休園",H15="入園キャンセル",H15="その他２（支給対象外）"),"対象外")) -> FALSE | L15: =IF(SUM(T15:U15,X15,Y15:Y15)=0,"",SUM(T15:U15,X15,Y15:Y15)) | M15: =IF(L15="","",ROUNDDOWN(K15/L15,0)) | O15: =SUM(M15:N15) -> 0 | P15: 28000 | Q15: =IF(J15="対象",IF(O15>P15,P15,O15),0) -> 0 | R15: =IF(H15="在園",(YEAR($R$3)-YEAR(F15))*12+MONTH($R$3)-MONTH(F15)+1,"") | S15: =IF(R15>12,"",R15) | T15: =IF(H15="在園",IF(R15>12,12,R15),"") | U15: =IF(H15="在園のまま市内へ転入",AA15,"") | X15: =IF(AND(OR(H15="休園",H15="復園"),SUM(V15+W15)>0),SUM(V15+W15),"") | Z15: =IF(H15="在園のまま市内へ転入",(YEAR($R$3)-YEAR(G15))*12+MONTH($R$3)-MONTH(G15)+1,"") | AA15: =IF(Z15>12,12,Z15) -> 12
B16: 9 | J16: =IF(OR(H16="在園",H16="在園のまま市内へ転入",H16="復園",H16="その他1（支給対象）"),"対象",IF(OR(H16="退園",H16="在園のまま市外へ転出",H16="休園",H16="入園キャンセル",H16="その他２（支給対象外）"),"対象外")) -> FALSE | L16: =IF(SUM(T16:U16,X16,Y16:Y16)=0,"",SUM(T16:U16,X16,Y16:Y16)) | M16: =IF(L16="","",ROUNDDOWN(K16/L16,0)) | O16: =SUM(M16:N16) -> 0 | P16: 28000 | Q16: =IF(J16="対象",IF(O16>P16,P16,O16),0) -> 0 | R16: =IF(H16="在園",(YEAR($R$3)-YEAR(F16))*12+MONTH($R$3)-MONTH(F16)+1,"") | S16: =IF(R16>12,"",R16) | T16: =IF(H16="在園",IF(R16>12,12,R16),"") | U16: =IF(H16="在園のまま市内へ転入",AA16,"") | X16: =IF(AND(OR(H16="休園",H16="復園"),SUM(V16+W16)>0),SUM(V16+W16),"") | Z16: =IF(H16="在園のまま市内へ転入",(YEAR($R$3)-YEAR(G16))*12+MONTH($R$3)-MONTH(G16)+1,"") | AA16: =IF(Z16>12,12,Z16) -> 12
B17: 10 | J17: =IF(OR(H17="在園",H17="在園のまま市内へ転入",H17="復園",H17="その他1（支給対象）"),"対象",IF(OR(H17="退園",H17="在園のまま市外へ転出",H17="休園",H17="入園キャンセル",H17="その他２（支給対象外）"),"対象外")) -> FALSE | L17: =IF(SUM(T17:U17,X17,Y17:Y17)=0,"",SUM(T17:U17,X17,Y17:Y17)) | M17: =IF(L17="","",ROUNDDOWN(K17/L17,0)) | O17: =SUM(M17:N17) -> 0 | P17: 28000 | Q17: =IF(J17="対象",IF(O17>P17,P17,O17),0) -> 0 | R17: =IF(H17="在園",(YEAR($R$3)-YEAR(F17))*12+MONTH($R$3)-MONTH(F17)+1,"") | S17: =IF(R17>12,"",R17) | T17: =IF(H17="在園",IF(R17>12,12,R17),"") | U17: =IF(H17="在園のまま市内へ転入",AA17,"") | X17: =IF(AND(OR(H17="休園",H17="復園"),SUM(V17+W17)>0),SUM(V17+W17),"") | Z17: =IF(H17="在園のまま市内へ転入",(YEAR($R$3)-YEAR(G17))*12+MONTH($R$3)-MONTH(G17)+1,"") | AA17: =IF(Z17>12,12,Z17) -> 12
B18: 11 | J18: =IF(OR(H18="在園",H18="在園のまま市内へ転入",H18="復園",H18="その他1（支給対象）"),"対象",IF(OR(H18="退園",H18="在園のまま市外へ転出",H18="休園",H18="入園キャンセル",H18="その他２（支給対象外）"),"対象外")) -> FALSE | L18: =IF(SUM(T18:U18,X18,Y18:Y18)=0,"",SUM(T18:U18,X18,Y18:Y18)) | M18: =IF(L18="","",ROUNDDOWN(K18/L18,0)) | O18: =SUM(M18:N18) -> 0 | P18: 28000 | Q18: =IF(J18="対象",IF(O18>P18,P18,O18),0) -> 0 | R18: =IF(H18="在園",(YEAR($R$3)-YEAR(F18))*12+MONTH($R$3)-MONTH(F18)+1,"") | S18: =IF(R18>12,"",R18) | T18: =IF(H18="在園",IF(R18>12,12,R18),"") | U18: =IF(H18="在園のまま市内へ転入",AA18,"") | X18: =IF(AND(OR(H18="休園",H18="復園"),SUM(V18+W18)>0),SUM(V18+W18),"") | Z18: =IF(H18="在園のまま市内へ転入",(YEAR($R$3)-YEAR(G18))*12+MONTH($R$3)-MONTH(G18)+1,"") | AA18: =IF(Z18>12,12,Z18) -> 12
B19: 12 | J19: =IF(OR(H19="在園",H19="在園のまま市内へ転入",H19="復園",H19="その他1（支給対象）"),"対象",IF(OR(H19="退園",H19="在園のまま市外へ転出",H19="休園",H19="入園キャンセル",H19="その他２（支給対象外）"),"対象外")) -> FALSE | L19: =IF(SUM(T19:U19,X19,Y19:Y19)=0,"",SUM(T19:U19,X19,Y19:Y19)) | M19: =IF(L19="","",ROUNDDOWN(K19/L19,0)) | O19: =SUM(M19:N19) -> 0 | P19: 28000 | Q19: =IF(J19="対象",IF(O19>P19,P19,O19),0) -> 0 | R19: =IF(H19="在園",(YEAR($R$3)-YEAR(F19))*12+MONTH($R$3)-MONTH(F19)+1,"") | S19: =IF(R19>12,"",R19) | T19: =IF(H19="在園",IF(R19>12,12,R19),"") | U19: =IF(H19="在園のまま市内へ転入",AA19,"") | X19: =IF(AND(OR(H19="休園",H19="復園"),SUM(V19+W19)>0),SUM(V19+W19),"") | Z19: =IF(H19="在園のまま市内へ転入",(YEAR($R$3)-YEAR(G19))*12+MONTH($R$3)-MONTH(G19)+1,"") | AA19: =IF(Z19>12,12,Z19) -> 12
... B307: 300 | J307: =IF(OR(H307="在園",H307="在園のまま市内へ転入",H307="復園",H307="その他1（支給対象）"),"対象",IF(OR(H307="退園",H307="在園のまま市外へ転出",H307="休園",H307="入園キャンセル",H307="その他２（支給対象外）"),"対象外")) -> FALSE | L307: =IF(SUM(T307:U307,X307,Y307:Y307)=0,"",SUM(T307:U307,X307,Y307:Y307)) | M307: =IF(L307="","",ROUNDDOWN(K307/L307,0)) | O307: =SUM(M307:N307) -> 0 | P307: 28000 | Q307: =IF(J307="対象",IF(O307>P307,P307,O307),0) -> 0 | R307: =IF(H307="在園",(YEAR($R$3)-YEAR(F307))*12+MONTH($R$3)-MONTH(F307)+1,"") | S307: =IF(R307>12,"",R307) | T307: =IF(H307="在園",IF(R307>12,12,R307),"") | U307: =IF(H307="在園のまま市内へ転入",AA307,"") | X307: =IF(AND(OR(H307="休園",H307="復園"),SUM(V307+W307)>0),SUM(V307+W307),"") | Z307: =IF(H307="在園のまま市内へ転入",(YEAR($R$3)-YEAR(G307))*12+MONTH($R$3)-MONTH(G307)+1,"") | AA307: =IF(Z307>12,12,Z307) -> 12

Sheet 【令和８年度】内訳書（当月請求）年中
B1: 施設等利用費請求金額内訳書（当月請求分 年中） | M1: 子ども子育て支援の提供時間帯 | N1: =請求書!$W$32 -> ～ | R1: 46113 | S1: 45748
B3: No. | C3: 認定子ども | K3: 入園料納付額 | N3: 保育料 納付額 d | O3: 納付額合計 e=c+d | P3: 無償化上限額 f | Q3: 請求金額 eとfの 少ない方 | R3: 46477
C4: 氏名 | D4: 生年月日 | E4: 認定番号 | F4: 認定開始日 | G4: 入園日 | H4: 請求月の 在園状況 （1日時点） | I4: 退園日 | J4: 請求月の請求対象 | K4: 入園料納付総額 a | L4: 年間在園 月数 b | M4: 月額換算 c=a/b
V5: =COUNTIF($H$8:$H$307,"休園") -> 0 | W5: =COUNTIF($H$8:$H$307,"復園") -> 0 | X5: =COUNTIF($H$8:$H$307,"復園") -> 0 | Y5: =COUNTIF($H$8:$H$307,"その他1（支給対象）") -> 0
B6: ① | C6: ② | D6: ③ | E6: ④ | F6: ⑤ | G6: ⑥ | H6: ⑦ | I6: ⑧ | J6: ⑨ | K6: ⑩ | L6: ⑪ | M6: ⑫ | N6: ⑬ | O6: ⑭ | P6: ⑮ | Q6: ⑯ | R6: 月数計算 | V6: =IF($V$5>0,"☆入力箇所☆","") | W6: =IF($W$5>0,"○入力箇所○","") | X6: =IF($X$5>0,"復園を選択した場合の在園月数","") | Y6: =IF($Y$5>0,"■入力箇所■","") | Z6: 計算欄
B7: ― | C7: 必須 | D7: 必須 | E7: 必須 | F7: 必須 | G7: 該当者 | H7: 必須 | I7: 該当者 | J7: ― | K7: 該当者 | L7: 該当者 | M7: ― | N7: 必須 | O7: ― | P7: ― | Q7: ― | T7: 在園 | U7: 在園のまま市内へ転入 | V7: 休園までの在園月数(A) | W7: 復園後の在園月数(B) | X7: 合計在園月数（A+B) | Y7: その他１（支給対象）の在園月数 | Z7: 在園のまま市内へ転入
B8: 1 | J8: =IF(OR(H8="在園",H8="在園のまま市内へ転入",H8="復園",H8="その他1（支給対象）"),"対象",IF(OR(H8="退園",H8="在園のまま市外へ転出",H8="休園",H8="入園キャンセル",H8="その他２（支給対象外）"),"対象外")) -> FALSE | L8: =IF(SUM(T8:U8,X8,Y8:Y8)=0,"",SUM(T8:U8,X8,Y8:Y8)) | M8: =IF(L8="","",ROUNDDOWN(K8/L8,0)) | O8: =SUM(M8:N8) -> 0 | P8: 28000 | Q8: =IF(J8="対象",IF(O8>P8,P8,O8),0) -> 0 | R8: =IF(H8="在園",(YEAR($R$3)-YEAR(F8))*12+MONTH($R$3)-MONTH(F8)+1,"") | S8: =IF(R8>12,"",R8) | T8: =IF(H8="在園",IF(R8>12,12,R8),"") | U8: =IF(H8="在園のまま市内へ転入",AA8,"") | X8: =IF(AND(OR(H8="休園",H8="復園"),SUM(V8+W8)>0),SUM(V8+W8),"") | Z8: =IF(H8="在園のまま市内へ転入",(YEAR($R$3)-YEAR(G8))*12+MONTH($R$3)-MONTH(G8)+1,"") | AA8: =IF(Z8>12,12,Z8) -> 12
B9: 2 | J9: =IF(OR(H9="在園",H9="在園のまま市内へ転入",H9="復園",H9="その他1（支給対象）"),"対象",IF(OR(H9="退園",H9="在園のまま市外へ転出",H9="休園",H9="入園キャンセル",H9="その他２（支給対象外）"),"対象外")) -> FALSE | L9: =IF(SUM(T9:U9,X9,Y9:Y9)=0,"",SUM(T9:U9,X9,Y9:Y9)) | M9: =IF(L9="","",ROUNDDOWN(K9/L9,0)) | O9: =SUM(M9:N9) -> 0 | P9: 28000 | Q9: =IF(J9="対象",IF(O9>P9,P9,O9),0) -> 0 | R9: =IF(H9="在園",(YEAR($R$3)-YEAR(F9))*12+MONTH($R$3)-MONTH(F9)+1,"") | S9: =IF(R9>12,"",R9) | T9: =IF(H9="在園",IF(R9>12,12,R9),"") | U9: =IF(H9="在園のまま市内へ転入",AA9,"") | X9: =IF(AND(OR(H9="休園",H9="復園"),SUM(V9+W9)>0),SUM(V9+W9),"") | Z9: =IF(H9="在園のまま市内へ転入",(YEAR($R$3)-YEAR(G9))*12+MONTH($R$3)-MONTH(G9)+1,"") | AA9: =IF(Z9>12,12,Z9) -> 12
B10: 3 | J10: =IF(OR(H10="在園",H10="在園のまま市内へ転入",H10="復園",H10="その他1（支給対象）"),"対象",IF(OR(H10="退園",H10="在園のまま市外へ転出",H10="休園",H10="入園キャンセル",H10="その他２（支給対象外）"),"対象外")) -> FALSE | L10: =IF(SUM(T10:U10,X10,Y10:Y10)=0,"",SUM(T10:U10,X10,Y10:Y10)) | M10: =IF(L10="","",ROUNDDOWN(K10/L10,0)) | O10: =SUM(M10:N10) -> 0 | P10: 28000 | Q10: =IF(J10="対象",IF(O10>P10,P10,O10),0) -> 0 | R10: =IF(H10="在園",(YEAR($R$3)-YEAR(F10))*12+MONTH($R$3)-MONTH(F10)+1,"") | S10: =IF(R10>12,"",R10) | T10: =IF(H10="在園",IF(R10>12,12,R10),"") | U10: =IF(H10="在園のまま市内へ転入",AA10,"") | X10: =IF(AND(OR(H10="休園",H10="復園"),SUM(V10+W10)>0),SUM(V10+W10),"") | Z10: =IF(H10="在園のまま市内へ転入",(YEAR($R$3)-YEAR(G10))*12+MONTH($R$3)-MONTH(G10)+1,"") | AA10: =IF(Z10>12,12,Z10) -> 12
B11: 4 | J11: =IF(OR(H11="在園",H11="在園のまま市内へ転入",H11="復園",H11="その他1（支給対象）"),"対象",IF(OR(H11="退園",H11="在園のまま市外へ転出",H11="休園",H11="入園キャンセル",H11="その他２（支給対象外）"),"対象外")) -> FALSE | L11: =IF(SUM(T11:U11,X11,Y11:Y11)=0,"",SUM(T11:U11,X11,Y11:Y11)) | M11: =IF(L11="","",ROUNDDOWN(K11/L11,0)) | O11: =SUM(M11:N11) -> 0 | P11: 28000 | Q11: =IF(J11="対象",IF(O11>P11,P11,O11),0) -> 0 | R11: =IF(H11="在園",(YEAR($R$3)-YEAR(F11))*12+MONTH($R$3)-MONTH(F11)+1,"") | S11: =IF(R11>12,"",R11) | T11: =IF(H11="在園",IF(R11>12,12,R11),"") | U11: =IF(H11="在園のまま市内へ転入",AA11,"") | X11: =IF(AND(OR(H11="休園",H11="復園"),SUM(V11+W11)>0),SUM(V11+W11),"") | Z11: =IF(H11="在園のまま市内へ転入",(YEAR($R$3)-YEAR(G11))*12+MONTH($R$3)-MONTH(G11)+1,"") | AA11: =IF(Z11>12,12,Z11) -> 12
B12: 5 | J12: =IF(OR(H12="在園",H12="在園のまま市内へ転入",H12="復園",H12="その他1（支給対象）"),"対象",IF(OR(H12="退園",H12="在園のまま市外へ転出",H12="休園",H12="入園キャンセル",H12="その他２（支給対象外）"),"対象外")) -> FALSE | L12: =IF(SUM(T12:U12,X12,Y12:Y12)=0,"",SUM(T12:U12,X12,Y12:Y12)) | M12: =IF(L12="","",ROUNDDOWN(K12/L12,0)) | O12: =SUM(M12:N12) -> 0 | P12: 28000 | Q12: =IF(J12="対象",IF(O12>P12,P12,O12),0) -> 0 | R12: =IF(H12="在園",(YEAR($R$3)-YEAR(F12))*12+MONTH($R$3)-MONTH(F12)+1,"") | S12: =IF(R12>12,"",R12) | T12: =IF(H12="在園",IF(R12>12,12,R12),"") | U12: =IF(H12="在園のまま市内へ転入",AA12,"") | X12: =IF(AND(OR(H12="休園",H12="復園"),SUM(V12+W12)>0),SUM(V12+W12),"") | Z12: =IF(H12="在園のまま市内へ転入",(YEAR($R$3)-YEAR(G12))*12+MONTH($R$3)-MONTH(G12)+1,"") | AA12: =IF(Z12>12,12,Z12) -> 12
B13: 6 | J13: =IF(OR(H13="在園",H13="在園のまま市内へ転入",H13="復園",H13="その他1（支給対象）"),"対象",IF(OR(H13="退園",H13="在園のまま市外へ転出",H13="休園",H13="入園キャンセル",H13="その他２（支給対象外）"),"対象外")) -> FALSE | L13: =IF(SUM(T13:U13,X13,Y13:Y13)=0,"",SUM(T13:U13,X13,Y13:Y13)) | M13: =IF(L13="","",ROUNDDOWN(K13/L13,0)) | O13: =SUM(M13:N13) -> 0 | P13: 28000 | Q13: =IF(J13="対象",IF(O13>P13,P13,O13),0) -> 0 | R13: =IF(H13="在園",(YEAR($R$3)-YEAR(F13))*12+MONTH($R$3)-MONTH(F13)+1,"") | S13: =IF(R13>12,"",R13) | T13: =IF(H13="在園",IF(R13>12,12,R13),"") | U13: =IF(H13="在園のまま市内へ転入",AA13,"") | X13: =IF(AND(OR(H13="休園",H13="復園"),SUM(V13+W13)>0),SUM(V13+W13),"") | Z13: =IF(H13="在園のまま市内へ転入",(YEAR($R$3)-YEAR(G13))*12+MONTH($R$3)-MONTH(G13)+1,"") | AA13: =IF(Z13>12,12,Z13) -> 12
B14: 7 | J14: =IF(OR(H14="在園",H14="在園のまま市内へ転入",H14="復園",H14="その他1（支給対象）"),"対象",IF(OR(H14="退園",H14="在園のまま市外へ転出",H14="休園",H14="入園キャンセル",H14="その他２（支給対象外）"),"対象外")) -> FALSE | L14: =IF(SUM(T14:U14,X14,Y14:Y14)=0,"",SUM(T14:U14,X14,Y14:Y14)) | M14: =IF(L14="","",ROUNDDOWN(K14/L14,0)) | O14: =SUM(M14:N14) -> 0 | P14: 28000 | Q14: =IF(J14="対象",IF(O14>P14,P14,O14),0) -> 0 | R14: =IF(H14="在園",(YEAR($R$3)-YEAR(F14))*12+MONTH($R$3)-MONTH(F14)+1,"") | S14: =IF(R14>12,"",R14) | T14: =IF(H14="在園",IF(R14>12,12,R14),"") | U14: =IF(H14="在園のまま市内へ転入",AA14,"") | X14: =IF(AND(OR(H14="休園",H14="復園"),SUM(V14+W14)>0),SUM(V14+W14),"") | Z14: =IF(H14="在園のまま市内へ転入",(YEAR($R$3)-YEAR(G14))*12+MONTH($R$3)-MONTH(G14)+1,"") | AA14: =IF(Z14>12,12,Z14) -> 12
B15: 8 | J15: =IF(OR(H15="在園",H15="在園のまま市内へ転入",H15="復園",H15="その他1（支給対象）"),"対象",IF(OR(H15="退園",H15="在園のまま市外へ転出",H15="休園",H15="入園キャンセル",H15="その他２（支給対象外）"),"対象外")) -> FALSE | L15: =IF(SUM(T15:U15,X15,Y15:Y15)=0,"",SUM(T15:U15,X15,Y15:Y15)) | M15: =IF(L15="","",ROUNDDOWN(K15/L15,0)) | O15: =SUM(M15:N15) -> 0 | P15: 28000 | Q15: =IF(J15="対象",IF(O15>P15,P15,O15),0) -> 0 | R15: =IF(H15="在園",(YEAR($R$3)-YEAR(F15))*12+MONTH($R$3)-MONTH(F15)+1,"") | S15: =IF(R15>12,"",R15) | T15: =IF(H15="在園",IF(R15>12,12,R15),"") | U15: =IF(H15="在園のまま市内へ転入",AA15,"") | X15: =IF(AND(OR(H15="休園",H15="復園"),SUM(V15+W15)>0),SUM(V15+W15),"") | Z15: =IF(H15="在園のまま市内へ転入",(YEAR($R$3)-YEAR(G15))*12+MONTH($R$3)-MONTH(G15)+1,"") | AA15: =IF(Z15>12,12,Z15) -> 12
B16: 9 | J16: =IF(OR(H16="在園",H16="在園のまま市内へ転入",H16="復園",H16="その他1（支給対象）"),"対象",IF(OR(H16="退園",H16="在園のまま市外へ転出",H16="休園",H16="入園キャンセル",H16="その他２（支給対象外）"),"対象外")) -> FALSE | L16: =IF(SUM(T16:U16,X16,Y16:Y16)=0,"",SUM(T16:U16,X16,Y16:Y16)) | M16: =IF(L16="","",ROUNDDOWN(K16/L16,0)) | O16: =SUM(M16:N16) -> 0 | P16: 28000 | Q16: =IF(J16="対象",IF(O16>P16,P16,O16),0) -> 0 | R16: =IF(H16="在園",(YEAR($R$3)-YEAR(F16))*12+MONTH($R$3)-MONTH(F16)+1,"") | S16: =IF(R16>12,"",R16) | T16: =IF(H16="在園",IF(R16>12,12,R16),"") | U16: =IF(H16="在園のまま市内へ転入",AA16,"") | X16: =IF(AND(OR(H16="休園",H16="復園"),SUM(V16+W16)>0),SUM(V16+W16),"") | Z16: =IF(H16="在園のまま市内へ転入",(YEAR($R$3)-YEAR(G16))*12+MONTH($R$3)-MONTH(G16)+1,"") | AA16: =IF(Z16>12,12,Z16) -> 12
B17: 10 | J17: =IF(OR(H17="在園",H17="在園のまま市内へ転入",H17="復園",H17="その他1（支給対象）"),"対象",IF(OR(H17="退園",H17="在園のまま市外へ転出",H17="休園",H17="入園キャンセル",H17="その他２（支給対象外）"),"対象外")) -> FALSE | L17: =IF(SUM(T17:U17,X17,Y17:Y17)=0,"",SUM(T17:U17,X17,Y17:Y17)) | M17: =IF(L17="","",ROUNDDOWN(K17/L17,0)) | O17: =SUM(M17:N17) -> 0 | P17: 28000 | Q17: =IF(J17="対象",IF(O17>P17,P17,O17),0) -> 0 | R17: =IF(H17="在園",(YEAR($R$3)-YEAR(F17))*12+MONTH($R$3)-MONTH(F17)+1,"") | S17: =IF(R17>12,"",R17) | T17: =IF(H17="在園",IF(R17>12,12,R17),"") | U17: =IF(H17="在園のまま市内へ転入",AA17,"") | X17: =IF(AND(OR(H17="休園",H17="復園"),SUM(V17+W17)>0),SUM(V17+W17),"") | Z17: =IF(H17="在園のまま市内へ転入",(YEAR($R$3)-YEAR(G17))*12+MONTH($R$3)-MONTH(G17)+1,"") | AA17: =IF(Z17>12,12,Z17) -> 12
B18: 11 | J18: =IF(OR(H18="在園",H18="在園のまま市内へ転入",H18="復園",H18="その他1（支給対象）"),"対象",IF(OR(H18="退園",H18="在園のまま市外へ転出",H18="休園",H18="入園キャンセル",H18="その他２（支給対象外）"),"対象外")) -> FALSE | L18: =IF(SUM(T18:U18,X18,Y18:Y18)=0,"",SUM(T18:U18,X18,Y18:Y18)) | M18: =IF(L18="","",ROUNDDOWN(K18/L18,0)) | O18: =SUM(M18:N18) -> 0 | P18: 28000 | Q18: =IF(J18="対象",IF(O18>P18,P18,O18),0) -> 0 | R18: =IF(H18="在園",(YEAR($R$3)-YEAR(F18))*12+MONTH($R$3)-MONTH(F18)+1,"") | S18: =IF(R18>12,"",R18) | T18: =IF(H18="在園",IF(R18>12,12,R18),"") | U18: =IF(H18="在園のまま市内へ転入",AA18,"") | X18: =IF(AND(OR(H18="休園",H18="復園"),SUM(V18+W18)>0),SUM(V18+W18),"") | Z18: =IF(H18="在園のまま市内へ転入",(YEAR($R$3)-YEAR(G18))*12+MONTH($R$3)-MONTH(G18)+1,"") | AA18: =IF(Z18>12,12,Z18) -> 12
B19: 12 | J19: =IF(OR(H19="在園",H19="在園のまま市内へ転入",H19="復園",H19="その他1（支給対象）"),"対象",IF(OR(H19="退園",H19="在園のまま市外へ転出",H19="休園",H19="入園キャンセル",H19="その他２（支給対象外）"),"対象外")) -> FALSE | L19: =IF(SUM(T19:U19,X19,Y19:Y19)=0,"",SUM(T19:U19,X19,Y19:Y19)) | M19: =IF(L19="","",ROUNDDOWN(K19/L19,0)) | O19: =SUM(M19:N19) -> 0 | P19: 28000 | Q19: =IF(J19="対象",IF(O19>P19,P19,O19),0) -> 0 | R19: =IF(H19="在園",(YEAR($R$3)-YEAR(F19))*12+MONTH($R$3)-MONTH(F19)+1,"") | S19: =IF(R19>12,"",R19) | T19: =IF(H19="在園",IF(R19>12,12,R19),"") | U19: =IF(H19="在園のまま市内へ転入",AA19,"") | X19: =IF(AND(OR(H19="休園",H19="復園"),SUM(V19+W19)>0),SUM(V19+W19),"") | Z19: =IF(H19="在園のまま市内へ転入",(YEAR($R$3)-YEAR(G19))*12+MONTH($R$3)-MONTH(G19)+1,"") | AA19: =IF(Z19>12,12,Z19) -> 12
... B307: 300 | J307: =IF(OR(H307="在園",H307="在園のまま市内へ転入",H307="復園",H307="その他1（支給対象）"),"対象",IF(OR(H307="退園",H307="在園のまま市外へ転出",H307="休園",H307="入園キャンセル",H307="その他２（支給対象外）"),"対象外")) -> FALSE | L307: =IF(SUM(T307:U307,X307,Y307:Y307)=0,"",SUM(T307:U307,X307,Y307:Y307)) | M307: =IF(L307="","",ROUNDDOWN(K307/L307,0)) | O307: =SUM(M307:N307) -> 0 | P307: 28000 | Q307: =IF(J307="対象",IF(O307>P307,P307,O307),0) -> 0 | R307: =IF(H307="在園",(YEAR($R$3)-YEAR(F307))*12+MONTH($R$3)-MONTH(F307)+1,"") | S307: =IF(R307>12,"",R307) | T307: =IF(H307="在園",IF(R307>12,12,R307),"") | U307: =IF(H307="在園のまま市内へ転入",AA307,"") | X307: =IF(AND(OR(H307="休園",H307="復園"),SUM(V307+W307)>0),SUM(V307+W307),"") | Z307: =IF(H307="在園のまま市内へ転入",(YEAR($R$3)-YEAR(G307))*12+MONTH($R$3)-MONTH(G307)+1,"") | AA307: =IF(Z307>12,12,Z307) -> 12

Sheet 【令和８年度】内訳書（当月請求）年長
B1: 施設等利用費請求金額内訳書（当月請求分 年長） | M1: 子ども子育て支援の提供時間帯 | N1: =請求書!$W$32 -> ～ | R1: 46113 | S1: 45748
B3: No. | C3: 認定子ども | K3: 入園料納付額 | N3: 保育料 納付額 d | O3: 納付額合計 e=c+d | P3: 無償化上限額 f | Q3: 請求金額 eとfの 少ない方 | R3: 46477
C4: 氏名 | D4: 生年月日 | E4: 認定番号 | F4: 認定開始日 | G4: 入園日 | H4: 請求月の 在園状況 （1日時点） | I4: 退園日 | J4: 請求月の請求対象 | K4: 入園料納付総額 a | L4: 年間在園 月数 b | M4: 月額換算 c=a/b
V5: =COUNTIF($H$8:$H$307,"休園") -> 0 | W5: =COUNTIF($H$8:$H$307,"復園") -> 0 | X5: =COUNTIF($H$8:$H$307,"復園") -> 0 | Y5: =COUNTIF($H$8:$H$307,"その他1（支給対象）") -> 0
B6: ① | C6: ② | D6: ③ | E6: ④ | F6: ⑤ | G6: ⑥ | H6: ⑦ | I6: ⑧ | J6: ⑨ | K6: ⑩ | L6: ⑪ | M6: ⑫ | N6: ⑬ | O6: ⑭ | P6: ⑮ | Q6: ⑯ | R6: 月数計算 | V6: =IF($V$5>0,"☆入力箇所☆","") | W6: =IF($W$5>0,"○入力箇所○","") | X6: =IF($X$5>0,"復園を選択した場合の在園月数","") | Y6: =IF($Y$5>0,"■入力箇所■","") | Z6: 計算欄
B7: ― | C7: 必須 | D7: 必須 | E7: 必須 | F7: 必須 | G7: 該当者 | H7: 必須 | I7: 該当者 | J7: ― | K7: 該当者 | L7: 該当者 | M7: ― | N7: 必須 | O7: ― | P7: ― | Q7: ― | T7: 在園 | U7: 在園のまま市内へ転入 | V7: 休園までの在園月数(A) | W7: 復園後の在園月数(B) | X7: 合計在園月数（A+B) | Y7: その他１（支給対象）の在園月数 | Z7: 在園のまま市内へ転入
B8: 1 | J8: =IF(OR(H8="在園",H8="在園のまま市内へ転入",H8="復園",H8="その他1（支給対象）"),"対象",IF(OR(H8="退園",H8="在園のまま市外へ転出",H8="休園",H8="入園キャンセル",H8="その他２（支給対象外）"),"対象外")) -> FALSE | L8: =IF(SUM(T8:U8,X8,Y8:Y8)=0,"",SUM(T8:U8,X8,Y8:Y8)) | M8: =IF(L8="","",ROUNDDOWN(K8/L8,0)) | O8: =SUM(M8:N8) -> 0 | P8: 28000 | Q8: =IF(J8="対象",IF(O8>P8,P8,O8),0) -> 0 | R8: =IF(H8="在園",(YEAR($R$3)-YEAR(F8))*12+MONTH($R$3)-MONTH(F8)+1,"") | S8: =IF(R8>12,"",R8) | T8: =IF(H8="在園",IF(R8>12,12,R8),"") | U8: =IF(H8="在園のまま市内へ転入",AA8,"") | X8: =IF(AND(OR(H8="休園",H8="復園"),SUM(V8+W8)>0),SUM(V8+W8),"") | Z8: =IF(H8="在園のまま市内へ転入",(YEAR($R$3)-YEAR(G8))*12+MONTH($R$3)-MONTH(G8)+1,"") | AA8: =IF(Z8>12,12,Z8) -> 12
B9: 2 | J9: =IF(OR(H9="在園",H9="在園のまま市内へ転入",H9="復園",H9="その他1（支給対象）"),"対象",IF(OR(H9="退園",H9="在園のまま市外へ転出",H9="休園",H9="入園キャンセル",H9="その他２（支給対象外）"),"対象外")) -> FALSE | L9: =IF(SUM(T9:U9,X9,Y9:Y9)=0,"",SUM(T9:U9,X9,Y9:Y9)) | M9: =IF(L9="","",ROUNDDOWN(K9/L9,0)) | O9: =SUM(M9:N9) -> 0 | P9: 28000 | Q9: =IF(J9="対象",IF(O9>P9,P9,O9),0) -> 0 | R9: =IF(H9="在園",(YEAR($R$3)-YEAR(F9))*12+MONTH($R$3)-MONTH(F9)+1,"") | S9: =IF(R9>12,"",R9) | T9: =IF(H9="在園",IF(R9>12,12,R9),"") | U9: =IF(H9="在園のまま市内へ転入",AA9,"") | X9: =IF(AND(OR(H9="休園",H9="復園"),SUM(V9+W9)>0),SUM(V9+W9),"") | Z9: =IF(H9="在園のまま市内へ転入",(YEAR($R$3)-YEAR(G9))*12+MONTH($R$3)-MONTH(G9)+1,"") | AA9: =IF(Z9>12,12,Z9) -> 12
B10: 3 | J10: =IF(OR(H10="在園",H10="在園のまま市内へ転入",H10="復園",H10="その他1（支給対象）"),"対象",IF(OR(H10="退園",H10="在園のまま市外へ転出",H10="休園",H10="入園キャンセル",H10="その他２（支給対象外）"),"対象外")) -> FALSE | L10: =IF(SUM(T10:U10,X10,Y10:Y10)=0,"",SUM(T10:U10,X10,Y10:Y10)) | M10: =IF(L10="","",ROUNDDOWN(K10/L10,0)) | O10: =SUM(M10:N10) -> 0 | P10: 28000 | Q10: =IF(J10="対象",IF(O10>P10,P10,O10),0) -> 0 | R10: =IF(H10="在園",(YEAR($R$3)-YEAR(F10))*12+MONTH($R$3)-MONTH(F10)+1,"") | S10: =IF(R10>12,"",R10) | T10: =IF(H10="在園",IF(R10>12,12,R10),"") | U10: =IF(H10="在園のまま市内へ転入",AA10,"") | X10: =IF(AND(OR(H10="休園",H10="復園"),SUM(V10+W10)>0),SUM(V10+W10),"") | Z10: =IF(H10="在園のまま市内へ転入",(YEAR($R$3)-YEAR(G10))*12+MONTH($R$3)-MONTH(G10)+1,"") | AA10: =IF(Z10>12,12,Z10) -> 12
B11: 4 | J11: =IF(OR(H11="在園",H11="在園のまま市内へ転入",H11="復園",H11="その他1（支給対象）"),"対象",IF(OR(H11="退園",H11="在園のまま市外へ転出",H11="休園",H11="入園キャンセル",H11="その他２（支給対象外）"),"対象外")) -> FALSE | L11: =IF(SUM(T11:U11,X11,Y11:Y11)=0,"",SUM(T11:U11,X11,Y11:Y11)) | M11: =IF(L11="","",ROUNDDOWN(K11/L11,0)) | O11: =SUM(M11:N11) -> 0 | P11: 28000 | Q11: =IF(J11="対象",IF(O11>P11,P11,O11),0) -> 0 | R11: =IF(H11="在園",(YEAR($R$3)-YEAR(F11))*12+MONTH($R$3)-MONTH(F11)+1,"") | S11: =IF(R11>12,"",R11) | T11: =IF(H11="在園",IF(R11>12,12,R11),"") | U11: =IF(H11="在園のまま市内へ転入",AA11,"") | X11: =IF(AND(OR(H11="休園",H11="復園"),SUM(V11+W11)>0),SUM(V11+W11),"") | Z11: =IF(H11="在園のまま市内へ転入",(YEAR($R$3)-YEAR(G11))*12+MONTH($R$3)-MONTH(G11)+1,"") | AA11: =IF(Z11>12,12,Z11) -> 12
B12: 5 | J12: =IF(OR(H12="在園",H12="在園のまま市内へ転入",H12="復園",H12="その他1（支給対象）"),"対象",IF(OR(H12="退園",H12="在園のまま市外へ転出",H12="休園",H12="入園キャンセル",H12="その他２（支給対象外）"),"対象外")) -> FALSE | L12: =IF(SUM(T12:U12,X12,Y12:Y12)=0,"",SUM(T12:U12,X12,Y12:Y12)) | M12: =IF(L12="","",ROUNDDOWN(K12/L12,0)) | O12: =SUM(M12:N12) -> 0 | P12: 28000 | Q12: =IF(J12="対象",IF(O12>P12,P12,O12),0) -> 0 | R12: =IF(H12="在園",(YEAR($R$3)-YEAR(F12))*12+MONTH($R$3)-MONTH(F12)+1,"") | S12: =IF(R12>12,"",R12) | T12: =IF(H12="在園",IF(R12>12,12,R12),"") | U12: =IF(H12="在園のまま市内へ転入",AA12,"") | X12: =IF(AND(OR(H12="休園",H12="復園"),SUM(V12+W12)>0),SUM(V12+W12),"") | Z12: =IF(H12="在園のまま市内へ転入",(YEAR($R$3)-YEAR(G12))*12+MONTH($R$3)-MONTH(G12)+1,"") | AA12: =IF(Z12>12,12,Z12) -> 12
B13: 6 | J13: =IF(OR(H13="在園",H13="在園のまま市内へ転入",H13="復園",H13="その他1（支給対象）"),"対象",IF(OR(H13="退園",H13="在園のまま市外へ転出",H13="休園",H13="入園キャンセル",H13="その他２（支給対象外）"),"対象外")) -> FALSE | L13: =IF(SUM(T13:U13,X13,Y13:Y13)=0,"",SUM(T13:U13,X13,Y13:Y13)) | M13: =IF(L13="","",ROUNDDOWN(K13/L13,0)) | O13: =SUM(M13:N13) -> 0 | P13: 28000 | Q13: =IF(J13="対象",IF(O13>P13,P13,O13),0) -> 0 | R13: =IF(H13="在園",(YEAR($R$3)-YEAR(F13))*12+MONTH($R$3)-MONTH(F13)+1,"") | S13: =IF(R13>12,"",R13) | T13: =IF(H13="在園",IF(R13>12,12,R13),"") | U13: =IF(H13="在園のまま市内へ転入",AA13,"") | X13: =IF(AND(OR(H13="休園",H13="復園"),SUM(V13+W13)>0),SUM(V13+W13),"") | Z13: =IF(H13="在園のまま市内へ転入",(YEAR($R$3)-YEAR(G13))*12+MONTH($R$3)-MONTH(G13)+1,"") | AA13: =IF(Z13>12,12,Z13) -> 12
B14: 7 | J14: =IF(OR(H14="在園",H14="在園のまま市内へ転入",H14="復園",H14="その他1（支給対象）"),"対象",IF(OR(H14="退園",H14="在園のまま市外へ転出",H14="休園",H14="入園キャンセル",H14="その他２（支給対象外）"),"対象外")) -> FALSE | L14: =IF(SUM(T14:U14,X14,Y14:Y14)=0,"",SUM(T14:U14,X14,Y14:Y14)) | M14: =IF(L14="","",ROUNDDOWN(K14/L14,0)) | O14: =SUM(M14:N14) -> 0 | P14: 28000 | Q14: =IF(J14="対象",IF(O14>P14,P14,O14),0) -> 0 | R14: =IF(H14="在園",(YEAR($R$3)-YEAR(F14))*12+MONTH($R$3)-MONTH(F14)+1,"") | S14: =IF(R14>12,"",R14) | T14: =IF(H14="在園",IF(R14>12,12,R14),"") | U14: =IF(H14="在園のまま市内へ転入",AA14,"") | X14: =IF(AND(OR(H14="休園",H14="復園"),SUM(V14+W14)>0),SUM(V14+W14),"") | Z14: =IF(H14="在園のまま市内へ転入",(YEAR($R$3)-YEAR(G14))*12+MONTH($R$3)-MONTH(G14)+1,"") | AA14: =IF(Z14>12,12,Z14) -> 12
B15: 8 | J15: =IF(OR(H15="在園",H15="在園のまま市内へ転入",H15="復園",H15="その他1（支給対象）"),"対象",IF(OR(H15="退園",H15="在園のまま市外へ転出",H15="休園",H15="入園キャンセル",H15="その他２（支給対象外）"),"対象外")) -> FALSE | L15: =IF(SUM(T15:U15,X15,Y15:Y15)=0,"",SUM(T15:U15,X15,Y15:Y15)) | M15: =IF(L15="","",ROUNDDOWN(K15/L15,0)) | O15: =SUM(M15:N15) -> 0 | P15: 28000 | Q15: =IF(J15="対象",IF(O15>P15,P15,O15),0) -> 0 | R15: =IF(H15="在園",(YEAR($R$3)-YEAR(F15))*12+MONTH($R$3)-MONTH(F15)+1,"") | S15: =IF(R15>12,"",R15) | T15: =IF(H15="在園",IF(R15>12,12,R15),"") | U15: =IF(H15="在園のまま市内へ転入",AA15,"") | X15: =IF(AND(OR(H15="休園",H15="復園"),SUM(V15+W15)>0),SUM(V15+W15),"") | Z15: =IF(H15="在園のまま市内へ転入",(YEAR($R$3)-YEAR(G15))*12+MONTH($R$3)-MONTH(G15)+1,"") | AA15: =IF(Z15>12,12,Z15) -> 12
B16: 9 | J16: =IF(OR(H16="在園",H16="在園のまま市内へ転入",H16="復園",H16="その他1（支給対象）"),"対象",IF(OR(H16="退園",H16="在園のまま市外へ転出",H16="休園",H16="入園キャンセル",H16="その他２（支給対象外）"),"対象外")) -> FALSE | L16: =IF(SUM(T16:U16,X16,Y16:Y16)=0,"",SUM(T16:U16,X16,Y16:Y16)) | M16: =IF(L16="","",ROUNDDOWN(K16/L16,0)) | O16: =SUM(M16:N16) -> 0 | P16: 28000 | Q16: =IF(J16="対象",IF(O16>P16,P16,O16),0) -> 0 | R16: =IF(H16="在園",(YEAR($R$3)-YEAR(F16))*12+MONTH($R$3)-MONTH(F16)+1,"") | S16: =IF(R16>12,"",R16) | T16: =IF(H16="在園",IF(R16>12,12,R16),"") | U16: =IF(H16="在園のまま市内へ転入",AA16,"") | X16: =IF(AND(OR(H16="休園",H16="復園"),SUM(V16+W16)>0),SUM(V16+W16),"") | Z16: =IF(H16="在園のまま市内へ転入",(YEAR($R$3)-YEAR(G16))*12+MONTH($R$3)-MONTH(G16)+1,"") | AA16: =IF(Z16>12,12,Z16) -> 12
B17: 10 | J17: =IF(OR(H17="在園",H17="在園のまま市内へ転入",H17="復園",H17="その他1（支給対象）"),"対象",IF(OR(H17="退園",H17="在園のまま市外へ転出",H17="休園",H17="入園キャンセル",H17="その他２（支給対象外）"),"対象外")) -> FALSE | L17: =IF(SUM(T17:U17,X17,Y17:Y17)=0,"",SUM(T17:U17,X17,Y17:Y17)) | M17: =IF(L17="","",ROUNDDOWN(K17/L17,0)) | O17: =SUM(M17:N17) -> 0 | P17: 28000 | Q17: =IF(J17="対象",IF(O17>P17,P17,O17),0) -> 0 | R17: =IF(H17="在園",(YEAR($R$3)-YEAR(F17))*12+MONTH($R$3)-MONTH(F17)+1,"") | S17: =IF(R17>12,"",R17) | T17: =IF(H17="在園",IF(R17>12,12,R17),"") | U17: =IF(H17="在園のまま市内へ転入",AA17,"") | X17: =IF(AND(OR(H17="休園",H17="復園"),SUM(V17+W17)>0),SUM(V17+W17),"") | Z17: =IF(H17="在園のまま市内へ転入",(YEAR($R$3)-YEAR(G17))*12+MONTH($R$3)-MONTH(G17)+1,"") | AA17: =IF(Z17>12,12,Z17) -> 12
B18: 11 | J18: =IF(OR(H18="在園",H18="在園のまま市内へ転入",H18="復園",H18="その他1（支給対象）"),"対象",IF(OR(H18="退園",H18="在園のまま市外へ転出",H18="休園",H18="入園キャンセル",H18="その他２（支給対象外）"),"対象外")) -> FALSE | L18: =IF(SUM(T18:U18,X18,Y18:Y18)=0,"",SUM(T18:U18,X18,Y18:Y18)) | M18: =IF(L18="","",ROUNDDOWN(K18/L18,0)) | O18: =SUM(M18:N18) -> 0 | P18: 28000 | Q18: =IF(J18="対象",IF(O18>P18,P18,O18),0) -> 0 | R18: =IF(H18="在園",(YEAR($R$3)-YEAR(F18))*12+MONTH($R$3)-MONTH(F18)+1,"") | S18: =IF(R18>12,"",R18) | T18: =IF(H18="在園",IF(R18>12,12,R18),"") | U18: =IF(H18="在園のまま市内へ転入",AA18,"") | X18: =IF(AND(OR(H18="休園",H18="復園"),SUM(V18+W18)>0),SUM(V18+W18),"") | Z18: =IF(H18="在園のまま市内へ転入",(YEAR($R$3)-YEAR(G18))*12+MONTH($R$3)-MONTH(G18)+1,"") | AA18: =IF(Z18>12,12,Z18) -> 12
B19: 12 | J19: =IF(OR(H19="在園",H19="在園のまま市内へ転入",H19="復園",H19="その他1（支給対象）"),"対象",IF(OR(H19="退園",H19="在園のまま市外へ転出",H19="休園",H19="入園キャンセル",H19="その他２（支給対象外）"),"対象外")) -> FALSE | L19: =IF(SUM(T19:U19,X19,Y19:Y19)=0,"",SUM(T19:U19,X19,Y19:Y19)) | M19: =IF(L19="","",ROUNDDOWN(K19/L19,0)) | O19: =SUM(M19:N19) -> 0 | P19: 28000 | Q19: =IF(J19="対象",IF(O19>P19,P19,O19),0) -> 0 | R19: =IF(H19="在園",(YEAR($R$3)-YEAR(F19))*12+MONTH($R$3)-MONTH(F19)+1,"") | S19: =IF(R19>12,"",R19) | T19: =IF(H19="在園",IF(R19>12,12,R19),"") | U19: =IF(H19="在園のまま市内へ転入",AA19,"") | X19: =IF(AND(OR(H19="休園",H19="復園"),SUM(V19+W19)>0),SUM(V19+W19),"") | Z19: =IF(H19="在園のまま市内へ転入",(YEAR($R$3)-YEAR(G19))*12+MONTH($R$3)-MONTH(G19)+1,"") | AA19: =IF(Z19>12,12,Z19) -> 12
... B307: 300 | J307: =IF(OR(H307="在園",H307="在園のまま市内へ転入",H307="復園",H307="その他1（支給対象）"),"対象",IF(OR(H307="退園",H307="在園のまま市外へ転出",H307="休園",H307="入園キャンセル",H307="その他２（支給対象外）"),"対象外")) -> FALSE | L307: =IF(SUM(T307:U307,X307,Y307:Y307)=0,"",SUM(T307:U307,X307,Y307:Y307)) | M307: =IF(L307="","",ROUNDDOWN(K307/L307,0)) | O307: =SUM(M307:N307) -> 0 | P307: 28000 | Q307: =IF(J307="対象",IF(O307>P307,P307,O307),0) -> 0 | R307: =IF(H307="在園",(YEAR($R$3)-YEAR(F307))*12+MONTH($R$3)-MONTH(F307)+1,"") | S307: =IF(R307>12,"",R307) | T307: =IF(H307="在園",IF(R307>12,12,R307),"") | U307: =IF(H307="在園のまま市内へ転入",AA307,"") | X307: =IF(AND(OR(H307="休園",H307="復園"),SUM(V307+W307)>0),SUM(V307+W307),"") | Z307: =IF(H307="在園のまま市内へ転入",(YEAR($R$3)-YEAR(G307))*12+MONTH($R$3)-MONTH(G307)+1,"") | AA307: =IF(Z307>12,12,Z307) -> 12

Sheet 【令和８年度】内訳書（追加調整）
B1: 施設等利用費請求金額内訳書（追加調整分） | P1: 子ども子育て支援の提供時間帯 | Q1: =請求書!$W$32 -> ～ | Z1: 46113
B3: No. | C3: 認定子ども | I3: 追加調整 | L3: 異動事由 | P3: 入園料納付額 | S3: 保育料 納付額 e | T3: 納付額合計 f=d+e | U3: 無償化上限額 g | V3: 請求金額 h=fとgの 少ない方 | W3: 追加調整額 h-a | Z3: 46477
C4: 氏名 | D4: 生年月日 | E4: 認定番号 | F4: 認定開始日 | G4: 認定終了日 | H4: 入園日 | I4: 追加調整する利用年月 | K4: 追加調整する利用月で既に市から支給された額 a | L4: 異動事由 | M4: 異動年月日（異動事由を退園、休園、復園を選択した時のみ入力） | N4: 異動月の在園日数 数値を入力してください。 | O4: 異動月の平日日数 数値を入力してください。 | P4: 入園料納付総額 b | Q4: 年間在園月数 c | R4: 月額換算 d=b/c | AH4: =COUNTIF($L$8:$L$407,"休園")+COUNTIF($L$8:$L$407,"復園") -> 0 | AI4: =COUNTIF($L$8:$L$407,"復園") -> 0 | AK4: =COUNTIF($L$8:$L$407,"その他1（支給対象）") -> 0 | AL4: =COUNTIF($L$8:$L$407,"その他２（支給対象外）") -> 0
I5: 年 | J5: 月 | Z5: 月数計算 | AH5: =IF($AH$4>0,"☆入力箇所☆","") | AI5: =IF($AI$4>0,"○入力箇所○","") | AJ5: =IF($AI$4>0,"復園を選択した場合の在園月数","") | AK5: =IF($AK$4>0,"■入力箇所■","") | AL5: =IF($AL$4>0,"▲入力箇所▲","")
B6: ① | C6: ② | D6: ③ | E6: ④ | F6: ⑤ | G6: ⑥ | H6: ⑦ | I6: ⑧ | K6: ⑨ | L6: ⑩ | M6: ⑪ | N6: ⑫ | O6: ⑬ | P6: ⑭ | Q6: ⑮ | R6: ⑯ | S6: ⑰ | T6: ⑱ | U6: ⑲ | V6: ⑳ | W6: ㉑ | Y6: 計算欄 | Z6: 入園 | AA6: 計算欄 | AC6: 退園日までの月数（計算結果） | AD6: 計算欄 | AE6: 在園のまま市内へ転入した場合の当該年度の在園月数 | AF6: 計算欄 | AG6: 在園のまま市外へ転出した場合の当該年度の在園月数 | AH6: 休園までの在園月数(A) | AI6: 復園後の在園月数(B) | AJ6: 合計在園月数（A+B) | AK6: その他１（支給対象）の在園月数 | AL6: その他２（支給対象外） | AM6: 昨年度退園 | AN6: 計算欄 | AO6: 満３歳
B7: ― | C7: 必須 | D7: 必須 | E7: 必須 | F7: 必須 | G7: 該当者 | H7: 該当者 | I7: 必須 | K7: 必須 | L7: 必須 | M7: 該当者 | N7: 該当者 | O7: 該当者 | P7: 該当者 | Q7: ― | R7: ― | S7: 必須 | T7: ― | U7: ― | V7: ― | W7: ―
B8: 1 | Q8: =IF(SUM(Z8,AC8,AE8,AG8,AJ8,AK8,AL8,AO8)=0,"",SUM(Z8,AC8,AE8,AG8,AJ8,AK8,AL8,AO8)) | R8: =IF(Q8="","",ROUNDDOWN(P8/Q8,0)) | T8: =SUM(R8:S8) -> 0 | U8: 28000 | V8: =IF(T8>U8,U8,T8) -> 0 | W8: =V8-K8 -> 0 | Y8: =IF(AND(NOT(F8=""),L8="入園"),((YEAR($Z$3)-YEAR(F8))*12+MONTH($Z$3)-MONTH(F8)+1),"") | Z8: =IF(AND(Y8>12,L8="入園"),12,Y8) | AA8: =IF(AND(NOT(M8=""),L8="退園"),IF(YEAR(M8)>YEAR($Z$1),(YEAR(M8)-YEAR($Z$1))*12+MONTH(M8)-MONTH($Z$1)+IF(DAY($Z$1)<=DAY(M8),1,0),(YEAR($Z$1)-YEAR(M8))*12+MONTH($Z$1)-MONTH(M8)+IF(DAY($Z$1)<=DAY(M8),1,0)),"") | AB8: =IF(AND(NOT(M8=""),L8="退園"),IF(MONTH(M8)>MONTH($Z$1),(YEAR($Z$1)-YEAR(M8))*12+MONTH(M8)-MONTH($Z$1)+IF(DAY($Z$1)<=DAY(M8),1,0),(YEAR($Z$1)-YEAR(M8))*12+MONTH($Z$1)-MONTH(M8)+IF(DAY($Z$1)<=DAY(M8),1,0)),"") | AC8: =IF(AA8<=AB8,AB8,AA8) | AD8: =IF(AND(NOT(H8=""),L8="在園のまま市内へ転入"),(YEAR($Z$3)-YEAR(H8))*12+MONTH($Z$3)-MONTH(H8)+1,"") | AE8: =IF(AND(L8="在園のまま市内へ転入",AD8>12),12,AD8) | AF8: =IF(L8="在園のまま市外へ転出",((YEAR($Z$3)-YEAR(F8))*12+MONTH($Z$3)-MONTH(F8)+1),"") | AG8: =IF(AF8="","",IF((AF8>12),12,AF8)) | AJ8: =AH8+AI8 -> 0 | AM8: =COUNTIF(M8,"<2023/4/1") -> 0 | AN8: =IF(AND(NOT(F8=""),L8="満３歳"),((YEAR($Z$3)-YEAR(F8))*12+MONTH($Z$3)-MONTH(F8)+1),"") | AO8: =IF(AND(L8="満３歳",AN8>12),12,AN8) | AP8: =IF(OR(N8="",O8=""),25700,ROUNDDOWN(25700*(N8/O8),0)) -> 25700 | AQ8: =IF(OR(N8="",O8=""),28000,ROUNDDOWN(28000*(N8/O8),0)) -> 28000
B9: 2 | Q9: =IF(SUM(Z9,AC9,AE9,AG9,AJ9,AK9,AL9)=0,"",SUM(Z9,AC9,AE9,AG9,AJ9,AK9,AL9)) | R9: =IF(Q9="","",ROUNDDOWN(P9/Q9,0)) | T9: =SUM(R9:S9) -> 0 | U9: 28000 | V9: =IF(T9>U9,U9,T9) -> 0 | W9: =V9-K9 -> 0 | Y9: =IF(AND(NOT(F9=""),L9="入園"),((YEAR($Z$3)-YEAR(F9))*12+MONTH($Z$3)-MONTH(F9)+1),"") | Z9: =IF(AND(Y9>12,L9="入園"),12,Y9) | AA9: =IF(AND(NOT(M9=""),L9="退園"),IF(YEAR(M9)>YEAR($Z$1),(YEAR(M9)-YEAR($Z$1))*12+MONTH(M9)-MONTH($Z$1)+IF(DAY($Z$1)<=DAY(M9),1,0),(YEAR($Z$1)-YEAR(M9))*12+MONTH($Z$1)-MONTH(M9)+IF(DAY($Z$1)<=DAY(M9),1,0)),"") | AB9: =IF(AND(NOT(M9=""),L9="退園"),IF(MONTH(M9)>MONTH($Z$1),(YEAR($Z$1)-YEAR(M9))*12+MONTH(M9)-MONTH($Z$1)+IF(DAY($Z$1)<=DAY(M9),1,0),(YEAR($Z$1)-YEAR(M9))*12+MONTH($Z$1)-MONTH(M9)+IF(DAY($Z$1)<=DAY(M9),1,0)),"") | AC9: =IF(AA9<=AB9,AB9,AA9) | AD9: =IF(AND(NOT(H9=""),L9="在園のまま市内へ転入"),(YEAR($Z$3)-YEAR(H9))*12+MONTH($Z$3)-MONTH(H9)+1,"") | AE9: =IF(AND(L9="在園のまま市内へ転入",AD9>12),12,AD9) | AF9: =IF(L9="在園のまま市外へ転出",((YEAR($Z$3)-YEAR(F9))*12+MONTH($Z$3)-MONTH(F9)+1),"") | AG9: =IF(AF9="","",IF((AF9>12),12,AF9)) | AJ9: =AH9+AI9 -> 0 | AM9: =COUNTIF(M9,"<2023/4/1") -> 0 | AN9: =IF(AND(NOT(F9=""),L9="満３歳"),((YEAR($Z$3)-YEAR(F9))*12+MONTH($Z$3)-MONTH(F9)+1),"") | AO9: =IF(AND(L9="満３歳",AN9>12),12,AN9) | AP9: =IF(OR(N9="",O9=""),25700,ROUNDDOWN(25700*(N9/O9),0)) -> 25700 | AQ9: =IF(OR(N9="",O9=""),28000,ROUNDDOWN(28000*(N9/O9),0)) -> 28000
B10: 3 | Q10: =IF(SUM(Z10,AC10,AE10,AG10,AJ10,AK10,AL10)=0,"",SUM(Z10,AC10,AE10,AG10,AJ10,AK10,AL10)) | R10: =IF(Q10="","",ROUNDDOWN(P10/Q10,0)) | T10: =SUM(R10:S10) -> 0 | U10: 25700 | V10: =IF(T10>U10,U10,T10) -> 0 | W10: =V10-K10 -> 0 | Y10: =IF(AND(NOT(F10=""),L10="入園"),((YEAR($Z$3)-YEAR(F10))*12+MONTH($Z$3)-MONTH(F10)+1),"") | Z10: =IF(AND(Y10>12,L10="入園"),12,Y10) | AA10: =IF(AND(NOT(M10=""),L10="退園"),IF(YEAR(M10)>YEAR($Z$1),(YEAR(M10)-YEAR($Z$1))*12+MONTH(M10)-MONTH($Z$1)+IF(DAY($Z$1)<=DAY(M10),1,0),(YEAR($Z$1)-YEAR(M10))*12+MONTH($Z$1)-MONTH(M10)+IF(DAY($Z$1)<=DAY(M10),1,0)),"") | AB10: =IF(AND(NOT(M10=""),L10="退園"),IF(MONTH(M10)>MONTH($Z$1),(YEAR($Z$1)-YEAR(M10))*12+MONTH(M10)-MONTH($Z$1)+IF(DAY($Z$1)<=DAY(M10),1,0),(YEAR($Z$1)-YEAR(M10))*12+MONTH($Z$1)-MONTH(M10)+IF(DAY($Z$1)<=DAY(M10),1,0)),"") | AC10: =IF(AA10<=AB10,AB10,AA10) | AD10: =IF(AND(NOT(H10=""),L10="在園のまま市内へ転入"),(YEAR($Z$3)-YEAR(H10))*12+MONTH($Z$3)-MONTH(H10)+1,"") | AE10: =IF(AND(L10="在園のまま市内へ転入",AD10>12),12,AD10) | AF10: =IF(L10="在園のまま市外へ転出",((YEAR($Z$3)-YEAR(F10))*12+MONTH($Z$3)-MONTH(F10)+1),"") | AG10: =IF(AF10="","",IF((AF10>12),12,AF10)) | AJ10: =AH10+AI10 -> 0 | AM10: =COUNTIF(M10,"<2023/4/1") -> 0 | AN10: =IF(AND(NOT(F10=""),L10="満３歳"),((YEAR($Z$3)-YEAR(F10))*12+MONTH($Z$3)-MONTH(F10)+1),"") | AO10: =IF(AND(L10="満３歳",AN10>12),12,AN10) | AP10: =IF(OR(N10="",O10=""),25700,ROUNDDOWN(25700*(N10/O10),0)) -> 25700 | AQ10: =IF(OR(N10="",O10=""),28000,ROUNDDOWN(28000*(N10/O10),0)) -> 28000
B11: 4 | Q11: =IF(SUM(Z11,AC11,AE11,AG11,AJ11,AK11,AL11)=0,"",SUM(Z11,AC11,AE11,AG11,AJ11,AK11,AL11)) | R11: =IF(Q11="","",ROUNDDOWN(P11/Q11,0)) | T11: =SUM(R11:S11) -> 0 | U11: 28000 | V11: =IF(T11>U11,U11,T11) -> 0 | W11: =V11-K11 -> 0 | Y11: =IF(AND(NOT(F11=""),L11="入園"),((YEAR($Z$3)-YEAR(F11))*12+MONTH($Z$3)-MONTH(F11)+1),"") | Z11: =IF(AND(Y11>12,L11="入園"),12,Y11) | AA11: =IF(AND(NOT(M11=""),L11="退園"),IF(YEAR(M11)>YEAR($Z$1),(YEAR(M11)-YEAR($Z$1))*12+MONTH(M11)-MONTH($Z$1)+IF(DAY($Z$1)<=DAY(M11),1,0),(YEAR($Z$1)-YEAR(M11))*12+MONTH($Z$1)-MONTH(M11)+IF(DAY($Z$1)<=DAY(M11),1,0)),"") | AB11: =IF(AND(NOT(M11=""),L11="退園"),IF(MONTH(M11)>MONTH($Z$1),(YEAR($Z$1)-YEAR(M11))*12+MONTH(M11)-MONTH($Z$1)+IF(DAY($Z$1)<=DAY(M11),1,0),(YEAR($Z$1)-YEAR(M11))*12+MONTH($Z$1)-MONTH(M11)+IF(DAY($Z$1)<=DAY(M11),1,0)),"") | AC11: =IF(AA11<=AB11,AB11,AA11) | AD11: =IF(AND(NOT(H11=""),L11="在園のまま市内へ転入"),(YEAR($Z$3)-YEAR(H11))*12+MONTH($Z$3)-MONTH(H11)+1,"") | AE11: =IF(AND(L11="在園のまま市内へ転入",AD11>12),12,AD11) | AF11: =IF(L11="在園のまま市外へ転出",((YEAR($Z$3)-YEAR(F11))*12+MONTH($Z$3)-MONTH(F11)+1),"") | AG11: =IF(AF11="","",IF((AF11>12),12,AF11)) | AJ11: =AH11+AI11 -> 0 | AM11: =COUNTIF(M11,"<2023/4/1") -> 0 | AN11: =IF(AND(NOT(F11=""),L11="満３歳"),((YEAR($Z$3)-YEAR(F11))*12+MONTH($Z$3)-MONTH(F11)+1),"") | AO11: =IF(AND(L11="満３歳",AN11>12),12,AN11) | AP11: =IF(OR(N11="",O11=""),25700,ROUNDDOWN(25700*(N11/O11),0)) -> 25700 | AQ11: =IF(OR(N11="",O11=""),28000,ROUNDDOWN(28000*(N11/O11),0)) -> 28000
B12: 5 | Q12: =IF(SUM(Z12,AC12,AE12,AG12,AJ12,AK12,AL12)=0,"",SUM(Z12,AC12,AE12,AG12,AJ12,AK12,AL12)) | R12: =IF(Q12="","",ROUNDDOWN(P12/Q12,0)) | T12: =SUM(R12:S12) -> 0 | U12: 28000 | V12: =IF(T12>U12,U12,T12) -> 0 | W12: =V12-K12 -> 0 | Y12: =IF(AND(NOT(F12=""),L12="入園"),((YEAR($Z$3)-YEAR(F12))*12+MONTH($Z$3)-MONTH(F12)+1),"") | Z12: =IF(AND(Y12>12,L12="入園"),12,Y12) | AA12: =IF(AND(NOT(M12=""),L12="退園"),IF(YEAR(M12)>YEAR($Z$1),(YEAR(M12)-YEAR($Z$1))*12+MONTH(M12)-MONTH($Z$1)+IF(DAY($Z$1)<=DAY(M12),1,0),(YEAR($Z$1)-YEAR(M12))*12+MONTH($Z$1)-MONTH(M12)+IF(DAY($Z$1)<=DAY(M12),1,0)),"") | AB12: =IF(AND(NOT(M12=""),L12="退園"),IF(MONTH(M12)>MONTH($Z$1),(YEAR($Z$1)-YEAR(M12))*12+MONTH(M12)-MONTH($Z$1)+IF(DAY($Z$1)<=DAY(M12),1,0),(YEAR($Z$1)-YEAR(M12))*12+MONTH($Z$1)-MONTH(M12)+IF(DAY($Z$1)<=DAY(M12),1,0)),"") | AC12: =IF(AA12<=AB12,AB12,AA12) | AD12: =IF(AND(NOT(H12=""),L12="在園のまま市内へ転入"),(YEAR($Z$3)-YEAR(H12))*12+MONTH($Z$3)-MONTH(H12)+1,"") | AE12: =IF(AND(L12="在園のまま市内へ転入",AD12>12),12,AD12) | AF12: =IF(L12="在園のまま市外へ転出",((YEAR($Z$3)-YEAR(F12))*12+MONTH($Z$3)-MONTH(F12)+1),"") | AG12: =IF(AF12="","",IF((AF12>12),12,AF12)) | AJ12: =AH12+AI12 -> 0 | AM12: =COUNTIF(M12,"<2023/4/1") -> 0 | AN12: =IF(AND(NOT(F12=""),L12="満３歳"),((YEAR($Z$3)-YEAR(F12))*12+MONTH($Z$3)-MONTH(F12)+1),"") | AO12: =IF(AND(L12="満３歳",AN12>12),12,AN12) | AP12: =IF(OR(N12="",O12=""),25700,ROUNDDOWN(25700*(N12/O12),0)) -> 25700 | AQ12: =IF(OR(N12="",O12=""),28000,ROUNDDOWN(28000*(N12/O12),0)) -> 28000
B13: 6 | Q13: =IF(SUM(Z13,AC13,AE13,AG13,AJ13,AK13,AL13)=0,"",SUM(Z13,AC13,AE13,AG13,AJ13,AK13,AL13)) | R13: =IF(Q13="","",ROUNDDOWN(P13/Q13,0)) | T13: =SUM(R13:S13) -> 0 | U13: 28000 | V13: =IF(T13>U13,U13,T13) -> 0 | W13: =V13-K13 -> 0 | Y13: =IF(AND(NOT(F13=""),L13="入園"),((YEAR($Z$3)-YEAR(F13))*12+MONTH($Z$3)-MONTH(F13)+1),"") | Z13: =IF(AND(Y13>12,L13="入園"),12,Y13) | AA13: =IF(AND(NOT(M13=""),L13="退園"),IF(YEAR(M13)>YEAR($Z$1),(YEAR(M13)-YEAR($Z$1))*12+MONTH(M13)-MONTH($Z$1)+IF(DAY($Z$1)<=DAY(M13),1,0),(YEAR($Z$1)-YEAR(M13))*12+MONTH($Z$1)-MONTH(M13)+IF(DAY($Z$1)<=DAY(M13),1,0)),"") | AB13: =IF(AND(NOT(M13=""),L13="退園"),IF(MONTH(M13)>MONTH($Z$1),(YEAR($Z$1)-YEAR(M13))*12+MONTH(M13)-MONTH($Z$1)+IF(DAY($Z$1)<=DAY(M13),1,0),(YEAR($Z$1)-YEAR(M13))*12+MONTH($Z$1)-MONTH(M13)+IF(DAY($Z$1)<=DAY(M13),1,0)),"") | AC13: =IF(AA13<=AB13,AB13,AA13) | AD13: =IF(AND(NOT(H13=""),L13="在園のまま市内へ転入"),(YEAR($Z$3)-YEAR(H13))*12+MONTH($Z$3)-MONTH(H13)+1,"") | AE13: =IF(AND(L13="在園のまま市内へ転入",AD13>12),12,AD13) | AF13: =IF(L13="在園のまま市外へ転出",((YEAR($Z$3)-YEAR(F13))*12+MONTH($Z$3)-MONTH(F13)+1),"") | AG13: =IF(AF13="","",IF((AF13>12),12,AF13)) | AJ13: =AH13+AI13 -> 0 | AM13: =COUNTIF(M13,"<2023/4/1") -> 0 | AN13: =IF(AND(NOT(F13=""),L13="満３歳"),((YEAR($Z$3)-YEAR(F13))*12+MONTH($Z$3)-MONTH(F13)+1),"") | AO13: =IF(AND(L13="満３歳",AN13>12),12,AN13) | AP13: =IF(OR(N13="",O13=""),25700,ROUNDDOWN(25700*(N13/O13),0)) -> 25700 | AQ13: =IF(OR(N13="",O13=""),28000,ROUNDDOWN(28000*(N13/O13),0)) -> 28000
B14: 7 | Q14: =IF(SUM(Z14,AC14,AE14,AG14,AJ14,AK14,AL14)=0,"",SUM(Z14,AC14,AE14,AG14,AJ14,AK14,AL14)) | R14: =IF(Q14="","",ROUNDDOWN(P14/Q14,0)) | T14: =SUM(R14:S14) -> 0 | U14: 28000 | V14: =IF(T14>U14,U14,T14) -> 0 | W14: =V14-K14 -> 0 | Y14: =IF(AND(NOT(F14=""),L14="入園"),((YEAR($Z$3)-YEAR(F14))*12+MONTH($Z$3)-MONTH(F14)+1),"") | Z14: =IF(AND(Y14>12,L14="入園"),12,Y14) | AA14: =IF(AND(NOT(M14=""),L14="退園"),IF(YEAR(M14)>YEAR($Z$1),(YEAR(M14)-YEAR($Z$1))*12+MONTH(M14)-MONTH($Z$1)+IF(DAY($Z$1)<=DAY(M14),1,0),(YEAR($Z$1)-YEAR(M14))*12+MONTH($Z$1)-MONTH(M14)+IF(DAY($Z$1)<=DAY(M14),1,0)),"") | AB14: =IF(AND(NOT(M14=""),L14="退園"),IF(MONTH(M14)>MONTH($Z$1),(YEAR($Z$1)-YEAR(M14))*12+MONTH(M14)-MONTH($Z$1)+IF(DAY($Z$1)<=DAY(M14),1,0),(YEAR($Z$1)-YEAR(M14))*12+MONTH($Z$1)-MONTH(M14)+IF(DAY($Z$1)<=DAY(M14),1,0)),"") | AC14: =IF(AA14<=AB14,AB14,AA14) | AD14: =IF(AND(NOT(H14=""),L14="在園のまま市内へ転入"),(YEAR($Z$3)-YEAR(H14))*12+MONTH($Z$3)-MONTH(H14)+1,"") | AE14: =IF(AND(L14="在園のまま市内へ転入",AD14>12),12,AD14) | AF14: =IF(L14="在園のまま市外へ転出",((YEAR($Z$3)-YEAR(F14))*12+MONTH($Z$3)-MONTH(F14)+1),"") | AG14: =IF(AF14="","",IF((AF14>12),12,AF14)) | AJ14: =AH14+AI14 -> 0 | AM14: =COUNTIF(M14,"<2023/4/1") -> 0 | AN14: =IF(AND(NOT(F14=""),L14="満３歳"),((YEAR($Z$3)-YEAR(F14))*12+MONTH($Z$3)-MONTH(F14)+1),"") | AO14: =IF(AND(L14="満３歳",AN14>12),12,AN14) | AP14: =IF(OR(N14="",O14=""),25700,ROUNDDOWN(25700*(N14/O14),0)) -> 25700 | AQ14: =IF(OR(N14="",O14=""),28000,ROUNDDOWN(28000*(N14/O14),0)) -> 28000
B15: 8 | Q15: =IF(SUM(Z15,AC15,AE15,AG15,AJ15,AK15,AL15)=0,"",SUM(Z15,AC15,AE15,AG15,AJ15,AK15,AL15)) | R15: =IF(Q15="","",ROUNDDOWN(P15/Q15,0)) | T15: =SUM(R15:S15) -> 0 | U15: 28000 | V15: =IF(T15>U15,U15,T15) -> 0 | W15: =V15-K15 -> 0 | Y15: =IF(AND(NOT(F15=""),L15="入園"),((YEAR($Z$3)-YEAR(F15))*12+MONTH($Z$3)-MONTH(F15)+1),"") | Z15: =IF(AND(Y15>12,L15="入園"),12,Y15) | AA15: =IF(AND(NOT(M15=""),L15="退園"),IF(YEAR(M15)>YEAR($Z$1),(YEAR(M15)-YEAR($Z$1))*12+MONTH(M15)-MONTH($Z$1)+IF(DAY($Z$1)<=DAY(M15),1,0),(YEAR($Z$1)-YEAR(M15))*12+MONTH($Z$1)-MONTH(M15)+IF(DAY($Z$1)<=DAY(M15),1,0)),"") | AB15: =IF(AND(NOT(M15=""),L15="退園"),IF(MONTH(M15)>MONTH($Z$1),(YEAR($Z$1)-YEAR(M15))*12+MONTH(M15)-MONTH($Z$1)+IF(DAY($Z$1)<=DAY(M15),1,0),(YEAR($Z$1)-YEAR(M15))*12+MONTH($Z$1)-MONTH(M15)+IF(DAY($Z$1)<=DAY(M15),1,0)),"") | AC15: =IF(AA15<=AB15,AB15,AA15) | AD15: =IF(AND(NOT(H15=""),L15="在園のまま市内へ転入"),(YEAR($Z$3)-YEAR(H15))*12+MONTH($Z$3)-MONTH(H15)+1,"") | AE15: =IF(AND(L15="在園のまま市内へ転入",AD15>12),12,AD15) | AF15: =IF(L15="在園のまま市外へ転出",((YEAR($Z$3)-YEAR(F15))*12+MONTH($Z$3)-MONTH(F15)+1),"") | AG15: =IF(AF15="","",IF((AF15>12),12,AF15)) | AJ15: =AH15+AI15 -> 0 | AM15: =COUNTIF(M15,"<2023/4/1") -> 0 | AN15: =IF(AND(NOT(F15=""),L15="満３歳"),((YEAR($Z$3)-YEAR(F15))*12+MONTH($Z$3)-MONTH(F15)+1),"") | AO15: =IF(AND(L15="満３歳",AN15>12),12,AN15) | AP15: =IF(OR(N15="",O15=""),25700,ROUNDDOWN(25700*(N15/O15),0)) -> 25700 | AQ15: =IF(OR(N15="",O15=""),28000,ROUNDDOWN(28000*(N15/O15),0)) -> 28000
B16: 9 | Q16: =IF(SUM(Z16,AC16,AE16,AG16,AJ16,AK16,AL16)=0,"",SUM(Z16,AC16,AE16,AG16,AJ16,AK16,AL16)) | R16: =IF(Q16="","",ROUNDDOWN(P16/Q16,0)) | T16: =SUM(R16:S16) -> 0 | U16: 28000 | V16: =IF(T16>U16,U16,T16) -> 0 | W16: =V16-K16 -> 0 | Y16: =IF(AND(NOT(F16=""),L16="入園"),((YEAR($Z$3)-YEAR(F16))*12+MONTH($Z$3)-MONTH(F16)+1),"") | Z16: =IF(AND(Y16>12,L16="入園"),12,Y16) | AA16: =IF(AND(NOT(M16=""),L16="退園"),IF(YEAR(M16)>YEAR($Z$1),(YEAR(M16)-YEAR($Z$1))*12+MONTH(M16)-MONTH($Z$1)+IF(DAY($Z$1)<=DAY(M16),1,0),(YEAR($Z$1)-YEAR(M16))*12+MONTH($Z$1)-MONTH(M16)+IF(DAY($Z$1)<=DAY(M16),1,0)),"") | AB16: =IF(AND(NOT(M16=""),L16="退園"),IF(MONTH(M16)>MONTH($Z$1),(YEAR($Z$1)-YEAR(M16))*12+MONTH(M16)-MONTH($Z$1)+IF(DAY($Z$1)<=DAY(M16),1,0),(YEAR($Z$1)-YEAR(M16))*12+MONTH($Z$1)-MONTH(M16)+IF(DAY($Z$1)<=DAY(M16),1,0)),"") | AC16: =IF(AA16<=AB16,AB16,AA16) | AD16: =IF(AND(NOT(H16=""),L16="在園のまま市内へ転入"),(YEAR($Z$3)-YEAR(H16))*12+MONTH($Z$3)-MONTH(H16)+1,"") | AE16: =IF(AND(L16="在園のまま市内へ転入",AD16>12),12,AD16) | AF16: =IF(L16="在園のまま市外へ転出",((YEAR($Z$3)-YEAR(F16))*12+MONTH($Z$3)-MONTH(F16)+1),"") | AG16: =IF(AF16="","",IF((AF16>12),12,AF16)) | AJ16: =AH16+AI16 -> 0 | AM16: =COUNTIF(M16,"<2023/4/1") -> 0 | AN16: =IF(AND(NOT(F16=""),L16="満３歳"),((YEAR($Z$3)-YEAR(F16))*12+MONTH($Z$3)-MONTH(F16)+1),"") | AO16: =IF(AND(L16="満３歳",AN16>12),12,AN16) | AP16: =IF(OR(N16="",O16=""),25700,ROUNDDOWN(25700*(N16/O16),0)) -> 25700 | AQ16: =IF(OR(N16="",O16=""),28000,ROUNDDOWN(28000*(N16/O16),0)) -> 28000
B17: 10 | Q17: =IF(SUM(Z17,AC17,AE17,AG17,AJ17,AK17,AL17)=0,"",SUM(Z17,AC17,AE17,AG17,AJ17,AK17,AL17)) | R17: =IF(Q17="","",ROUNDDOWN(P17/Q17,0)) | T17: =SUM(R17:S17) -> 0 | U17: 28000 | V17: =IF(T17>U17,U17,T17) -> 0 | W17: =V17-K17 -> 0 | Y17: =IF(AND(NOT(F17=""),L17="入園"),((YEAR($Z$3)-YEAR(F17))*12+MONTH($Z$3)-MONTH(F17)+1),"") | Z17: =IF(AND(Y17>12,L17="入園"),12,Y17) | AA17: =IF(AND(NOT(M17=""),L17="退園"),IF(YEAR(M17)>YEAR($Z$1),(YEAR(M17)-YEAR($Z$1))*12+MONTH(M17)-MONTH($Z$1)+IF(DAY($Z$1)<=DAY(M17),1,0),(YEAR($Z$1)-YEAR(M17))*12+MONTH($Z$1)-MONTH(M17)+IF(DAY($Z$1)<=DAY(M17),1,0)),"") | AB17: =IF(AND(NOT(M17=""),L17="退園"),IF(MONTH(M17)>MONTH($Z$1),(YEAR($Z$1)-YEAR(M17))*12+MONTH(M17)-MONTH($Z$1)+IF(DAY($Z$1)<=DAY(M17),1,0),(YEAR($Z$1)-YEAR(M17))*12+MONTH($Z$1)-MONTH(M17)+IF(DAY($Z$1)<=DAY(M17),1,0)),"") | AC17: =IF(AA17<=AB17,AB17,AA17) | AD17: =IF(AND(NOT(H17=""),L17="在園のまま市内へ転入"),(YEAR($Z$3)-YEAR(H17))*12+MONTH($Z$3)-MONTH(H17)+1,"") | AE17: =IF(AND(L17="在園のまま市内へ転入",AD17>12),12,AD17) | AF17: =IF(L17="在園のまま市外へ転出",((YEAR($Z$3)-YEAR(F17))*12+MONTH($Z$3)-MONTH(F17)+1),"") | AG17: =IF(AF17="","",IF((AF17>12),12,AF17)) | AJ17: =AH17+AI17 -> 0 | AM17: =COUNTIF(M17,"<2023/4/1") -> 0 | AN17: =IF(AND(NOT(F17=""),L17="満３歳"),((YEAR($Z$3)-YEAR(F17))*12+MONTH($Z$3)-MONTH(F17)+1),"") | AO17: =IF(AND(L17="満３歳",AN17>12),12,AN17) | AP17: =IF(OR(N17="",O17=""),25700,ROUNDDOWN(25700*(N17/O17),0)) -> 25700 | AQ17: =IF(OR(N17="",O17=""),28000,ROUNDDOWN(28000*(N17/O17),0)) -> 28000
B18: 11 | Q18: =IF(SUM(Z18,AC18,AE18,AG18,AJ18,AK18,AL18)=0,"",SUM(Z18,AC18,AE18,AG18,AJ18,AK18,AL18)) | R18: =IF(Q18="","",ROUNDDOWN(P18/Q18,0)) | T18: =SUM(R18:S18) -> 0 | U18: 28000 | V18: =IF(T18>U18,U18,T18) -> 0 | W18: =V18-K18 -> 0 | Y18: =IF(AND(NOT(F18=""),L18="入園"),((YEAR($Z$3)-YEAR(F18))*12+MONTH($Z$3)-MONTH(F18)+1),"") | Z18: =IF(AND(Y18>12,L18="入園"),12,Y18) | AA18: =IF(AND(NOT(M18=""),L18="退園"),IF(YEAR(M18)>YEAR($Z$1),(YEAR(M18)-YEAR($Z$1))*12+MONTH(M18)-MONTH($Z$1)+IF(DAY($Z$1)<=DAY(M18),1,0),(YEAR($Z$1)-YEAR(M18))*12+MONTH($Z$1)-MONTH(M18)+IF(DAY($Z$1)<=DAY(M18),1,0)),"") | AB18: =IF(AND(NOT(M18=""),L18="退園"),IF(MONTH(M18)>MONTH($Z$1),(YEAR($Z$1)-YEAR(M18))*12+MONTH(M18)-MONTH($Z$1)+IF(DAY($Z$1)<=DAY(M18),1,0),(YEAR($Z$1)-YEAR(M18))*12+MONTH($Z$1)-MONTH(M18)+IF(DAY($Z$1)<=DAY(M18),1,0)),"") | AC18: =IF(AA18<=AB18,AB18,AA18) | AD18: =IF(AND(NOT(H18=""),L18="在園のまま市内へ転入"),(YEAR($Z$3)-YEAR(H18))*12+MONTH($Z$3)-MONTH(H18)+1,"") | AE18: =IF(AND(L18="在園のまま市内へ転入",AD18>12),12,AD18) | AF18: =IF(L18="在園のまま市外へ転出",((YEAR($Z$3)-YEAR(F18))*12+MONTH($Z$3)-MONTH(F18)+1),"") | AG18: =IF(AF18="","",IF((AF18>12),12,AF18)) | AJ18: =AH18+AI18 -> 0 | AM18: =COUNTIF(M18,"<2023/4/1") -> 0 | AN18: =IF(AND(NOT(F18=""),L18="満３歳"),((YEAR($Z$3)-YEAR(F18))*12+MONTH($Z$3)-MONTH(F18)+1),"") | AO18: =IF(AND(L18="満３歳",AN18>12),12,AN18) | AP18: =IF(OR(N18="",O18=""),25700,ROUNDDOWN(25700*(N18/O18),0)) -> 25700 | AQ18: =IF(OR(N18="",O18=""),28000,ROUNDDOWN(28000*(N18/O18),0)) -> 28000
B19: 12 | Q19: =IF(SUM(Z19,AC19,AE19,AG19,AJ19,AK19,AL19)=0,"",SUM(Z19,AC19,AE19,AG19,AJ19,AK19,AL19)) | R19: =IF(Q19="","",ROUNDDOWN(P19/Q19,0)) | T19: =SUM(R19:S19) -> 0 | U19: 28000 | V19: =IF(T19>U19,U19,T19) -> 0 | W19: =V19-K19 -> 0 | Y19: =IF(AND(NOT(F19=""),L19="入園"),((YEAR($Z$3)-YEAR(F19))*12+MONTH($Z$3)-MONTH(F19)+1),"") | Z19: =IF(AND(Y19>12,L19="入園"),12,Y19) | AA19: =IF(AND(NOT(M19=""),L19="退園"),IF(YEAR(M19)>YEAR($Z$1),(YEAR(M19)-YEAR($Z$1))*12+MONTH(M19)-MONTH($Z$1)+IF(DAY($Z$1)<=DAY(M19),1,0),(YEAR($Z$1)-YEAR(M19))*12+MONTH($Z$1)-MONTH(M19)+IF(DAY($Z$1)<=DAY(M19),1,0)),"") | AB19: =IF(AND(NOT(M19=""),L19="退園"),IF(MONTH(M19)>MONTH($Z$1),(YEAR($Z$1)-YEAR(M19))*12+MONTH(M19)-MONTH($Z$1)+IF(DAY($Z$1)<=DAY(M19),1,0),(YEAR($Z$1)-YEAR(M19))*12+MONTH($Z$1)-MONTH(M19)+IF(DAY($Z$1)<=DAY(M19),1,0)),"") | AC19: =IF(AA19<=AB19,AB19,AA19) | AD19: =IF(AND(NOT(H19=""),L19="在園のまま市内へ転入"),(YEAR($Z$3)-YEAR(H19))*12+MONTH($Z$3)-MONTH(H19)+1,"") | AE19: =IF(AND(L19="在園のまま市内へ転入",AD19>12),12,AD19) | AF19: =IF(L19="在園のまま市外へ転出",((YEAR($Z$3)-YEAR(F19))*12+MONTH($Z$3)-MONTH(F19)+1),"") | AG19: =IF(AF19="","",IF((AF19>12),12,AF19)) | AJ19: =AH19+AI19 -> 0 | AM19: =COUNTIF(M19,"<2023/4/1") -> 0 | AN19: =IF(AND(NOT(F19=""),L19="満３歳"),((YEAR($Z$3)-YEAR(F19))*12+MONTH($Z$3)-MONTH(F19)+1),"") | AO19: =IF(AND(L19="満３歳",AN19>12),12,AN19) | AP19: =IF(OR(N19="",O19=""),25700,ROUNDDOWN(25700*(N19/O19),0)) -> 25700 | AQ19: =IF(OR(N19="",O19=""),28000,ROUNDDOWN(28000*(N19/O19),0)) -> 28000
B20: 13 | Q20: =IF(SUM(Z20,AC20,AE20,AG20,AJ20,AK20,AL20)=0,"",SUM(Z20,AC20,AE20,AG20,AJ20,AK20,AL20)) | R20: =IF(Q20="","",ROUNDDOWN(P20/Q20,0)) | T20: =SUM(R20:S20) -> 0 | U20: 28000 | V20: =IF(T20>U20,U20,T20) -> 0 | W20: =V20-K20 -> 0 | Y20: =IF(AND(NOT(F20=""),L20="入園"),((YEAR($Z$3)-YEAR(F20))*12+MONTH($Z$3)-MONTH(F20)+1),"") | Z20: =IF(AND(Y20>12,L20="入園"),12,Y20) | AA20: =IF(AND(NOT(M20=""),L20="退園"),IF(YEAR(M20)>YEAR($Z$1),(YEAR(M20)-YEAR($Z$1))*12+MONTH(M20)-MONTH($Z$1)+IF(DAY($Z$1)<=DAY(M20),1,0),(YEAR($Z$1)-YEAR(M20))*12+MONTH($Z$1)-MONTH(M20)+IF(DAY($Z$1)<=DAY(M20),1,0)),"") | AB20: =IF(AND(NOT(M20=""),L20="退園"),IF(MONTH(M20)>MONTH($Z$1),(YEAR($Z$1)-YEAR(M20))*12+MONTH(M20)-MONTH($Z$1)+IF(DAY($Z$1)<=DAY(M20),1,0),(YEAR($Z$1)-YEAR(M20))*12+MONTH($Z$1)-MONTH(M20)+IF(DAY($Z$1)<=DAY(M20),1,0)),"") | AC20: =IF(AA20<=AB20,AB20,AA20) | AD20: =IF(AND(NOT(H20=""),L20="在園のまま市内へ転入"),(YEAR($Z$3)-YEAR(H20))*12+MONTH($Z$3)-MONTH(H20)+1,"") | AE20: =IF(AND(L20="在園のまま市内へ転入",AD20>12),12,AD20) | AF20: =IF(L20="在園のまま市外へ転出",((YEAR($Z$3)-YEAR(F20))*12+MONTH($Z$3)-MONTH(F20)+1),"") | AG20: =IF(AF20="","",IF((AF20>12),12,AF20)) | AJ20: =AH20+AI20 -> 0 | AM20: =COUNTIF(M20,"<2023/4/1") -> 0 | AN20: =IF(AND(NOT(F20=""),L20="満３歳"),((YEAR($Z$3)-YEAR(F20))*12+MONTH($Z$3)-MONTH(F20)+1),"") | AO20: =IF(AND(L20="満３歳",AN20>12),12,AN20) | AP20: =IF(OR(N20="",O20=""),25700,ROUNDDOWN(25700*(N20/O20),0)) -> 25700 | AQ20: =IF(OR(N20="",O20=""),28000,ROUNDDOWN(28000*(N20/O20),0)) -> 28000
... B406: 399 | Q406: =IF(SUM(Z406,AC406,AE406,AG406,AJ406,AK406,AL406)=0,"",SUM(Z406,AC406,AE406,AG406,AJ406,AK406,AL406)) | R406: =IF(Q406="","",ROUNDDOWN(P406/Q406,0)) | T406: =SUM(R406:S406) -> 0 | U406: 28000 | V406: =IF(T406>U406,U406,T406) -> 0 | W406: =V406-K406 -> 0 | Y406: =IF(AND(NOT(F406=""),L406="入園"),((YEAR($Z$3)-YEAR(F406))*12+MONTH($Z$3)-MONTH(F406)+1),"") | Z406: =IF(AND(Y406>12,L406="入園"),12,Y406) | AA406: =IF(AND(NOT(M406=""),L406="退園"),IF(YEAR(M406)>YEAR($Z$1),(YEAR(M406)-YEAR($Z$1))*12+MONTH(M406)-MONTH($Z$1)+IF(DAY($Z$1)<=DAY(M406),1,0),(YEAR($Z$1)-YEAR(M406))*12+MONTH($Z$1)-MONTH(M406)+IF(DAY($Z$1)<=DAY(M406),1,0)),"") | AB406: =IF(AND(NOT(M406=""),L406="退園"),IF(MONTH(M406)>MONTH($Z$1),(YEAR($Z$1)-YEAR(M406))*12+MONTH(M406)-MONTH($Z$1)+IF(DAY($Z$1)<=DAY(M406),1,0),(YEAR($Z$1)-YEAR(M406))*12+MONTH($Z$1)-MONTH(M406)+IF(DAY($Z$1)<=DAY(M406),1,0)),"") | AC406: =IF(AA406<=AB406,AB406,AA406) | AD406: =IF(AND(NOT(H406=""),L406="在園のまま市内へ転入"),(YEAR($Z$3)-YEAR(H406))*12+MONTH($Z$3)-MONTH(H406)+1,"") | AE406: =IF(AND(L406="在園のまま市内へ転入",AD406>12),12,AD406) | AF406: =IF(L406="在園のまま市外へ転出",((YEAR($Z$3)-YEAR(F406))*12+MONTH($Z$3)-MONTH(F406)+1),"") | AG406: =IF(AF406="","",IF((AF406>12),12,AF406)) | AJ406: =AH406+AI406 -> 0 | AM406: =COUNTIF(M406,"<2023/4/1") -> 0 | AN406: =IF(AND(NOT(F406=""),L406="満３歳"),((YEAR($Z$3)-YEAR(F406))*12+MONTH($Z$3)-MONTH(F406)+1),"") | AO406: =IF(AND(L406="満３歳",AN406>12),12,AN406) | AP406: =IF(OR(N406="",O406=""),25700,ROUNDDOWN(25700*(N406/O406),0)) -> 25700 | AQ406: =IF(OR(N406="",O406=""),28000,ROUNDDOWN(28000*(N406/O406),0)) -> 28000
B407: 400 | Q407: =IF(SUM(Z407,AC407,AE407,AG407,AJ407,AK407,AL407)=0,"",SUM(Z407,AC407,AE407,AG407,AJ407,AK407,AL407)) | R407: =IF(Q407="","",ROUNDDOWN(P407/Q407,0)) | T407: =SUM(R407:S407) -> 0 | U407: 28000 | V407: =IF(T407>U407,U407,T407) -> 0 | W407: =V407-K407 -> 0 | Y407: =IF(AND(NOT(F407=""),L407="入園"),((YEAR($Z$3)-YEAR(F407))*12+MONTH($Z$3)-MONTH(F407)+1),"") | Z407: =IF(AND(Y407>12,L407="入園"),12,Y407) | AA407: =IF(AND(NOT(M407=""),L407="退園"),IF(YEAR(M407)>YEAR($Z$1),(YEAR(M407)-YEAR($Z$1))*12+MONTH(M407)-MONTH($Z$1)+IF(DAY($Z$1)<=DAY(M407),1,0),(YEAR($Z$1)-YEAR(M407))*12+MONTH($Z$1)-MONTH(M407)+IF(DAY($Z$1)<=DAY(M407),1,0)),"") | AB407: =IF(AND(NOT(M407=""),L407="退園"),IF(MONTH(M407)>MONTH($Z$1),(YEAR($Z$1)-YEAR(M407))*12+MONTH(M407)-MONTH($Z$1)+IF(DAY($Z$1)<=DAY(M407),1,0),(YEAR($Z$1)-YEAR(M407))*12+MONTH($Z$1)-MONTH(M407)+IF(DAY($Z$1)<=DAY(M407),1,0)),"") | AC407: =IF(AA407<=AB407,AB407,AA407) | AD407: =IF(AND(NOT(H407=""),L407="在園のまま市内へ転入"),(YEAR($Z$3)-YEAR(H407))*12+MONTH($Z$3)-MONTH(H407)+1,"") | AE407: =IF(AND(L407="在園のまま市内へ転入",AD407>12),12,AD407) | AF407: =IF(L407="在園のまま市外へ転出",((YEAR($Z$3)-YEAR(F407))*12+MONTH($Z$3)-MONTH(F407)+1),"") | AG407: =IF(AF407="","",IF((AF407>12),12,AF407)) | AJ407: =AH407+AI407 -> 0 | AM407: =COUNTIF(M407,"<2023/4/1") -> 0 | AN407: =IF(AND(NOT(F407=""),L407="満３歳"),((YEAR($Z$3)-YEAR(F407))*12+MONTH($Z$3)-MONTH(F407)+1),"") | AO407: =IF(AND(L407="満３歳",AN407>12),12,AN407) | AP407: =IF(OR(N407="",O407=""),25700,ROUNDDOWN(25700*(N407/O407),0)) -> 25700 | AQ407: =AU393=IF(OR(N407="",O407=""),28000,ROUNDDOWN(28000*(N407/O407),0)) -> FALSE
